BEGIN:VCALENDAR
VERSION:2.0
PRODID:-//Europeiska Sakyacenter grundade av Khenchen Sherab - ECPv6.13.2.1//NONSGML v1.0//EN
CALSCALE:GREGORIAN
METHOD:PUBLISH
X-WR-CALNAME:Europeiska Sakyacenter grundade av Khenchen Sherab
X-ORIGINAL-URL:https://sakyapa.eu/sv/
X-WR-CALDESC:Händelser för Europeiska Sakyacenter grundade av Khenchen Sherab
REFRESH-INTERVAL;VALUE=DURATION:PT1H
X-Robots-Tag:noindex
X-PUBLISHED-TTL:PT1H
BEGIN:VTIMEZONE
TZID:Europe/Zurich
BEGIN:DAYLIGHT
TZOFFSETFROM:+0100
TZOFFSETTO:+0200
TZNAME:CEST
DTSTART:20250330T010000
END:DAYLIGHT
BEGIN:STANDARD
TZOFFSETFROM:+0200
TZOFFSETTO:+0100
TZNAME:CET
DTSTART:20251026T010000
END:STANDARD
END:VTIMEZONE
BEGIN:VEVENT
DTSTART;TZID=Europe/Zurich:20250101T100000
DTEND;TZID=Europe/Zurich:20250101T110000
DTSTAMP:20260423T043908
CREATED:20241121T065135Z
LAST-MODIFIED:20241122T131903Z
UID:10002126-1735725600-1735729200@sakyapa.eu
SUMMARY:TARA-RITUAL
DESCRIPTION:Khenpo Tashi SangpoDatum: 1/1Tid: 10.00-11.00Plats: zoom \n\n\n\n\nTara\, befrierskan är en viktig kvinnlig Buddha i Tibet. Hon är fylld av stor medkänsla och vishet och är alltid redo att snabbt hjälpa\, stilla alla hinder\, sjukdomar\, svårigheter och lidanden. Tararitualen utförs för universell fred i allmänhet och för det snabba upphörandet av den nuvarande pandemin i synnerhet.För att kunna delta måste du har initiation (eller välsignelse) i Gröna Tara. \n\n\n\n\nZOOM\n\n\n\n\nDetta evenemang organiseras av Khenchen Sherabs Sakya Dharma Family. Vi vill att alla ska kunna delta\, men våra Dharma-aktiviteter är endast möjliga tack vare era donationer – stöd därför gärna ditt lokala center. Klicka HÄR för listan över alla våra Sakya Dharma Family Centers.
URL:https://sakyapa.eu/sv/event/tara-ritual-sv-0125/
LOCATION:Sakya Tsechen Ling\, 5 Rdpt du Vignoble\, Kuttolsheim\, 67520\, Frankrike
CATEGORIES:Alla kurser är på svenska eller med svensk översättning,Khenpo Tashi Sangpo-SV,Sakya Tsechen Ling-SV,ZOOM-SV
ATTACH;FMTTYPE=image/webp:https://sakyapa.eu/wp-content/uploads/2023/10/2.webp
END:VEVENT
END:VCALENDAR