BEGIN:VCALENDAR
VERSION:2.0
PRODID:-//Europese Sakya centra opgericht door Khenchen Sherab - ECPv6.13.2.1//NONSGML v1.0//EN
CALSCALE:GREGORIAN
METHOD:PUBLISH
X-ORIGINAL-URL:https://sakyapa.eu/nl/
X-WR-CALDESC:Evenementen voor Europese Sakya centra opgericht door Khenchen Sherab
REFRESH-INTERVAL;VALUE=DURATION:PT1H
X-Robots-Tag:noindex
X-PUBLISHED-TTL:PT1H
BEGIN:VTIMEZONE
TZID:Europe/Zurich
BEGIN:DAYLIGHT
TZOFFSETFROM:+0100
TZOFFSETTO:+0200
TZNAME:CEST
DTSTART:20250330T010000
END:DAYLIGHT
BEGIN:STANDARD
TZOFFSETFROM:+0200
TZOFFSETTO:+0100
TZNAME:CET
DTSTART:20251026T010000
END:STANDARD
END:VTIMEZONE
BEGIN:VEVENT
DTSTART;TZID=Europe/Zurich:20251114T203000
DTEND;TZID=Europe/Zurich:20251114T220000
DTSTAMP:20260423T141441
CREATED:20251011T133510Z
LAST-MODIFIED:20251011T133526Z
UID:10003869-1763152200-1763157600@sakyapa.eu
SUMMARY:VAJRAYOGINI TSOG OFFERGAVE
DESCRIPTION:Tijd: 20:30 – 22.00 Geleid door: Khenpo Tashi Sangpo \n\n\n\n\nHet Tsog-ritueel is een snelle methode voor het verzamelen van verdienste en wijsheid door het brengen van offergaven aan speciale deities  en wordt in een groep uitgevoerd. Vajrayana beoefenaars voeren de Tsog offergave  twee keer per maand uit\, op de 10e en 25ste dag van de Tibetaanse maankalender. Het Vajrayogini Tsog offergaveritueel is vooral belangrijk in de Sakya-traditie. \n\n\n\nALLEEN  TOEGANKELIJK VOOR DEGENEN DIE DE INITIATIE VAN VAJRAYOGINI VAN EEN GEKWALIFICEERDE SAKYA-MEESTER HEBBEN ONTVANGEN. \n\n\n\nVOOR HET RITUEEL WORDT DE TSOG-TEKST GEBRUIKT DIE IS OPGESTELD DOOR HARE EMINENTIE JETSUN KUSHOK. \n\n\n\nSluit op tijd aan\, laatkomers krijgen geen toegang.Schrijf je ten minste één dag van te voren in voor deze bijeenkomst op Zoom Voor Zoom ontvang je automatisch een bevestigingsmail van Zoom met de Zoom-link om deel te nemen\, zodra wij jouw gegevens hebben gecontroleerd. Klik 15 minuten voor de bijeenkomst op ‘Deelnemen aan vergadering’. \n\n\n\n\nZOOM\n\n\n\n\nDit evenement wordt je door Khenchen Sherab’s Sakya Dharma Familie aangeboden. We willen het voor iedereen mogelijk maken om deel te nemen. Maar onze dharma activiteiten zijn alleen mogelijk dankzij jouw vriendelijke donaties. Klik HIER voor de lijst van al onze Sakya Dharma Family centra. Bijdragen is op vrijwillige basis\, zeker indien je al door een vast bedrag Sakya Thegchen Ling\, Den Haag steunt.
URL:https://sakyapa.eu/nl/event/vajrayogini-tsog-offergave-nl-25-11/
LOCATION:Sakya Tsechen Ling\, 5 Rdpt du Vignoble\, Kuttolsheim\, 67520\, France
CATEGORIES:Alle cursussen in het Nederlands,Khenpo Tashi Sangpo-NL,Sakya Tsechen Ling-NL,ZOOM-NL
ATTACH;FMTTYPE=image/png:https://sakyapa.eu/wp-content/uploads/2023/10/VY.png
END:VEVENT
BEGIN:VEVENT
DTSTART;TZID=Europe/Zurich:20251129T090000
DTEND;TZID=Europe/Zurich:20251129T103000
DTSTAMP:20260423T141441
CREATED:20251011T151145Z
LAST-MODIFIED:20251011T151217Z
UID:10003891-1764406800-1764412200@sakyapa.eu
SUMMARY:GEBEDEN VOOR DE HERDENKING VAN KHENPO DAKPA WOESER
DESCRIPTION:Geleid door: LAMA SHERAB SANGPO \n\n\n\nDatum: 29.11.25 \n\n\n\nTijd: 9.00 – 10.30 uur \n\n\n\nPlaats: Sakya Tsechen Ling\, Kuttolsheim\, Frankrijk & Zoom \n\n\n\n\nAcht jaar geleden\, op 29 november 2017\, overleed onze dierbare Khenpo Dakpa Wöeser\, die 26 jaar lang de residentiële lama was bij SAKYA TSECHEN LING\, Kuttolsheim\, Frankrijk. \n\n\n\nIedereen is uitgenodigd om deel te nemen aan deze herdenking in de tempel en/of om zelf te mediteren en te beoefenen. \n\n\n\nWe bidden de volgende gebeden ter nagedachtenis aan Khenpo Dakpa Wöeser: \n\n\n\nHet ritueel van de Medicijnboeddha \n\n\n\nHet wensgebed van Samantabhadra (pagina 123) \n\n\n\nDe tekst kun je HIER downloaden. \n\n\n\nRegistreer je minstens één dag van tevoren voor deze bijeenkomst op Zoom. \n\n\n\nJe ontvangt een bevestigingsmail van “Sakya Dharma Family Admin” met de Zoom-link om deel te nemen (klik op “Click Here To Join”) op de dag van het evenement.ZOOM
URL:https://sakyapa.eu/nl/event/gebeden-voor-de-herdenking-van-khenpo-dakpa-woeser-nl-25-11/
CATEGORIES:Alle cursussen in het Nederlands,Lama Sherab Sangpo-NL,Sakya Tsechen Ling-NL,ZOOM-NL
END:VEVENT
END:VCALENDAR