BEGIN:VCALENDAR
VERSION:2.0
PRODID:-//European Sakya Centers founded by Khenchen Sherab - ECPv6.13.2.1//NONSGML v1.0//EN
CALSCALE:GREGORIAN
METHOD:PUBLISH
X-ORIGINAL-URL:https://sakyapa.eu
X-WR-CALDESC:Events for European Sakya Centers founded by Khenchen Sherab
REFRESH-INTERVAL;VALUE=DURATION:PT1H
X-Robots-Tag:noindex
X-PUBLISHED-TTL:PT1H
BEGIN:VTIMEZONE
TZID:Europe/Zurich
BEGIN:DAYLIGHT
TZOFFSETFROM:+0100
TZOFFSETTO:+0200
TZNAME:CEST
DTSTART:20250330T010000
END:DAYLIGHT
BEGIN:STANDARD
TZOFFSETFROM:+0200
TZOFFSETTO:+0100
TZNAME:CET
DTSTART:20251026T010000
END:STANDARD
END:VTIMEZONE
BEGIN:VEVENT
DTSTART;TZID=Europe/Zurich:20250802T160000
DTEND;TZID=Europe/Zurich:20250809T110000
DTSTAMP:20260424T154757
CREATED:20250425T084135Z
LAST-MODIFIED:20250425T085045Z
UID:10003147-1754150400-1754737200@sakyapa.eu
SUMMARY:SUMMER RETREAT ON SHRI VAJRAPANI BHUTADAMARA
DESCRIPTION:SUMMER RETREAT ON SHRI VAJRAPANI BHUTADAMARA \n\n\n\nTeachings by: KHENPO TASHI SANGPO \n\n\n\nDate: SAT 2.8. – SAT 9.8.2025 \n\n\n\nTime: Saturday 2.8. at 16.00 – Saturday 9.8. after breakfast \n\n\n\nPlace: Sakya Tsechen Ling\, Kuttolsheim/France & online through ZOOM \n\n\n\nLanguage: EN \n\n\n\nAvailable translations: FR\, IT\, DE\, NL \n\n\n\n\nThe Sakya Tsechen Ling Institute is pleased to organise this Shri Vajrapani Bhutadamara summer retreat. \n\n\n\nDuring this retreat we focus on the practice of Shri Vajrapani Bhutadamara. This year is a black year according to the Tibetan calendar\, and Shri Vajrapani Bhutadamara is of great power in removing all obstacles\, both individual and universal. \n\n\n\nIn the beginning of the daily fourth session there will be teachings on the sadhana.  \n\n\n\nPARTICIPATION PREREQUISITES FOR TEACHINGS & MEDITATION SESSIONS: \n\n\n\n\nAlready having received the initiation of Shri Vajrapani Bhutadamara from a qualified Sakya master.\n\n\n\nOR participation in the initiation of Shri Vajrapani Bhutadamara conferred by Khenpo Tashi Sangpo at the beginning of the retreat on 2.8. at 16.00 o’clock to the participants in the temple (without streaming)\n\n\n\n\nTRANSLATIONS: \n\n\n\nThe teachings will be given in English and translated into French.  \n\n\n\nTranslations in another language – Italian\, German\, and Dutch – will be arranged if we receive a min. number of requests per language by 15th July 2025. \n\n\n\nPROGRAM OF THE RETREAT: \n\n\n\nSaturday 2 August 2025 \n\n\n\n16.00 – 18.00 Initiation of Shri Vajrapani Bhutadamara (no streaming\, only for participants in the temple) \n\n\n\n18.30 – 20.00 First meditation session on Shri Vajrapani Bhutadamara \n\n\n\nSunday 3.8. – Friday 8.8.2025 \n\n\n\n07.00 – 08.00 Meditation on Shri Vajrapani Bhutadamara \n\n\n\n10.00 – 11.30 Meditation on Shri Vajrapani Bhutadamara \n\n\n\n14.00 – 15.30 Meditation on Shri Vajrapani Bhutadamara \n\n\n\n17.00 – 18.00 Teaching on the sadhana of Shri Vajrapani Bhutadamara  \n\n\n\n18.00 – 19.00 Meditation on Shri Vajrapani Bhutadamara & Mahakala ritual. \n\n\n\nSaturday 9 August 2025 \n\n\n\n07.00 – 08.00 Meditation on Shri Vajrapani Bhutadamara & Long-life prayers for Their Holinesses  \n\n\n\nEnd of the retreat. \n\n\n\n10.00 – 11.00 Tara Ritual (optional) \n\n\n\nCONTRIBUTION:  \n\n\n\nMin. € 70.- for online or on-site retreat (not including food and accommodation).  \n\n\n\nFor on-site retreat\, and after pre-registering specifying your wishes for accommodation and meals\, you will receive a specific email indicating your contribution to the costs. \n\n\n\nYou can make your payment in one of the ways described at https://sakyatsechenling.eu/en/online-payment/ . \n\n\n\nWe thank you much in advance. \n\n\n\nREGISTRATION & PARTICIPATION LINK: \n\n\n\nIn order to participate\, we invite you to register by clicking HERE FOR ON-SITE RETREAT or HERE FOR ONLINE RETREAT until 15th July at the latest.  \n\n\n\nThose who wish to participate on-site are invited to register early as the number of places is limited. \n\n\n\nTogether with the receipt/confirmation of your registration you will receive further information and for online retreat the participation link.
URL:https://sakyapa.eu/event/summer-retreat-on-shri-vajrapani-bhutadamara/
CATEGORIES:All courses in English only,Khenpo Tashi Sangpo-EN,Sakya Tsechen Ling-EN,Tous les cours en Français,ZOOM-EN
END:VEVENT
BEGIN:VEVENT
DTSTART;TZID=Europe/Zurich:20250809T100000
DTEND;TZID=Europe/Zurich:20250809T110000
DTSTAMP:20260424T154757
CREATED:20250615T081809Z
LAST-MODIFIED:20250615T081831Z
UID:10003601-1754733600-1754737200@sakyapa.eu
SUMMARY:TARA RITUAL
DESCRIPTION:Time: 10.00 – 11.00 \n\n\n\nGuide: Khenpo Tashi Sangpo \n\n\n\nPlace: Sakya Tsechen Ling & ZOOM \n\n\n\nFree donation \n\n\n\n\nTara\, the Liberator\, is a very important female Deity in Tibet. Her nature is that of great compassion indivisible from wisdom\, and she is always ready to quickly pacify all obstacles\, illnesses\, difficulties and suffering. These practices are carried out for the universal peace in general\, and for the fast dissolution of the current pandemic in particular. \n\n\n\nThe Thangtong Gyalpo Prayer can be downloaded HERE. \n\n\n\nRegister in advance for this meeting on Zoom at least one day in advance. \n\n\n\nYou will receive a confirmation email from “Sakya Dharma Family Admin” with the Zoom link to participate (click “Click Here To Join”) on the day of the event. \n\n\n\n\nZOOM
URL:https://sakyapa.eu/event/tara-ritual-en-25-08/
LOCATION:Sakya Tsechen Ling\, 5 Rdpt du Vignoble\, Kuttolsheim\, 67520\, France
CATEGORIES:All courses in English only,Khenpo Tashi Sangpo-EN,Sakya Tsechen Ling-EN,ZOOM-EN
ATTACH;FMTTYPE=image/webp:https://sakyapa.eu/wp-content/uploads/2023/10/2.webp
END:VEVENT
BEGIN:VEVENT
DTSTART;TZID=Europe/Zurich:20250818T191500
DTEND;TZID=Europe/Zurich:20250818T204500
DTSTAMP:20260424T154757
CREATED:20250615T081220Z
LAST-MODIFIED:20250617T170309Z
UID:10003598-1755544500-1755549900@sakyapa.eu
SUMMARY:VAJRAYOGHINI TSOG OFFERING
DESCRIPTION:Time: 19.15 – 20.45​ \n\n\n\nGuided by: Lama Sherab Sangpo \n\n\n\n\nThe Tsog ritual is a fast method for the accumulation of merit and wisdom through a group practice of making offerings to special deities. Vajrayana practitioners should perform the Tsog offering twice a month\, on 10th and 25th day of the Tibetan lunar calendar. The Vajrayogini Tsog offering is particularly important in the Sakya tradition. \n\n\n\nONLY FOR THOSE WHO ALREADY RECEIVED VAJRAYOGINI EMPOWERMENT FROM A QUALIFIED SAKYA MASTER.WE USE THE TSOG TEXT PREPARED BY HER EMINENCE JETSUN KUSHOK. \n\n\n\nIf you don’t have this text please practice your own Sadhana. \n\n\n\nPlease join on time\, no late arrivals. \n\n\n\nParticipation in the temple SAKYA TSECHEN LING\, KUTTOLSHEIM.  \n\n\n\nJoin us at the temple in F-67520 Kuttolsheim\, France. \n\n\n\nRegister in advance for this meeting on Zoom at least one day in advance. \n\n\n\nYou will receive a confirmation email from “Sakya Dharma Family Admin” with the Zoom link to participate (click “Click Here To Join”) on the day of the event. \n\n\n\n\nZOOM\n\n\n\n\nThis event is offered to you by Khenchen Sherab’s Sakya Dharma Family. We want to make it possible for everyone to participate\, however\, our Dharma activities are only possible thanks to your kind donations. To ensure the continuity of our activities\, please consider supporting your local center. Click HERE for the list of all our Sakya Dharma Family Centers.
URL:https://sakyapa.eu/event/vajrayoghini-tsog-offering-en-25-08/
LOCATION:Sakya Tsechen Ling\, 5 Rdpt du Vignoble\, Kuttolsheim\, 67520\, France
CATEGORIES:All courses in English only,Lama Shérab Sangpo-EN,Sakya Tsechen Ling,ZOOM-EN
ATTACH;FMTTYPE=image/png:https://sakyapa.eu/wp-content/uploads/2023/10/VY.png
END:VEVENT
END:VCALENDAR