BEGIN:VCALENDAR
VERSION:2.0
PRODID:-//European Sakya Centers founded by Khenchen Sherab - ECPv6.13.2.1//NONSGML v1.0//EN
CALSCALE:GREGORIAN
METHOD:PUBLISH
X-ORIGINAL-URL:https://sakyapa.eu
X-WR-CALDESC:Events for European Sakya Centers founded by Khenchen Sherab
REFRESH-INTERVAL;VALUE=DURATION:PT1H
X-Robots-Tag:noindex
X-PUBLISHED-TTL:PT1H
BEGIN:VTIMEZONE
TZID:Europe/Zurich
BEGIN:DAYLIGHT
TZOFFSETFROM:+0100
TZOFFSETTO:+0200
TZNAME:CEST
DTSTART:20250330T010000
END:DAYLIGHT
BEGIN:STANDARD
TZOFFSETFROM:+0200
TZOFFSETTO:+0100
TZNAME:CET
DTSTART:20251026T010000
END:STANDARD
END:VTIMEZONE
BEGIN:VEVENT
DTSTART;TZID=Europe/Zurich:20250705T100000
DTEND;TZID=Europe/Zurich:20250706T163000
DTSTAMP:20260423T173521
CREATED:20250313T061802Z
LAST-MODIFIED:20250322T125819Z
UID:10003029-1751709600-1751819400@sakyapa.eu
SUMMARY:#Triest/Italy\, VISIT OF HIS HOLINESS THE 42ND SAKYA TRIZIN
DESCRIPTION:Date: Saturday 5 and Sunday 6 July \n\n\n\nTime: Sat. 10.00 – 12.00 & 15.00 – 17.00\, Sun. 10.00 – 12.00 & 14.30 – 16.30 \n\n\n\nVenue: Sala Teatro Piccola Fenice\, via San Francesco 5\, Trieste/Italy\, WITHOUT STREAMING \n\n\n\nLanguage: In English with consecutive translation in ItalianRecommended donation: € 100Click here to download flyer(In Italian only) \n\n\n\n\nThe Tibetan Buddhist Dharma Centre Sakya Künga Chöling welcomes \n\n\n\nHis Holiness the 42nd Sakya Trizin Ratna Vajra Rinpoche \n\n\n\nwho will honour us with His presence on Saturday 5th and Sunday 6th July 2025. \n\n\n\nSaturday 5.7.: Guru Rinpoche’s day (the 10th day of the lunar calendar) \n\n\n\n10.00 – 12.00: Guru Rinpoche Padmasambhava initiation \n\n\n\n15.00 – 17.00: teachings on Guru Rinpoche’s seven-line prayer\, Tsog offering; followed by kagoh blessing \n\n\n\nJust after Padmasambhava was born out of a lotus flower on the lake of Dhanakosha\, the king of Oddiyana saw the child and questioned him about his parents\, his family line\, his name and country\, his sustenance and what he was doing there. The boy sang his reply in an enchanting voice: “My father is the pure awareness of rigpa\, Samantabhadra; my mother\, the space of all things\, Samantabhadri; my line\, the indivisibility of awareness and space; my name\, the glorious Lotus-born; my homeland\, the unborn Dharmadhatu; my sustenance\, consuming dualistic thoughts; my destiny\, to accomplish the actions of the Buddhas of past\, present and future.” \n\n\n\nTo conclude there will be the short and powerful Kagoh blessing in relation to Vajrakilaya to remove all obstacles and difficulties. \n\n\n\nSunday 6.7: \n\n\n\n10.00 – 12.00: conferral of refuge & Bodhisattva vows \n\n\n\n14.30 – 16.30: Teachings on the refuge & Bodhisattva vows \n\n\n\nThe Bodhisattva vows are the root of the Mahayana path\, in which Bodhicitta – the mind of enlightenment that aspires and strives with determination to realise its enlightened nature for the benefit of all beings – is generated. The essence of the vows are love\, compassion and Bodhicitta\, which are the factors to be cultivated after receiving the vows. \n\n\n\nFor information and registration: \n\n\n\ntel. 0039/040 571048 – sakyatrieste@gmail.com \n\n\n\nHow to get to the Sala Teatro Piccola Fenice  \n\n\n\nFor those arriving from outside Trieste and travelling by car\, it is not advisable to park immediately next to the Sala\, but there is the Saba Foro Ulpiano car park just a few minutes’ walk away (opposite the Law Courts). \n\n\n\nFor those travelling by train\, Trieste’s Central Station is a 15-minute walk away\, and it is possible to take bus no. 6 next to the Station and stop in Via Battisti (Galleria Fenice). \n\n\n\nFor those interested\, His Holiness will also give teachings and initiations at the Thupten Changchup Ling Buddhist Centre in Arosio/Switzerland and the Sakya Ngon Ga Ling in Tuscany.
URL:https://sakyapa.eu/event/triest-italy-visit-of-his-holiness-the-42nd-sakya-trizin/
CATEGORIES:All courses in English only,His Holiness the 42nd Sakya Trizin-EN,Sakya Kunga Choeling-EN
END:VEVENT
BEGIN:VEVENT
DTSTART;TZID=Europe/Zurich:20250705T160000
DTEND;TZID=Europe/Zurich:20250705T170000
DTSTAMP:20260423T173521
CREATED:20250613T115127Z
LAST-MODIFIED:20250613T115224Z
UID:10003584-1751731200-1751734800@sakyapa.eu
SUMMARY:PRAYERS FOR THE BIRTHDAYS OF HIS HOLINESS THE 14th DALAI LAMA & HIS HOLINESS THE 43rd SAKYA TRIZIN GYANA VAJRA RINPOCHE 
DESCRIPTION:Date: 5-6 July 2025 16:00Place: Triest/Italy \n\n\n\nWith great joy and devotion we celebrate the birthday of these two great Masters who contribute greatly to spreading the precious Dharma universally.  \n\n\n\nWe offer them all our prayers and aspirations that they may enjoy long life and good health. \n\n\n\nIn particular\, we turn our hearts towards His Holiness the Dalai Lama on the important milestone of his ninetieth birthday. He continues to be a light in this world\, tirelessly pursuing his activities for peace and for the benefit of all beings without exception. May the fruits of his incredible work soon lead the whole of humanity to a more harmonious\, loving and conscious way of living. \n\n\n\nWith great auspice\, these important birthdays coincide with the visit of His Holiness the 42nd Sakya Trizin Ratna Vajra Rinpoche to the Sakya Centre in Trieste on 5 – 6 July\, and will be celebrated on that occasion\, where a good birthday cake will also be offered. \n\n\n\nPrayer for the Long Life of His Holiness the Fourteenth Dalai Lama \n\n\n\nby Kyabgön Sakya Gongma Rinpoche \n\n\n\n༧རྒྱལ་བ་ཀུན་གྱི་ཐུགས་རྗེ་གཅིག་འདུས་པ། ། \n\n\n\ngyalwa kun gyi tukjé chik düpa \n\n\n\nEmbodiment of all the victorious buddhas’ compassion\, \n\n\n\nདེང་འདིར་སྡོམ་བརྩོན་དམ་པའི་རྣམ་རོལ་གྱིས། ། \n\n\n\ndeng dir dom tsön dampé namrol gyi \n\n\n\nManifesting here and now as a noble holder of the vows\, \n\n\n\nའཇིག་རྟེན་ཞི་བདེའི་དཔལ་ལ་འགོད་མཛད་པའི། ། \n\n\n\njikten zhi dé pal la gö dzepé \n\n\n\nTo bring the splendour of peace and happiness to the world— \n\n\n\nཡོངས་རྫོགས་བསྟན་པའི་བདག་པོར་ཞབས་བརྟན་གསོལ། ། \n\n\n\nyong dzok tenpé dakpor zhap ten söl \n\n\n\nMaster of all the teachings\, may your life remain secure!
URL:https://sakyapa.eu/event/prayers-for-the-birthdays-of-his-holiness-the-14th-dalai-lama-his-holiness-the-43rd-sakya-trizin-gyana-vajra-rinpoche/
CATEGORIES:All courses in English only,Sakya Changchub Chöling-EN
END:VEVENT
BEGIN:VEVENT
DTSTART;TZID=Europe/Zurich:20250708T093000
DTEND;TZID=Europe/Zurich:20250708T170000
DTSTAMP:20260423T173522
CREATED:20250312T092906Z
LAST-MODIFIED:20250313T062200Z
UID:10003027-1751967000-1751994000@sakyapa.eu
SUMMARY:#Arosio/Switzerland\, Visit of H.H. the 42nd Sakya Trizin
DESCRIPTION:https://sakyapa.eu/hh42-2025
URL:https://sakyapa.eu/event/visit-of-h-h-the-42nd-sakya-trizin/
CATEGORIES:All courses in English only,His Holiness the 42nd Sakya Trizin-EN,Thupten Changchup Ling-EN
END:VEVENT
BEGIN:VEVENT
DTSTART;TZID=Europe/Zurich:20250711T203000
DTEND;TZID=Europe/Zurich:20250713T160000
DTSTAMP:20260423T173522
CREATED:20250613T094424Z
LAST-MODIFIED:20250613T095431Z
UID:10003576-1752265800-1752422400@sakyapa.eu
SUMMARY:THE SHAMATHA PATH OF CALM ABIDING & VIPASSANA - Teachings and Meditations
DESCRIPTION:Teachings by: LAMA SHERAB SANGPO \n\n\n\nDate: FRI-SUN / 11 – 13 JULY \n\n\n\nTime: Friday 20.30 – 22.00\, Saturday & Sunday 10.00 – 12.00 & 14.00 – 16.00 \n\n\n\nPlace: Sakya Tsechen Ling\, Kuttolsheim/France \n\n\n\nLanguage: EN \n\n\n\nAvailable translations: FRSuggested donation: 25€/30 CHF \n\n\n\n\nShamatha (in Sanskrit) or zhinä (ཞི་གནས་ in Tibetan) refers in Buddhism to calm abiding\, the first stage of Buddhist meditation practices -opened by taking refuge and developing the enlightened mind\, and concluded by the sharing of merits- allowing this state to be developed in order to then move on to the second stage\, the practice of vipassanā (in Sanskrit) or lhagtong (ལྷག་མཐོང་ in Tibetan)\, that of insight wisdom. \n\n\n\nTeachings and meditations will alternate throughout the seminar. \n\n\n\nRegistration To come to the STL temple\, Kuttolsheim (FR)\, please register a few days in advance for this event using the link below. \n\n\n\nKUTTOLSHEIM
URL:https://sakyapa.eu/event/the-shamatha-path-of-calm-abiding-vipassana-teachings-and-meditations/
CATEGORIES:All courses in English only,Lama Shérab Sangpo-EN,Sakya Tsechen Ling-EN
END:VEVENT
BEGIN:VEVENT
DTSTART;TZID=Europe/Zurich:20250713T070000
DTEND;TZID=Europe/Zurich:20250713T080000
DTSTAMP:20260423T173522
CREATED:20250613T095947Z
LAST-MODIFIED:20250613T100006Z
UID:10003578-1752390000-1752393600@sakyapa.eu
SUMMARY:TARA RITUAL
DESCRIPTION:Time: 7.00 – 8.00 \n\n\n\nGuide: Khenpo Tashi Sangpo \n\n\n\nPlace: Sakya Tsechen Ling & ZOOM \n\n\n\nFree donation \n\n\n\n\nTara\, the Liberator\, is a very important female Deity in Tibet. Her nature is that of great compassion indivisible from wisdom\, and she is always ready to quickly pacify all obstacles\, illnesses\, difficulties and suffering. These practices are carried out for the universal peace in general\, and for the fast dissolution of the current pandemic in particular. \n\n\n\nThe Thangtong Gyalpo Prayer can be downloaded HERE. \n\n\n\nRegister in advance for this meeting on Zoom at least one day in advance. \n\n\n\nYou will receive a confirmation email from “Sakya Dharma Family Admin” with the Zoom link to participate (click “Click Here To Join”) on the day of the event. \n\n\n\n\nZOOM
URL:https://sakyapa.eu/event/tara-ritual-en-25-7/
LOCATION:Sakya Tsechen Ling\, 5 Rdpt du Vignoble\, Kuttolsheim\, 67520\, France
CATEGORIES:All courses in English only,Khenpo Tashi Sangpo-EN,Sakya Tsechen Ling-EN,ZOOM-EN
ATTACH;FMTTYPE=image/webp:https://sakyapa.eu/wp-content/uploads/2023/10/2.webp
END:VEVENT
BEGIN:VEVENT
DTSTART;TZID=Europe/Zurich:20250720T191500
DTEND;TZID=Europe/Zurich:20250720T204500
DTSTAMP:20260423T173522
CREATED:20250614T224204Z
LAST-MODIFIED:20250614T224227Z
UID:10003593-1753038900-1753044300@sakyapa.eu
SUMMARY:VAJRAYOGHINI TSOG OFFERING
DESCRIPTION:Time: 19.15 – 20.45​ \n\n\n\nGuided by: Lama Sherab Sangpo \n\n\n\n\nThe Tsog ritual is a fast method for the accumulation of merit and wisdom through a group practice of making offerings to special deities. Vajrayana practitioners should perform the Tsog offering twice a month\, on 10th and 25th day of the Tibetan lunar calendar. The Vajrayogini Tsog offering is particularly important in the Sakya tradition. \n\n\n\nONLY FOR THOSE WHO ALREADY RECEIVED VAJRAYOGINI EMPOWERMENT FROM A QUALIFIED SAKYA MASTER.WE USE THE TSOG TEXT PREPARED BY HER EMINENCE JETSUN KUSHOK. \n\n\n\nIf you don’t have this text please practice your own Sadhana. \n\n\n\nPlease join on time\, no late arrivals. \n\n\n\nParticipation in the temple SAKYA TSECHEN LING\, KUTTOLSHEIM.  \n\n\n\nJoin us at the temple in F-67520 Kuttolsheim\, France. \n\n\n\nRegister in advance for this meeting on Zoom at least one day in advance. \n\n\n\nYou will receive a confirmation email from “Sakya Dharma Family Admin” with the Zoom link to participate (click “Click Here To Join”) on the day of the event. \n\n\n\n\nZOOM\n\n\n\n\nThis event is offered to you by Khenchen Sherab’s Sakya Dharma Family. We want to make it possible for everyone to participate\, however\, our Dharma activities are only possible thanks to your kind donations. To ensure the continuity of our activities\, please consider supporting your local center. Click HERE for the list of all our Sakya Dharma Family Centers.
URL:https://sakyapa.eu/event/vajrayoghini-tsog-offering-en-25-07/
LOCATION:Sakya Tsechen Ling\, 5 Rdpt du Vignoble\, Kuttolsheim\, 67520\, France
CATEGORIES:All courses in English only,Lama Shérab Sangpo-EN,Sakya Tsechen Ling,ZOOM-EN
ATTACH;FMTTYPE=image/png:https://sakyapa.eu/wp-content/uploads/2023/10/VY.png
END:VEVENT
END:VCALENDAR