BEGIN:VCALENDAR
VERSION:2.0
PRODID:-//European Sakya Centers founded by Khenchen Sherab - ECPv6.13.2.1//NONSGML v1.0//EN
CALSCALE:GREGORIAN
METHOD:PUBLISH
X-WR-CALNAME:European Sakya Centers founded by Khenchen Sherab
X-ORIGINAL-URL:https://sakyapa.eu
X-WR-CALDESC:Events for European Sakya Centers founded by Khenchen Sherab
REFRESH-INTERVAL;VALUE=DURATION:PT1H
X-Robots-Tag:noindex
X-PUBLISHED-TTL:PT1H
BEGIN:VTIMEZONE
TZID:Europe/Zurich
BEGIN:DAYLIGHT
TZOFFSETFROM:+0100
TZOFFSETTO:+0200
TZNAME:CEST
DTSTART:20250330T010000
END:DAYLIGHT
BEGIN:STANDARD
TZOFFSETFROM:+0200
TZOFFSETTO:+0100
TZNAME:CET
DTSTART:20251026T010000
END:STANDARD
END:VTIMEZONE
BEGIN:VEVENT
DTSTART;TZID=Europe/Zurich:20250405T100000
DTEND;TZID=Europe/Zurich:20250406T153000
DTSTAMP:20260421T233559
CREATED:20250308T172916Z
LAST-MODIFIED:20250310T185938Z
UID:10003001-1743847200-1743953400@sakyapa.eu
SUMMARY:THE BLISSFUL PATH TO AWAKENING: A GURU YOGA\, BY JAMYANG KHYENTSE CHÖKYI LODRÖ
DESCRIPTION:Teaching given by: KHENPO TASHI SANGPO \n\n\n\nDate: SAT-SUN 5-6 APRIL \n\n\n\nTime: Saturday & Sunday 10.00 – 12.00 & 13.30 – 15.30 \n\n\n\nPlace: Thupten Changchup Ling\, Arosio/CH & ZOOM \n\n\n\nLanguage: EN \n\n\n\nAvailable translation: IT\, SWE \n\n\n\nFee: in-person 50 CHF/€\, online 30 CHF/€ \n\n\n\n\nJamyang Khyentse Chökyi Lodrö (1893-1959) was one of the most eminent Tibetan Masters of the past century. Among the various works he composed\, we find a short yet powerful Guru Yoga practice in connection with Buddha Avalokiteśvara\, the personification of great compassion. On the occasion of the anniversary (see event 14.4.) of Khenchen Sherab\, the founding lama of our centers\, Khenpo Tashi will give the transmission and explanations of this practice. Khenchen Sherab was renowned for his boundless compassion and loving attitude\, making it particularly auspicious to receive a Guru Yoga in which Avalokiteśvara and our precious Master are merged indivisibly. \n\n\n\nIN-PERSON REGISTRATION                         ZOOM REGISTRATION \n\n\n\nJoin us at the temple in Arosio (CH): click IN-PERSON REGISTRATION abovePlease register at least two days before the event to participate in person  \n\n\n\nParticipate through Zoom: click ZOOM REGISTRATION aboveAfter the registration you will receive a confirmation email from ZOOM with the Zoom link to participate (click “Click Here To Join” on the day of the event).
URL:https://sakyapa.eu/event/the-blissful-path-to-awakening-a-guru-yoga-by-jamyang-khyentse-chokyi-lodro/
CATEGORIES:All courses in English only,Khenpo Tashi Sangpo-EN,Thupten Changchup Ling-EN,ZOOM-EN
END:VEVENT
BEGIN:VEVENT
DTSTART;TZID=Europe/Zurich:20250408T191500
DTEND;TZID=Europe/Zurich:20250408T210000
DTSTAMP:20260421T233559
CREATED:20250216T203035Z
LAST-MODIFIED:20250219T073405Z
UID:10002623-1744139700-1744146000@sakyapa.eu
SUMMARY:DHARMA CHAKRA PROGRAM – ABHIDHARMA (22 lessons)
DESCRIPTION:Teachings by: H.H. THE 42ND SAKYA TRIZIN RATNA VAJRA RINPOCHE \n\n\n\nCourse begins 8.10.2024\, in total 22 lessons\, about 2 Tuesday evenings per month \n\n\n\nDate: 4.3. (11)\, 25.3. (12)\, 8.4. (13)\, 22.4. (14)\, 6.5. (15)\, 20.5. (16)\, \n\n\n\nTime: 19.15 – 21.00 \n\n\n\nPlace: Thupten Changchup Ling\, Arosio/CH & ZOOM \n\n\n\nLanguage: EN \n\n\n\nAvailable translations: IT\, DE\, FR\, NL \n\n\n\nPrerequisites: No prerequisites\, open to all \n\n\n\nCost: Free of charge with optional donation \n\n\n\n\n\n\n\n\nDHARMA CHAKRA PROGRAM \n\n\n\nExtended Study Program on the Essentials of Classical Buddhist Philosophy \n\n\n\nTeachings by H.H. Ratna Vajra Rinpoche \n\n\n\nFirst Year: Abhidharma \n\n\n\n19.15: Refuge and meditation on Bodhicitta \n\n\n\n19.30: Listening to teachings of H.H. Ratna Vajra Rinpoche with translation \n\n\n\n20.30: Meditation: contemplation of the topics discussed and rest in the empty presence. \n\n\n\nYou can write any questions you may have on the subject HERE. Khenpo Tashi will occasionally answer them in question-answer sessions. \n\n\n\nAbout the Program  \n\n\n\nFrom the Buddhist perspective\, engaging in the progressive steps of study\, contemplation\, and meditation acquaints us with wisdom\, empowering us with the potential to become great practitioners. The Dharma Chakra Program (DCP) is designed to provide the indispensable elements of the philosophical tradition in a succinct manner. This program is an extraordinary opportunity to develop a deep understanding of the main tenets of classical Buddhist philosophy through one of the most esteemed erudites of our time\, His Holiness the 42nd Sakya Trizin\, Ratna Vajra Rinpoche.  \n\n\n\nThis extended study program provides the everyday practitioner in the modern world with rare access to the essence of Mahayana philosophy through an unbroken lineage\, a privilege traditionally available only in monastic universities.  \n\n\n\nWhat You’ll Learn \n\n\n\nYear 1: Abhidharma  \n\n\n\nYear 2: Bodhisattvacharyavatara Chapters 1 – 6Year 3: Bodhisattvacharyavatara Chapters 7 – 10Year 4: MadhyamakaYear 5: Uttaratantra \n\n\n\nThe Dharma Chakra Program in the European centres founded by Khenchen Sherab: \n\n\n\nThe Dharma Chakra Program is an initiative of the Sachen Foundation and can be followed online in English by anyone via their dedicated website:  \n\n\n\nwww.sachenfoundation.org/dharmachakra/ \n\n\n\nIn our centres we offer about two meetings per month\, both in presence and online\, where we listen together to the teachings of H.H. Ratna Vajra Rinpoche with translation into Italian\, French\, German and Dutch. After the teachings there will be a 30-minute meditation in which we can reflect on the topics covered and then rest a while in the empty presence.  \n\n\n\nThere will be occasional question-and-answer sessions with Khenpo Tashi. Questions should be submitted through this form. On the Sachen Foundation website dedicated to this study programme\, you will find additional material in English on the topics discussed\, which we will also use in our meetings if necessary. \n\n\n\nFirst Year: Abhidharma (22 lessons) \n\n\n\n“The mind is everything. What you think\, you become.” -Vasubandhu \n\n\n\nThe Buddha’s teachings are traditionally classified into three collections: Vinaya\, Sutra\, and Abhidharma.  \n\n\n\nAbhidharma is a collection of the Buddha’s highest teachings focused on wisdom training. It examines the nature of reality\, the mind\, and mental phenomena\, guiding us toward a deeper understanding of the nature of reality. Its profound insights into the workings of consciousness and the essence of existence\, provide a comprehensive framework for understanding Buddhist psychology and philosophy across all three vehicles or yanas. \n\n\n\nIn this course\, His Holiness the 42nd Sakya Trizin will focus on the Treasury of Abhidharma or Abhidharmakośa\, authored by Vasubandhu\, a prominent Indian Buddhist scholar and master from the 4th or 5th century. Abhidharmakośa\, considered one of the thirteen great texts utilized as the core curriculum in most traditional Tibetan Buddhist centers for teaching or shedras\, serves as a seminal work in the Mahayana tradition. It provides a structured overview of Abhidharma teachings and is extensively studied by all Tibetan traditions. \n\n\n\nThe vast teachings of Abhidharma and Buddhist psychology provide a path to a clear and deep view of the nature of reality\, bringing us closer to understanding our minds and freeing ourselves from suffering. The study of\, including texts like the Abhidharmakośa\, equips practitioners with invaluable insights and tools to deepen their spiritual journey\, foster wisdom\, and lead a more meaningful and fulfilling life. \n\n\n\nThese lessons will bring you closer to: \n\n\n\n  •  A deeper understanding of your emotions and thoughts.  •  Cultivating a stable meditation practice.  •  Distilling the profound teachings of Tibetan Buddhism.  •  Learning about the doctrinal differences between the ancient Buddhist schools.  •  Exploring consciousness and mental processes.  •  Analysing the nature of reality.  •  Connecting with the law of karma\, impermanence\, and emptiness. \n\n\n\nThe reference texts can be downloaded HERE \n\n\n\nJoin us at the temple in Arosio (CH):Please register at least two days before the event to participate in person in Arosio (using the link below). \n\n\n\n\nAROSIO\n\n\n\n\n\n\n\n\nRegister in advance for this meeting on Zoom at least one day in advance.You will receive a confirmation email from “Sakya Dharma Family Admin” with the Zoom link to participate (click “Click Here To Join”) on the day of the event. \n\n\n\n\nZOOM
URL:https://sakyapa.eu/event/dharma-chakra-program-abhidharma-22-lessons-4/2025-04-08/
CATEGORIES:All courses in English only,Thupten Changchup Ling-EN,ZOOM-EN
END:VEVENT
BEGIN:VEVENT
DTSTART;TZID=Europe/Zurich:20250411T203000
DTEND;TZID=Europe/Zurich:20250413T160000
DTSTAMP:20260421T233559
CREATED:20250308T175510Z
LAST-MODIFIED:20250308T175513Z
UID:10003004-1744403400-1744560000@sakyapa.eu
SUMMARY:THE BLISSFUL PATH TO AWAKENING: A GURU YOGA\, BY JAMYANG KHYENTSE CHÖKYI LODRÖ
DESCRIPTION:Teachings by: KHENPO TASHI SANGPO \n\n\n\nDate: FRI-SUN / 11 – 13 APRIL \n\n\n\nTime: Friday 20.30 – 22.00\, Saturday & Sunday 10.00 – 12.00 & 14.00 – 16.00 \n\n\n\nPlace: Sakya Tsechen Ling\, Kuttolsheim/France & ZOOM \n\n\n\nLanguage: EN \n\n\n\nAvailable translations: FRSuggested donation: 25€/30 CHF \n\n\n\n\nJamyang Khyentse Chökyi Lodrö (1893-1959) was one of the most eminent Tibetan Masters of the past century. Among the various works he composed\, we find a short yet powerful Guru Yoga practice in connection with Buddha Avalokiteśvara\, the personification of great compassion. On the occasion of the anniversary (see event 14.4.) of Khenchen Sherab\, the founding lama of our centers\, Khenpo Tashi will give the transmission and explanations of this practice. Khenchen Sherab was renowned for his boundless compassion and loving attitude\, making it particularly auspicious to receive a Guru Yoga in which Avalokiteśvara and our precious Master are merged indivisibly. \n\n\n\nIN-PERSON REGISTRATION                         ZOOM REGISTRATION \n\n\n\nJoin us at the temple in Kuttolsheim(FR): click IN-PERSON REGISTRATION abovePlease register at least two days before the event to participate in person  \n\n\n\nParticipate through Zoom: click ZOOM REGISTRATION aboveAfter the registration you will receive a confirmation email from ZOOM with the Zoom link to participate (click “Click Here To Join” on the day of the event).
URL:https://sakyapa.eu/event/the-blissful-path-to-awakening-a-guru-yoga-by-jamyang-khyentse-chokyi-lodro-2/
CATEGORIES:All courses in English only,Khenpo Tashi Sangpo-EN,Sakya Tsechen Ling-EN,ZOOM-EN
END:VEVENT
BEGIN:VEVENT
DTSTART;TZID=Europe/Zurich:20250413T070000
DTEND;TZID=Europe/Zurich:20250413T080000
DTSTAMP:20260421T233559
CREATED:20250308T184103Z
LAST-MODIFIED:20250308T184117Z
UID:10003008-1744527600-1744531200@sakyapa.eu
SUMMARY:TARA RITUAL
DESCRIPTION:Time: 7.00 – 8.00 \n\n\n\nGuide: Lama Sherab Sangpo \n\n\n\nPlace: Sakya Tsechen Ling & ZOOM \n\n\n\nFree donation \n\n\n\n\nTara\, the Liberator\, is a very important female Deity in Tibet. Her nature is that of great compassion indivisible from wisdom\, and she is always ready to quickly pacify all obstacles\, illnesses\, difficulties and suffering. These practices are carried out for the universal peace in general\, and for the fast dissolution of the current pandemic in particular. \n\n\n\nThe Thangtong Gyalpo Prayer can be downloaded HERE. \n\n\n\nRegister in advance for this meeting on Zoom at least one day in advance. \n\n\n\nYou will receive a confirmation email from “Sakya Dharma Family Admin” with the Zoom link to participate (click “Click Here To Join”) on the day of the event. \n\n\n\n\nZOOM
URL:https://sakyapa.eu/event/tara-ritual-en-2504/
LOCATION:Sakya Tsechen Ling\, 5 Rdpt du Vignoble\, Kuttolsheim\, 67520\, France
CATEGORIES:All courses in English only,Khenpo Tashi Sangpo-EN,Sakya Tsechen Ling-EN,ZOOM-EN
ATTACH;FMTTYPE=image/webp:https://sakyapa.eu/wp-content/uploads/2023/10/2.webp
END:VEVENT
BEGIN:VEVENT
DTSTART;TZID=Europe/Zurich:20250414T100000
DTEND;TZID=Europe/Zurich:20250414T203000
DTSTAMP:20260421T233559
CREATED:20250308T191152Z
LAST-MODIFIED:20250308T191155Z
UID:10003012-1744624800-1744662600@sakyapa.eu
SUMMARY:COMMEMORATION OF KHENCHEN SHERAB GYALTSEN AMIPA
DESCRIPTION:Guided by: KHENPO TASHI SANGPO \n\n\n\nDate: MON / 14 APRIL \n\n\n\nTime: Monday 10.00 – 12.00 & 19.15 – 20.30 \n\n\n\nPlace: Sakya Tsechen Ling\, Kuttolsheim/France & ZOOM \n\n\n\nLanguage: EN \n\n\n\nAvailable translations: FR\, DE\, IT\, NL \n\n\n\nFree donation \n\n\n\n\nThis year\, Monday 14th April\, marks the 11th anniversary of Khenchen Sherab (1931 – 2014)\, founding Master of our centres and highly realised being. Invoking his blessings on this special anniversary is extremely powerful and the benefits are sure to be experienced by all.  \n\n\n\nProgram: \n\n\n\n10.00 – 12.00 Vairocana ritual \n\n\n\n19.15 – 20.45 Guruyoga Lama Chöpa \n\n\n\nThere is no better method than Guruyoga to invoke spiritual blessings and the Lama Chöpa is the most appropriate and effective ritual for the most important celebrations.  \n\n\n\nThe profound Guruyoga ritual Lama Chöpa will be practised in the evening accompanied by many special offerings prepared for the occasion. \n\n\n\nWho would like to participate in these offerings (e.g. flowers\, fruits\, incense\, etc) can send a contribution HERE  \n\n\n\nIn your heart\, a spacious sky of love\,clouds of compassion fully gather\,with the rain of activity falling down\,you ripen the harvest of ones to be tamed.Khenchen Sherab Gyaltsen Amipa\, at your feet I bow!  \n\n\n\n(adapted from a Milarepa’s vajra song)Register in advance for this meeting on Zoom at least one day in advance.You will receive a confirmation email from “Sakya Dharma Family Admin” with the Zoom link to participate (click “Click Here To Join”) on the day of the event. \n\n\n\nZOOM
URL:https://sakyapa.eu/event/commemoration-of-khenchen-sherab-gyaltsen-amipa/
CATEGORIES:All courses in English only,Khenpo Tashi Sangpo-EN,Sakya Tsechen Ling-EN,ZOOM-EN
END:VEVENT
BEGIN:VEVENT
DTSTART;TZID=Europe/Zurich:20250422T191500
DTEND;TZID=Europe/Zurich:20250422T210000
DTSTAMP:20260421T233559
CREATED:20250216T203035Z
LAST-MODIFIED:20250219T073405Z
UID:10002624-1745349300-1745355600@sakyapa.eu
SUMMARY:DHARMA CHAKRA PROGRAM – ABHIDHARMA (22 lessons)
DESCRIPTION:Teachings by: H.H. THE 42ND SAKYA TRIZIN RATNA VAJRA RINPOCHE \n\n\n\nCourse begins 8.10.2024\, in total 22 lessons\, about 2 Tuesday evenings per month \n\n\n\nDate: 4.3. (11)\, 25.3. (12)\, 8.4. (13)\, 22.4. (14)\, 6.5. (15)\, 20.5. (16)\, \n\n\n\nTime: 19.15 – 21.00 \n\n\n\nPlace: Thupten Changchup Ling\, Arosio/CH & ZOOM \n\n\n\nLanguage: EN \n\n\n\nAvailable translations: IT\, DE\, FR\, NL \n\n\n\nPrerequisites: No prerequisites\, open to all \n\n\n\nCost: Free of charge with optional donation \n\n\n\n\n\n\n\n\nDHARMA CHAKRA PROGRAM \n\n\n\nExtended Study Program on the Essentials of Classical Buddhist Philosophy \n\n\n\nTeachings by H.H. Ratna Vajra Rinpoche \n\n\n\nFirst Year: Abhidharma \n\n\n\n19.15: Refuge and meditation on Bodhicitta \n\n\n\n19.30: Listening to teachings of H.H. Ratna Vajra Rinpoche with translation \n\n\n\n20.30: Meditation: contemplation of the topics discussed and rest in the empty presence. \n\n\n\nYou can write any questions you may have on the subject HERE. Khenpo Tashi will occasionally answer them in question-answer sessions. \n\n\n\nAbout the Program  \n\n\n\nFrom the Buddhist perspective\, engaging in the progressive steps of study\, contemplation\, and meditation acquaints us with wisdom\, empowering us with the potential to become great practitioners. The Dharma Chakra Program (DCP) is designed to provide the indispensable elements of the philosophical tradition in a succinct manner. This program is an extraordinary opportunity to develop a deep understanding of the main tenets of classical Buddhist philosophy through one of the most esteemed erudites of our time\, His Holiness the 42nd Sakya Trizin\, Ratna Vajra Rinpoche.  \n\n\n\nThis extended study program provides the everyday practitioner in the modern world with rare access to the essence of Mahayana philosophy through an unbroken lineage\, a privilege traditionally available only in monastic universities.  \n\n\n\nWhat You’ll Learn \n\n\n\nYear 1: Abhidharma  \n\n\n\nYear 2: Bodhisattvacharyavatara Chapters 1 – 6Year 3: Bodhisattvacharyavatara Chapters 7 – 10Year 4: MadhyamakaYear 5: Uttaratantra \n\n\n\nThe Dharma Chakra Program in the European centres founded by Khenchen Sherab: \n\n\n\nThe Dharma Chakra Program is an initiative of the Sachen Foundation and can be followed online in English by anyone via their dedicated website:  \n\n\n\nwww.sachenfoundation.org/dharmachakra/ \n\n\n\nIn our centres we offer about two meetings per month\, both in presence and online\, where we listen together to the teachings of H.H. Ratna Vajra Rinpoche with translation into Italian\, French\, German and Dutch. After the teachings there will be a 30-minute meditation in which we can reflect on the topics covered and then rest a while in the empty presence.  \n\n\n\nThere will be occasional question-and-answer sessions with Khenpo Tashi. Questions should be submitted through this form. On the Sachen Foundation website dedicated to this study programme\, you will find additional material in English on the topics discussed\, which we will also use in our meetings if necessary. \n\n\n\nFirst Year: Abhidharma (22 lessons) \n\n\n\n“The mind is everything. What you think\, you become.” -Vasubandhu \n\n\n\nThe Buddha’s teachings are traditionally classified into three collections: Vinaya\, Sutra\, and Abhidharma.  \n\n\n\nAbhidharma is a collection of the Buddha’s highest teachings focused on wisdom training. It examines the nature of reality\, the mind\, and mental phenomena\, guiding us toward a deeper understanding of the nature of reality. Its profound insights into the workings of consciousness and the essence of existence\, provide a comprehensive framework for understanding Buddhist psychology and philosophy across all three vehicles or yanas. \n\n\n\nIn this course\, His Holiness the 42nd Sakya Trizin will focus on the Treasury of Abhidharma or Abhidharmakośa\, authored by Vasubandhu\, a prominent Indian Buddhist scholar and master from the 4th or 5th century. Abhidharmakośa\, considered one of the thirteen great texts utilized as the core curriculum in most traditional Tibetan Buddhist centers for teaching or shedras\, serves as a seminal work in the Mahayana tradition. It provides a structured overview of Abhidharma teachings and is extensively studied by all Tibetan traditions. \n\n\n\nThe vast teachings of Abhidharma and Buddhist psychology provide a path to a clear and deep view of the nature of reality\, bringing us closer to understanding our minds and freeing ourselves from suffering. The study of\, including texts like the Abhidharmakośa\, equips practitioners with invaluable insights and tools to deepen their spiritual journey\, foster wisdom\, and lead a more meaningful and fulfilling life. \n\n\n\nThese lessons will bring you closer to: \n\n\n\n  •  A deeper understanding of your emotions and thoughts.  •  Cultivating a stable meditation practice.  •  Distilling the profound teachings of Tibetan Buddhism.  •  Learning about the doctrinal differences between the ancient Buddhist schools.  •  Exploring consciousness and mental processes.  •  Analysing the nature of reality.  •  Connecting with the law of karma\, impermanence\, and emptiness. \n\n\n\nThe reference texts can be downloaded HERE \n\n\n\nJoin us at the temple in Arosio (CH):Please register at least two days before the event to participate in person in Arosio (using the link below). \n\n\n\n\nAROSIO\n\n\n\n\n\n\n\n\nRegister in advance for this meeting on Zoom at least one day in advance.You will receive a confirmation email from “Sakya Dharma Family Admin” with the Zoom link to participate (click “Click Here To Join”) on the day of the event. \n\n\n\n\nZOOM
URL:https://sakyapa.eu/event/dharma-chakra-program-abhidharma-22-lessons-4/2025-04-22/
CATEGORIES:All courses in English only,Thupten Changchup Ling-EN,ZOOM-EN
END:VEVENT
BEGIN:VEVENT
DTSTART;TZID=Europe/Zurich:20250423T191500
DTEND;TZID=Europe/Zurich:20250423T204500
DTSTAMP:20260421T233559
CREATED:20250309T083337Z
LAST-MODIFIED:20250418T125238Z
UID:10003022-1745435700-1745441100@sakyapa.eu
SUMMARY:VAJRAYOGHINI TSOG OFFERING
DESCRIPTION:Time: 19.15 – 20.45​ \n\n\n\nGuided by: Lama Sherab Sangpo \n\n\n\n\nThe Tsog ritual is a fast method for the accumulation of merit and wisdom through a group practice of making offerings to special deities. Vajrayana practitioners should perform the Tsog offering twice a month\, on 10th and 25th day of the Tibetan lunar calendar. The Vajrayogini Tsog offering is particularly important in the Sakya tradition. \n\n\n\nONLY FOR THOSE WHO ALREADY RECEIVED VAJRAYOGINI EMPOWERMENT FROM A QUALIFIED SAKYA MASTER.WE USE THE TSOG TEXT PREPARED BY HER EMINENCE JETSUN KUSHOK. \n\n\n\nIf you don’t have this text please practice your own Sadhana. \n\n\n\nPlease join on time\, no late arrivals. \n\n\n\nParticipation in the temple SAKYA TSECHEN LING\, KUTTOLSHEIM.  \n\n\n\nJoin us at the temple in F-67520 Kuttolsheim\, France. \n\n\n\nRegister in advance for this meeting on Zoom at least one day in advance. \n\n\n\nYou will receive a confirmation email from “Sakya Dharma Family Admin” with the Zoom link to participate (click “Click Here To Join”) on the day of the event. \n\n\n\n\nZOOM\n\n\n\n\nThis event is offered to you by Khenchen Sherab’s Sakya Dharma Family. We want to make it possible for everyone to participate\, however\, our Dharma activities are only possible thanks to your kind donations. To ensure the continuity of our activities\, please consider supporting your local center. Click HERE for the list of all our Sakya Dharma Family Centers.
URL:https://sakyapa.eu/event/vajrayoghini-tsog-offering-en-2504/
LOCATION:Sakya Tsechen Ling\, 5 Rdpt du Vignoble\, Kuttolsheim\, 67520\, France
CATEGORIES:All courses in English only,Lama Shérab Sangpo-EN,Sakya Tsechen Ling,ZOOM-EN
ATTACH;FMTTYPE=image/png:https://sakyapa.eu/wp-content/uploads/2023/10/VY.png
END:VEVENT
END:VCALENDAR