BEGIN:VCALENDAR
VERSION:2.0
PRODID:-//European Sakya Centers founded by Khenchen Sherab - ECPv6.13.2.1//NONSGML v1.0//EN
CALSCALE:GREGORIAN
METHOD:PUBLISH
X-WR-CALNAME:European Sakya Centers founded by Khenchen Sherab
X-ORIGINAL-URL:https://sakyapa.eu
X-WR-CALDESC:Events for European Sakya Centers founded by Khenchen Sherab
REFRESH-INTERVAL;VALUE=DURATION:PT1H
X-Robots-Tag:noindex
X-PUBLISHED-TTL:PT1H
BEGIN:VTIMEZONE
TZID:Europe/Zurich
BEGIN:DAYLIGHT
TZOFFSETFROM:+0100
TZOFFSETTO:+0200
TZNAME:CEST
DTSTART:20250330T010000
END:DAYLIGHT
BEGIN:STANDARD
TZOFFSETFROM:+0200
TZOFFSETTO:+0100
TZNAME:CET
DTSTART:20251026T010000
END:STANDARD
END:VTIMEZONE
BEGIN:VEVENT
DTSTART;TZID=Europe/Zurich:20250301T100000
DTEND;TZID=Europe/Zurich:20250302T153000
DTSTAMP:20260421T185030
CREATED:20250219T142002Z
LAST-MODIFIED:20250219T142005Z
UID:10002717-1740823200-1740929400@sakyapa.eu
SUMMARY:BUDDHA AMITAYUS IN NINE ASPECTS – TEACHING & INITIATION
DESCRIPTION:Teaching given by: KHENPO TASHI SANGPO \n\n\n\nDate: SAT-SUN 1-2 MARCH \n\n\n\nTime: Saturday & Sunday 10.00 – 12.00 & 13.30 – 15.30 \n\n\n\nPlace: Thupten Changchup Ling\, Arosio/CH\, NO STREAMING \n\n\n\nLanguage: EN \n\n\n\nAvailable translation: IT \n\n\n\n\nIn Vajrayana contexts\, Buddha Amitabha in his Sambhogakaya form is referred to as Buddha Amitayus\, ‘The Buddha of Boundless Life.’ He is particularly associated with longevity. The two are inseparable but appear as different manifestations.  \n\n\n\nIn the Sakya school\, the special long-life yoga associated with the Nine Aspects of Buddha Amitayus is practiced.  \n\n\n\nThis seminar coincides with the beginning of the Tibetan New Year\, which astrologically is considered a particularly challenging year. Therefore\, it is highly appropriate to transmit and receive this initiation as a means of protection for ourselves and others.Join us at the temple in Arosio (CH):Please register at least two days before the event to participate in person in Arosio (using the link below). \n\n\n\nAROSIO
URL:https://sakyapa.eu/event/buddha-amitayus-in-nine-aspects-teaching-initiation/
CATEGORIES:All courses in English only,Khenpo Tashi Sangpo-EN,Thupten Changchup Ling-EN
END:VEVENT
BEGIN:VEVENT
DTSTART;TZID=Europe/Zurich:20250304T191500
DTEND;TZID=Europe/Zurich:20250304T210000
DTSTAMP:20260421T185030
CREATED:20250216T203035Z
LAST-MODIFIED:20250219T073405Z
UID:10002621-1741115700-1741122000@sakyapa.eu
SUMMARY:DHARMA CHAKRA PROGRAM – ABHIDHARMA (22 lessons)
DESCRIPTION:Teachings by: H.H. THE 42ND SAKYA TRIZIN RATNA VAJRA RINPOCHE \n\n\n\nCourse begins 8.10.2024\, in total 22 lessons\, about 2 Tuesday evenings per month \n\n\n\nDate: 4.3. (11)\, 25.3. (12)\, 8.4. (13)\, 22.4. (14)\, 6.5. (15)\, 20.5. (16)\, \n\n\n\nTime: 19.15 – 21.00 \n\n\n\nPlace: Thupten Changchup Ling\, Arosio/CH & ZOOM \n\n\n\nLanguage: EN \n\n\n\nAvailable translations: IT\, DE\, FR\, NL \n\n\n\nPrerequisites: No prerequisites\, open to all \n\n\n\nCost: Free of charge with optional donation \n\n\n\n\n\n\n\n\nDHARMA CHAKRA PROGRAM \n\n\n\nExtended Study Program on the Essentials of Classical Buddhist Philosophy \n\n\n\nTeachings by H.H. Ratna Vajra Rinpoche \n\n\n\nFirst Year: Abhidharma \n\n\n\n19.15: Refuge and meditation on Bodhicitta \n\n\n\n19.30: Listening to teachings of H.H. Ratna Vajra Rinpoche with translation \n\n\n\n20.30: Meditation: contemplation of the topics discussed and rest in the empty presence. \n\n\n\nYou can write any questions you may have on the subject HERE. Khenpo Tashi will occasionally answer them in question-answer sessions. \n\n\n\nAbout the Program  \n\n\n\nFrom the Buddhist perspective\, engaging in the progressive steps of study\, contemplation\, and meditation acquaints us with wisdom\, empowering us with the potential to become great practitioners. The Dharma Chakra Program (DCP) is designed to provide the indispensable elements of the philosophical tradition in a succinct manner. This program is an extraordinary opportunity to develop a deep understanding of the main tenets of classical Buddhist philosophy through one of the most esteemed erudites of our time\, His Holiness the 42nd Sakya Trizin\, Ratna Vajra Rinpoche.  \n\n\n\nThis extended study program provides the everyday practitioner in the modern world with rare access to the essence of Mahayana philosophy through an unbroken lineage\, a privilege traditionally available only in monastic universities.  \n\n\n\nWhat You’ll Learn \n\n\n\nYear 1: Abhidharma  \n\n\n\nYear 2: Bodhisattvacharyavatara Chapters 1 – 6Year 3: Bodhisattvacharyavatara Chapters 7 – 10Year 4: MadhyamakaYear 5: Uttaratantra \n\n\n\nThe Dharma Chakra Program in the European centres founded by Khenchen Sherab: \n\n\n\nThe Dharma Chakra Program is an initiative of the Sachen Foundation and can be followed online in English by anyone via their dedicated website:  \n\n\n\nwww.sachenfoundation.org/dharmachakra/ \n\n\n\nIn our centres we offer about two meetings per month\, both in presence and online\, where we listen together to the teachings of H.H. Ratna Vajra Rinpoche with translation into Italian\, French\, German and Dutch. After the teachings there will be a 30-minute meditation in which we can reflect on the topics covered and then rest a while in the empty presence.  \n\n\n\nThere will be occasional question-and-answer sessions with Khenpo Tashi. Questions should be submitted through this form. On the Sachen Foundation website dedicated to this study programme\, you will find additional material in English on the topics discussed\, which we will also use in our meetings if necessary. \n\n\n\nFirst Year: Abhidharma (22 lessons) \n\n\n\n“The mind is everything. What you think\, you become.” -Vasubandhu \n\n\n\nThe Buddha’s teachings are traditionally classified into three collections: Vinaya\, Sutra\, and Abhidharma.  \n\n\n\nAbhidharma is a collection of the Buddha’s highest teachings focused on wisdom training. It examines the nature of reality\, the mind\, and mental phenomena\, guiding us toward a deeper understanding of the nature of reality. Its profound insights into the workings of consciousness and the essence of existence\, provide a comprehensive framework for understanding Buddhist psychology and philosophy across all three vehicles or yanas. \n\n\n\nIn this course\, His Holiness the 42nd Sakya Trizin will focus on the Treasury of Abhidharma or Abhidharmakośa\, authored by Vasubandhu\, a prominent Indian Buddhist scholar and master from the 4th or 5th century. Abhidharmakośa\, considered one of the thirteen great texts utilized as the core curriculum in most traditional Tibetan Buddhist centers for teaching or shedras\, serves as a seminal work in the Mahayana tradition. It provides a structured overview of Abhidharma teachings and is extensively studied by all Tibetan traditions. \n\n\n\nThe vast teachings of Abhidharma and Buddhist psychology provide a path to a clear and deep view of the nature of reality\, bringing us closer to understanding our minds and freeing ourselves from suffering. The study of\, including texts like the Abhidharmakośa\, equips practitioners with invaluable insights and tools to deepen their spiritual journey\, foster wisdom\, and lead a more meaningful and fulfilling life. \n\n\n\nThese lessons will bring you closer to: \n\n\n\n  •  A deeper understanding of your emotions and thoughts.  •  Cultivating a stable meditation practice.  •  Distilling the profound teachings of Tibetan Buddhism.  •  Learning about the doctrinal differences between the ancient Buddhist schools.  •  Exploring consciousness and mental processes.  •  Analysing the nature of reality.  •  Connecting with the law of karma\, impermanence\, and emptiness. \n\n\n\nThe reference texts can be downloaded HERE \n\n\n\nJoin us at the temple in Arosio (CH):Please register at least two days before the event to participate in person in Arosio (using the link below). \n\n\n\n\nAROSIO\n\n\n\n\n\n\n\n\nRegister in advance for this meeting on Zoom at least one day in advance.You will receive a confirmation email from “Sakya Dharma Family Admin” with the Zoom link to participate (click “Click Here To Join”) on the day of the event. \n\n\n\n\nZOOM
URL:https://sakyapa.eu/event/dharma-chakra-program-abhidharma-22-lessons-4/2025-03-04/
CATEGORIES:All courses in English only,Thupten Changchup Ling-EN,ZOOM-EN
END:VEVENT
BEGIN:VEVENT
DTSTART;TZID=Europe/Zurich:20250314T203000
DTEND;TZID=Europe/Zurich:20250314T220000
DTSTAMP:20260421T185030
CREATED:20250219T073903Z
LAST-MODIFIED:20250219T074004Z
UID:10002691-1741984200-1741989600@sakyapa.eu
SUMMARY:CHOTRUL DÜCHEN - CELEBRATION
DESCRIPTION:Guided by: KHENPO TASHI SANGPO \n\n\n\nDate: FRI 14.3. \n\n\n\nTime: Friday 20.30 – 22.00\,  \n\n\n\nPlace: Sakya Tsechen Ling\, Kuttolsheim/France & ZOOM \n\n\n\nLanguage: EN \n\n\n\nAvailable translations: FR\, SWE\, DE \n\n\n\nFree donation \n\n\n\n\nCHOTRUL DÜCHEN is one of the four great buddhist celebrations: The first fifteen days of the Tibetan year commemorate the event when Lord Buddha performed a different miracle each day to instill devotion and increase merit among heretics. \n\n\n\nProgram: \n\n\n\nShort introduction to Chotrul Düchen \n\n\n\nSutra of Remembering the Three Jewels \n\n\n\nThe Three-Part Sutra: Confession before the thirty-five Buddhas \n\n\n\nBuddha Shakyamuni prayer \n\n\n\n16 Arhat-ritual \n\n\n\nLonglife-prayers for Their Holinesses \n\n\n\nThe texts can be downloaded HERE \n\n\n\nRegister in advance for this meeting on Zoom at least one day in advance. \n\n\n\nYou will receive a confirmation email from “Sakya Dharma Family Admin” with the Zoom link to participate (click “Click Here To Join”) on the day of the event. \n\n\n\n\nZOOM
URL:https://sakyapa.eu/event/chotrul-duchen-celebration-2/
LOCATION:Sakya Tsechen Ling\, 5 Rdpt du Vignoble\, Kuttolsheim\, 67520\, France
CATEGORIES:All courses in English only,Khenpo Tashi Sangpo-EN,Sakya Tsechen Ling-EN,ZOOM-EN
ATTACH;FMTTYPE=image/jpeg:https://sakyapa.eu/wp-content/uploads/2024/01/Chotrul-Duchen-Miracles.jpg
END:VEVENT
BEGIN:VEVENT
DTSTART;TZID=Europe/Zurich:20250315T100000
DTEND;TZID=Europe/Zurich:20250316T160000
DTSTAMP:20260421T185030
CREATED:20250219T075237Z
LAST-MODIFIED:20250219T075240Z
UID:10002694-1742032800-1742140800@sakyapa.eu
SUMMARY:BUDDHA AMITAYUS - TEACHING & INITIATION
DESCRIPTION:Teachings by: KHENPO TASHI SANGPO \n\n\n\nDate: SAT-SUN / 15-16 MARCH \n\n\n\nTime: Saturday & Sunday 10.00 – 12.00 & 14.00 – 16.00 \n\n\n\nPlace: Sakya Tsechen Ling\, Kuttolsheim/France\, NO STREAMING \n\n\n\nLanguage: EN \n\n\n\nAvailable translations: FR \n\n\n\n\nIn Vajrayana contexts\, Buddha Amitabha in his Sambhogakaya form is referred to as Buddha Amitayus\, ‘The Buddha of Boundless Life.’ He is particularly associated with longevity. The two are inseparable but appear as different manifestations.  \n\n\n\nIn the Sakya school\, the special long-life yoga associated with the Nine Aspects of Buddha Amitayus is practiced.  \n\n\n\nThis seminar coincides with the beginning of the Tibetan New Year\, which astrologically is considered a particularly challenging year. Therefore\, it is highly appropriate to transmit and receive this initiation as a means of protection for ourselves and others.Registration To come to the STL temple\, Kuttolsheim (FR)\, please register a few days in advance for this event using the link below. \n\n\n\nKUTTOLSHEIM
URL:https://sakyapa.eu/event/buddha-amitayus-teaching-initiation/
CATEGORIES:All courses in English only,Khenpo Tashi Sangpo-EN,Sakya Tsechen Ling-EN,ZOOM-EN
END:VEVENT
BEGIN:VEVENT
DTSTART;TZID=Europe/Zurich:20250316T070000
DTEND;TZID=Europe/Zurich:20250316T080000
DTSTAMP:20260421T185030
CREATED:20250219T080010Z
LAST-MODIFIED:20250219T080014Z
UID:10002697-1742108400-1742112000@sakyapa.eu
SUMMARY:TARA RITUAL
DESCRIPTION:Time: 7.00 – 8.00 \n\n\n\nGuide: Lama Sherab Sangpo \n\n\n\nPlace: Sakya Tsechen Ling & ZOOM \n\n\n\nFree donation \n\n\n\n\nTara\, the Liberator\, is a very important female Deity in Tibet. Her nature is that of great compassion indivisible from wisdom\, and she is always ready to quickly pacify all obstacles\, illnesses\, difficulties and suffering. These practices are carried out for the universal peace in general\, and for the fast dissolution of the current pandemic in particular. \n\n\n\nThe Thangtong Gyalpo Prayer can be downloaded HERE. \n\n\n\nRegister in advance for this meeting on Zoom at least one day in advance. \n\n\n\nYou will receive a confirmation email from “Sakya Dharma Family Admin” with the Zoom link to participate (click “Click Here To Join”) on the day of the event. \n\n\n\n\nZOOM
URL:https://sakyapa.eu/event/tara-ritual-13/
LOCATION:Sakya Tsechen Ling\, 5 Rdpt du Vignoble\, Kuttolsheim\, 67520\, France
CATEGORIES:All courses in English only,Khenpo Tashi Sangpo-EN,Sakya Tsechen Ling-EN,ZOOM-EN
ATTACH;FMTTYPE=image/webp:https://sakyapa.eu/wp-content/uploads/2023/10/2.webp
END:VEVENT
BEGIN:VEVENT
DTSTART;TZID=Europe/Zurich:20250322T100000
DTEND;TZID=Europe/Zurich:20250323T160000
DTSTAMP:20260421T185030
CREATED:20250219T133711Z
LAST-MODIFIED:20250310T184329Z
UID:10002705-1742637600-1742745600@sakyapa.eu
SUMMARY:Amitayus- TEACHINGS & INITIATION
DESCRIPTION:Teaching given by: KHENPO TASHI SANGPO \n\n\n\nDate: SAT-SUN 22-23 MARCH \n\n\n\nTime: SAT 10.00 -12.00 & 15.00 -17.00\, SUN 10.00 -12.00 & 14.30 -16.30 \n\n\n\nPlace: Sala ACTIS\, via Corti 3\, Trieste \n\n\n\nLanguage: EN \n\n\n\nAvailable translation: IT \n\n\n\n\nIn Vajrayana contexts\, Buddha Amitabha in his Sambhogakaya form is referred to as Buddha Amitayus\, ‘The Buddha of Boundless Life.’ He is particularly associated with longevity. The two are inseparable but appear as different manifestations.  \n\n\n\nIn the Sakya school\, the special long-life yoga associated with the Nine Aspects of Buddha Amitayus is practiced.  \n\n\n\nThis seminar coincides with the beginning of the Tibetan New Year\, which astrologically is considered a particularly challenging year. Therefore\, it is highly appropriate to transmit and receive this initiation as a means of protection for ourselves and others. \n\n\n\nThose interested are asked to register in advance at the Centre. \n\n\n\nFor information and seminar registration  \n\n\n\ntel. 0039/40 571048 – sakyatrieste@gmail.com
URL:https://sakyapa.eu/event/bhutadamara-teachings-initiation/
CATEGORIES:All courses in English only,Khenpo Tashi Sangpo-EN,ZOOM-EN
END:VEVENT
BEGIN:VEVENT
DTSTART;TZID=Europe/Zurich:20250324T191500
DTEND;TZID=Europe/Zurich:20250324T204500
DTSTAMP:20260421T185030
CREATED:20250219T134426Z
LAST-MODIFIED:20250310T185544Z
UID:10002708-1742843700-1742849100@sakyapa.eu
SUMMARY:VAJRAYOGHINI TSOG OFFERING
DESCRIPTION:Time: 19.15 – 20.45​ \n\n\n\nGuided by: Lama Sherab Sangpo \n\n\n\n\nThe Tsog ritual is a fast method for the accumulation of merit and wisdom through a group practice of making offerings to special deities. Vajrayana practitioners should perform the Tsog offering twice a month\, on 10th and 25th day of the Tibetan lunar calendar. The Vajrayogini Tsog offering is particularly important in the Sakya tradition. \n\n\n\nONLY FOR THOSE WHO ALREADY RECEIVED VAJRAYOGINI EMPOWERMENT FROM A QUALIFIED SAKYA MASTER.WE USE THE TSOG TEXT PREPARED BY HER EMINENCE JETSUN KUSHOK. \n\n\n\nIf you don’t have this text please practice your own Sadhana. \n\n\n\nPlease join on time\, no late arrivals. \n\n\n\nParticipation in the temple SAKYA TSECHEN LING\, KUTTOLSHEIM.  \n\n\n\nJoin us at the temple in F-67520 Kuttolsheim\, France. \n\n\n\nRegister in advance for this meeting on Zoom at least one day in advance. \n\n\n\nYou will receive a confirmation email from “Sakya Dharma Family Admin” with the Zoom link to participate (click “Click Here To Join”) on the day of the event. \n\n\n\n\nZOOM\n\n\n\n\nThis event is offered to you by Khenchen Sherab’s Sakya Dharma Family. We want to make it possible for everyone to participate\, however\, our Dharma activities are only possible thanks to your kind donations. To ensure the continuity of our activities\, please consider supporting your local center. Click HERE for the list of all our Sakya Dharma Family Centers.
URL:https://sakyapa.eu/event/vajrayoghini-tsog-offering-en-2503/
LOCATION:Sakya Tsechen Ling\, 5 Rdpt du Vignoble\, Kuttolsheim\, 67520\, France
CATEGORIES:All courses in English only,Lama Shérab Sangpo-EN,Sakya Tsechen Ling,ZOOM-EN
ATTACH;FMTTYPE=image/png:https://sakyapa.eu/wp-content/uploads/2023/10/VY.png
END:VEVENT
BEGIN:VEVENT
DTSTART;TZID=Europe/Zurich:20250325T191500
DTEND;TZID=Europe/Zurich:20250325T210000
DTSTAMP:20260421T185030
CREATED:20250216T203035Z
LAST-MODIFIED:20250219T073405Z
UID:10002622-1742930100-1742936400@sakyapa.eu
SUMMARY:DHARMA CHAKRA PROGRAM – ABHIDHARMA (22 lessons)
DESCRIPTION:Teachings by: H.H. THE 42ND SAKYA TRIZIN RATNA VAJRA RINPOCHE \n\n\n\nCourse begins 8.10.2024\, in total 22 lessons\, about 2 Tuesday evenings per month \n\n\n\nDate: 4.3. (11)\, 25.3. (12)\, 8.4. (13)\, 22.4. (14)\, 6.5. (15)\, 20.5. (16)\, \n\n\n\nTime: 19.15 – 21.00 \n\n\n\nPlace: Thupten Changchup Ling\, Arosio/CH & ZOOM \n\n\n\nLanguage: EN \n\n\n\nAvailable translations: IT\, DE\, FR\, NL \n\n\n\nPrerequisites: No prerequisites\, open to all \n\n\n\nCost: Free of charge with optional donation \n\n\n\n\n\n\n\n\nDHARMA CHAKRA PROGRAM \n\n\n\nExtended Study Program on the Essentials of Classical Buddhist Philosophy \n\n\n\nTeachings by H.H. Ratna Vajra Rinpoche \n\n\n\nFirst Year: Abhidharma \n\n\n\n19.15: Refuge and meditation on Bodhicitta \n\n\n\n19.30: Listening to teachings of H.H. Ratna Vajra Rinpoche with translation \n\n\n\n20.30: Meditation: contemplation of the topics discussed and rest in the empty presence. \n\n\n\nYou can write any questions you may have on the subject HERE. Khenpo Tashi will occasionally answer them in question-answer sessions. \n\n\n\nAbout the Program  \n\n\n\nFrom the Buddhist perspective\, engaging in the progressive steps of study\, contemplation\, and meditation acquaints us with wisdom\, empowering us with the potential to become great practitioners. The Dharma Chakra Program (DCP) is designed to provide the indispensable elements of the philosophical tradition in a succinct manner. This program is an extraordinary opportunity to develop a deep understanding of the main tenets of classical Buddhist philosophy through one of the most esteemed erudites of our time\, His Holiness the 42nd Sakya Trizin\, Ratna Vajra Rinpoche.  \n\n\n\nThis extended study program provides the everyday practitioner in the modern world with rare access to the essence of Mahayana philosophy through an unbroken lineage\, a privilege traditionally available only in monastic universities.  \n\n\n\nWhat You’ll Learn \n\n\n\nYear 1: Abhidharma  \n\n\n\nYear 2: Bodhisattvacharyavatara Chapters 1 – 6Year 3: Bodhisattvacharyavatara Chapters 7 – 10Year 4: MadhyamakaYear 5: Uttaratantra \n\n\n\nThe Dharma Chakra Program in the European centres founded by Khenchen Sherab: \n\n\n\nThe Dharma Chakra Program is an initiative of the Sachen Foundation and can be followed online in English by anyone via their dedicated website:  \n\n\n\nwww.sachenfoundation.org/dharmachakra/ \n\n\n\nIn our centres we offer about two meetings per month\, both in presence and online\, where we listen together to the teachings of H.H. Ratna Vajra Rinpoche with translation into Italian\, French\, German and Dutch. After the teachings there will be a 30-minute meditation in which we can reflect on the topics covered and then rest a while in the empty presence.  \n\n\n\nThere will be occasional question-and-answer sessions with Khenpo Tashi. Questions should be submitted through this form. On the Sachen Foundation website dedicated to this study programme\, you will find additional material in English on the topics discussed\, which we will also use in our meetings if necessary. \n\n\n\nFirst Year: Abhidharma (22 lessons) \n\n\n\n“The mind is everything. What you think\, you become.” -Vasubandhu \n\n\n\nThe Buddha’s teachings are traditionally classified into three collections: Vinaya\, Sutra\, and Abhidharma.  \n\n\n\nAbhidharma is a collection of the Buddha’s highest teachings focused on wisdom training. It examines the nature of reality\, the mind\, and mental phenomena\, guiding us toward a deeper understanding of the nature of reality. Its profound insights into the workings of consciousness and the essence of existence\, provide a comprehensive framework for understanding Buddhist psychology and philosophy across all three vehicles or yanas. \n\n\n\nIn this course\, His Holiness the 42nd Sakya Trizin will focus on the Treasury of Abhidharma or Abhidharmakośa\, authored by Vasubandhu\, a prominent Indian Buddhist scholar and master from the 4th or 5th century. Abhidharmakośa\, considered one of the thirteen great texts utilized as the core curriculum in most traditional Tibetan Buddhist centers for teaching or shedras\, serves as a seminal work in the Mahayana tradition. It provides a structured overview of Abhidharma teachings and is extensively studied by all Tibetan traditions. \n\n\n\nThe vast teachings of Abhidharma and Buddhist psychology provide a path to a clear and deep view of the nature of reality\, bringing us closer to understanding our minds and freeing ourselves from suffering. The study of\, including texts like the Abhidharmakośa\, equips practitioners with invaluable insights and tools to deepen their spiritual journey\, foster wisdom\, and lead a more meaningful and fulfilling life. \n\n\n\nThese lessons will bring you closer to: \n\n\n\n  •  A deeper understanding of your emotions and thoughts.  •  Cultivating a stable meditation practice.  •  Distilling the profound teachings of Tibetan Buddhism.  •  Learning about the doctrinal differences between the ancient Buddhist schools.  •  Exploring consciousness and mental processes.  •  Analysing the nature of reality.  •  Connecting with the law of karma\, impermanence\, and emptiness. \n\n\n\nThe reference texts can be downloaded HERE \n\n\n\nJoin us at the temple in Arosio (CH):Please register at least two days before the event to participate in person in Arosio (using the link below). \n\n\n\n\nAROSIO\n\n\n\n\n\n\n\n\nRegister in advance for this meeting on Zoom at least one day in advance.You will receive a confirmation email from “Sakya Dharma Family Admin” with the Zoom link to participate (click “Click Here To Join”) on the day of the event. \n\n\n\n\nZOOM
URL:https://sakyapa.eu/event/dharma-chakra-program-abhidharma-22-lessons-4/2025-03-25/
CATEGORIES:All courses in English only,Thupten Changchup Ling-EN,ZOOM-EN
END:VEVENT
BEGIN:VEVENT
DTSTART;TZID=Europe/Zurich:20250328T193000
DTEND;TZID=Europe/Zurich:20250330T163000
DTSTAMP:20260421T185030
CREATED:20250219T140041Z
LAST-MODIFIED:20250219T140335Z
UID:10002714-1743190200-1743352200@sakyapa.eu
SUMMARY:BHUTADAMARA - TEACHINGS & INITIATION
DESCRIPTION:Teachings by: KHENPO TASHI SANGPO \n\n\n\nDate: FRI-SUN / 28 – 30 MARCH \n\n\n\nTime: Friday: 19:30 – 21:00 hrs.  \n\n\n\nSat/Sun: 10:00-12:00 & 14:30-16:30 hrs. \n\n\n\nPlace: Sakya Thegchen Ling\, Den Haag/The Netherlands \n\n\n\nLanguage: EN \n\n\n\nAvailable translations: NL \n\n\n\n\nBhutadamara is a manifestation of Vajrapani\, the ‘holder of the vajra’ and an important bodhisattva in Tibetan Buddhism. Bhutadamara protects against obstacles and negative forces on the path to enlightenment. ‘Bhutadamara’ means subduer of demonic forces. Despite his wrathful appearance\, he stems from compassion. His activity is aimed at liberating beings from suffering\, through a practice of both power and compassion. \n\n\n\nIn the Sakya tradition\, Bhutadamara’s retreat is completed at the beginning of the path\, even before preparatory practices (Ngondro) or retreats to purify karmic obstacles (Ley rung). \n\n\n\nStreaming is offered to those living far away or unable to come to the centre because of sickness or other valid reasons. The Sunday morning (initiation) is not streamed. \n\n\n\nCONTRIBUTION \n\n\n\nAt the temple: €15 per half-day (minima €7) or €75 (minima €35) for the whole weekend. Online: € 7 per half-day session (minima € 3). If this contribution is still too burdensome\, please contact the treasurer of Sakya Thegchen Ling about this.Click here to Register
URL:https://sakyapa.eu/event/bhutadamara-teachings-initiation-2/
CATEGORIES:All courses in English only,Khenpo Tashi Sangpo-EN,Sakya Thegchen Ling-EN
END:VEVENT
END:VCALENDAR