BEGIN:VCALENDAR
VERSION:2.0
PRODID:-//European Sakya Centers founded by Khenchen Sherab - ECPv6.13.2.1//NONSGML v1.0//EN
CALSCALE:GREGORIAN
METHOD:PUBLISH
X-ORIGINAL-URL:https://sakyapa.eu
X-WR-CALDESC:Events for European Sakya Centers founded by Khenchen Sherab
REFRESH-INTERVAL;VALUE=DURATION:PT1H
X-Robots-Tag:noindex
X-PUBLISHED-TTL:PT1H
BEGIN:VTIMEZONE
TZID:Europe/Zurich
BEGIN:DAYLIGHT
TZOFFSETFROM:+0100
TZOFFSETTO:+0200
TZNAME:CEST
DTSTART:20240331T010000
END:DAYLIGHT
BEGIN:STANDARD
TZOFFSETFROM:+0200
TZOFFSETTO:+0100
TZNAME:CET
DTSTART:20241027T010000
END:STANDARD
END:VTIMEZONE
BEGIN:VEVENT
DTSTART;TZID=Europe/Zurich:20241012T100000
DTEND;TZID=Europe/Zurich:20241013T153000
DTSTAMP:20260420T131716
CREATED:20240923T100145Z
LAST-MODIFIED:20240923T102401Z
UID:10001569-1728727200-1728833400@sakyapa.eu
SUMMARY:THE THREE TURNINGS OF THE DHARMA WHEEL\, part 3: LUMINOUS MIND AND THE THREE NATURES
DESCRIPTION:Teachings by: CHRISTIAN BERNERT \n\n\n\nDate: SAT-SUN 12./13. October 2024 \n\n\n\nTime: Saturday & Sunday 10.00 – 12.00 & 13.30 – 15.30 \n\n\n\nPlace: Thupten Changchup Ling\, Arosio/CH & ZOOM \n\n\n\nLanguage: EN \n\n\n\nAvailable translation: IT \n\n\n\nSuggested donation: 30 CHF / 25€ \n\n\n\n\nThe Three Turnings of the Dharma Wheel \n\n\n\nTo guide his disciples to liberation and awakening\, the Buddha’s gave a wide range of teachings adapted to their individual needs and capacities. These teachings were later grouped together into three classes of teachings referred to as the Three Turnings of the Dharma Wheel\, each turning revealing another essential dimension of the path. In the summer seminars over the course of the next three years (2022-2024)\, we will discuss each of these classes of teachings in turn.  \n\n\n\n2022: The Three Turnings of the Dharma Wheel\, part 1: Freedom from Samsara \n\n\n\nIn the First Turning of the Dharma Wheel\, the main topic of the Buddha’s teaching is the Four Noble Truths. This teaching is the foundation for the entire system of Buddhist thought and practice of all traditions and lineages. In this seminar\, the discussion of this topic will be supported by a reading of the Sutra of the Turning of the Dharma Wheel and explore important related aspects of the Abhidharma teachings. \n\n\n\n2023: The Three Turnings of the Dharma Wheel\, part 2: The Absence of Characteristics \n\n\n\nThe special topic of the Second Turning of the Dharma Wheel is the profound wisdom of emptiness. This was expounded at great length in the Perfection of Wisdoms Sūtras and later commented upon by many great masters\, most notably Ārya Nāgārjuna and the teachers of the Madhyamaka school. \n\n\n\nIn this seminar we will explore the notion of reality as taught in the Sūtra of Perfection of Wisdom. Our study of the ‘Heart Sūtra’ will be based on a commentary by a great Sakya master\, Rongton Sheja Kunrig\, and accompanied by an introduction to the middle way school (Madhyamaka). \n\n\n\n2024: The Three Turnings of the Dharma Wheel\, part 3: Luminous Mind and the Three Natures \n\n\n\nIn the Third Turning of the Dharma Wheel\, the Buddha taught what is known as the definitive meaning of his teachings. In this class of teachings\, the Buddha revealed extraordinary teachings on the mind\, buddha nature and profound ways to understand conventional and ultimate reality\, in this way complementing the earlier teachings. The exploration of this topic will be supported by readings from the Sūtra on Buddha Nature\, the Sūtra on the Descent into Lanka\, and the Sūtra Unraveling the Intent. \n\n\n\nChristian Bernert \n\n\n\nOf Franco-Austrian background\, Christian grew up in Vienna and lived for about five years in Kathmandu. His connection with the Buddhadharma was formally forged in 1999 under the guidance of his first teacher\, the late Khenchen Sherab Gyaltsen Amipa Rinpoche. He received an MA in religious studies and Tibetology from the University of Vienna in 2009\, followed by a two-year translator training at the International Buddhist Academy (IBA) in Kathmandu\, where he had participated in yearly summer programs since its inception in 2001. A founding member of the Chödung Karmo Translation Group\, the vision of which is the translation of important works of the Sakya tradition\, he continues to work closely with IBA. He currently coordinates for IBA The Complete Path program with His Holiness the 42nd Sakya Trizin Ratna Vajra\, a seven-year course on the core theory and practice of the Sakya lineage. In 2021 he joined the in-house translators team of the Khyentse Vision Project\, the mission of which is the translation of the collected works of Jamyang Khyentse Wangpo.   \n\n\n\nChristian has published translations of classical Tibetan texts on Buddhist thought and practice\, as well as teachings of contemporary masters. His publications include Words of a Gentle Sage: Collected Teachings of Khenchen Appey Rinpoche\, Vol. 1 (2018)\, Adorning Maitreya’s Intent: A Commentary on the Madhyāntavibhāga by Rongtön Sheja Kunrik (2017)\, and various sūtras for 84000. \n\n\n\nChristian currently lives in Hoi An\, Vietnam. In his spare time\, he looks after another project close to his heart—the Bodhisvara Project—recordings of classical Buddhist texts chanted in Sanskrit. Join us at the temple in Arosio (CH): \n\n\n\nPlease register at least two days before the event to participate in person in Arosio (using the link below). \n\n\n\n\nAROSIO\n\n\n\n\nRegister in advance for this meeting on Zoom at least one day in advance. \n\n\n\nYou will receive a confirmation email from “Sakya Dharma Family Admin” with the Zoom link to participate (click “Click Here To Join”) on the day of the event. \n\n\n\n\nZOOM
URL:https://sakyapa.eu/event/the-three-turnings-of-the-dharma-wheel-part-3-luminous-mind-and-the-three-natures/
CATEGORIES:All courses in English only,Christian Bernert-EN,Thupten Changchup Ling-EN,ZOOM-EN
ATTACH;FMTTYPE=image/jpeg:https://sakyapa.eu/wp-content/uploads/2023/10/images-1.jpeg
END:VEVENT
BEGIN:VEVENT
DTSTART;TZID=Europe/Zurich:20241020T070000
DTEND;TZID=Europe/Zurich:20241020T080000
DTSTAMP:20260420T131716
CREATED:20240924T052521Z
LAST-MODIFIED:20240924T052747Z
UID:10001572-1729407600-1729411200@sakyapa.eu
SUMMARY:TARA RITUAL
DESCRIPTION:Time: 7.00 – 8.00 \n\n\n\nGuide: Lama Sherab Sangpo \n\n\n\nPlace: Sakya Tsechen Ling & ZOOM \n\n\n\nFree donation \n\n\n\n\nTara\, the Liberator\, is a very important female Deity in Tibet. Her nature is that of great compassion indivisible from wisdom\, and she is always ready to quickly pacify all obstacles\, illnesses\, difficulties and suffering. These practices are carried out for the universal peace in general\, and for the fast dissolution of the current pandemic in particular. \n\n\n\nThe Thangtong Gyalpo Prayer can be downloaded HERE. \n\n\n\nRegister in advance for this meeting on Zoom at least one day in advance. \n\n\n\nYou will receive a confirmation email from “Sakya Dharma Family Admin” with the Zoom link to participate (click “Click Here To Join”) on the day of the event. \n\n\n\n\nZOOM
URL:https://sakyapa.eu/event/tara-ritual-11/
LOCATION:Sakya Tsechen Ling\, 5 Rdpt du Vignoble\, Kuttolsheim\, 67520\, France
CATEGORIES:All courses in English only,Lama Shérab Sangpo-EN,Thupten Changchup Ling-EN,ZOOM-EN
ATTACH;FMTTYPE=image/webp:https://sakyapa.eu/wp-content/uploads/2023/10/2.webp
END:VEVENT
BEGIN:VEVENT
DTSTART;TZID=Europe/Zurich:20241022T191500
DTEND;TZID=Europe/Zurich:20241022T210000
DTSTAMP:20260420T131716
CREATED:20240924T055043Z
LAST-MODIFIED:20240924T133517Z
UID:10001587-1729624500-1729630800@sakyapa.eu
SUMMARY:«THE JEWEL LAMP” A PRAISE OF BODHICITTA BY KHUNU RINPOCHE (1895 – 1977)\, FOLLOWED BY MEDITATION ON BODHICITTA
DESCRIPTION:Teachings by: KHENPO TASHI SANGPO \n\n\n\nDate: TUE 22.10.\, 29.10. \n\n\n\nTime: 19.15 – 21.00 \n\n\n\nPlace: Thupten Changchup Ling\, Arosio/CH & ZOOM \n\n\n\nLanguage: EN \n\n\n\nAvailable translation: IT\, DE\, SWE \n\n\n\nFree donation \n\n\n\n\nFrom Shantideva’s Bodhisattvacharyavatara:  \n\n\n\n‘Anything positive in this world comes from the altruistic mind\, anything negative in this world comes from selfishness. What need is there to add more?  \n\n\n\nOrdinary beings act only for their own sake\, Buddhas act for the sake of others. That is the difference between these two.’Join us at the temple in Arosio (CH): \n\n\n\nPlease register at least two days before the event to participate in person in Arosio (using the link below). \n\n\n\n\nAROSIO\n\n\n\n\nRegister in advance for this meeting on Zoom at least one day in advance. \n\n\n\nYou will receive a confirmation email from “Sakya Dharma Family Admin” with the Zoom link to participate (click “Click Here To Join”) on the day of the event. \n\n\n\n\nZOOM
URL:https://sakyapa.eu/event/the-jewel-lamp-a-praise-of-bodhicitta-by-khunu-rinpoche-1895-1977-followed-by-meditation-on-bodhicitta/2024-10-22/
CATEGORIES:All courses in English only,Khenpo Tashi Sangpo-EN,Thupten Changchup Ling-EN,ZOOM-EN
END:VEVENT
BEGIN:VEVENT
DTSTART;TZID=Europe/Zurich:20241026T191500
DTEND;TZID=Europe/Zurich:20241026T204500
DTSTAMP:20260420T131716
CREATED:20240926T080914Z
LAST-MODIFIED:20240926T080917Z
UID:10001642-1729970100-1729975500@sakyapa.eu
SUMMARY:VAJRAYOGHINI TSOG OFFERING
DESCRIPTION:Time: 19.15 – 20.45​ \n\n\n\nGuided by: Lama Sherab Sangpo \n\n\n\n\nThe Tsog ritual is a fast method for the accumulation of merit and wisdom through a group practice of making offerings to special deities. Vajrayana practitioners should perform the Tsog offering twice a month\, on 10th and 25th day of the Tibetan lunar calendar. The Vajrayogini Tsog offering is particularly important in the Sakya tradition. \n\n\n\nONLY FOR THOSE WHO ALREADY RECEIVED VAJRAYOGINI EMPOWERMENT FROM A QUALIFIED SAKYA MASTER.WE USE THE TSOG TEXT PREPARED BY HER EMINENCE JETSUN KUSHOK. \n\n\n\nIf you don’t have this text please practice your own Sadhana. \n\n\n\nPlease join on time\, no late arrivals. \n\n\n\nParticipation in the temple SAKYA TSECHEN LING\, KUTTOLSHEIM.  \n\n\n\nJoin us at the temple in F-67520 Kuttolsheim\, France\, for this event. No registration needed. \n\n\n\nRegister in advance for this meeting on Zoom at least one day in advance. \n\n\n\nYou will receive a confirmation email from “Sakya Dharma Family Admin” with the Zoom link to participate (click “Click Here To Join”) on the day of the event. \n\n\n\n\nZOOM\n\n\n\n\nThis event is offered to you by Khenchen Sherab’s Sakya Dharma Family. We want to make it possible for everyone to participate\, however\, our Dharma activities are only possible thanks to your kind donations. To ensure the continuity of our activities\, please consider supporting your local center. Click HERE for the list of all our Sakya Dharma Family Centers.
URL:https://sakyapa.eu/event/vajrayoghini-tsog-offering-12/
LOCATION:Sakya Tsechen Ling\, 5 Rdpt du Vignoble\, Kuttolsheim\, 67520\, France
CATEGORIES:All courses in English only,Lama Shérab Sangpo,Sakya Tsechen Ling,ZOOM
ATTACH;FMTTYPE=image/png:https://sakyapa.eu/wp-content/uploads/2023/10/VY.png
END:VEVENT
BEGIN:VEVENT
DTSTART;TZID=Europe/Zurich:20241029T191500
DTEND;TZID=Europe/Zurich:20241029T210000
DTSTAMP:20260420T131716
CREATED:20240924T055043Z
LAST-MODIFIED:20240924T133517Z
UID:10001624-1730229300-1730235600@sakyapa.eu
SUMMARY:«THE JEWEL LAMP” A PRAISE OF BODHICITTA BY KHUNU RINPOCHE (1895 – 1977)\, FOLLOWED BY MEDITATION ON BODHICITTA
DESCRIPTION:Teachings by: KHENPO TASHI SANGPO \n\n\n\nDate: TUE 22.10.\, 29.10. \n\n\n\nTime: 19.15 – 21.00 \n\n\n\nPlace: Thupten Changchup Ling\, Arosio/CH & ZOOM \n\n\n\nLanguage: EN \n\n\n\nAvailable translation: IT\, DE\, SWE \n\n\n\nFree donation \n\n\n\n\nFrom Shantideva’s Bodhisattvacharyavatara:  \n\n\n\n‘Anything positive in this world comes from the altruistic mind\, anything negative in this world comes from selfishness. What need is there to add more?  \n\n\n\nOrdinary beings act only for their own sake\, Buddhas act for the sake of others. That is the difference between these two.’Join us at the temple in Arosio (CH): \n\n\n\nPlease register at least two days before the event to participate in person in Arosio (using the link below). \n\n\n\n\nAROSIO\n\n\n\n\nRegister in advance for this meeting on Zoom at least one day in advance. \n\n\n\nYou will receive a confirmation email from “Sakya Dharma Family Admin” with the Zoom link to participate (click “Click Here To Join”) on the day of the event. \n\n\n\n\nZOOM
URL:https://sakyapa.eu/event/the-jewel-lamp-a-praise-of-bodhicitta-by-khunu-rinpoche-1895-1977-followed-by-meditation-on-bodhicitta/2024-10-29/
CATEGORIES:All courses in English only,Khenpo Tashi Sangpo-EN,Thupten Changchup Ling-EN,ZOOM-EN
END:VEVENT
BEGIN:VEVENT
DTSTART;TZID=Europe/Zurich:20241029T191500
DTEND;TZID=Europe/Zurich:20241029T210000
DTSTAMP:20260420T131716
CREATED:20250912T120907Z
LAST-MODIFIED:20250912T120910Z
UID:10003790-1730229300-1730235600@sakyapa.eu
SUMMARY:«THE JEWEL LAMP” A PRAISE OF BODHICITTA BY KHUNU RINPOCHE (1895 – 1977)\, FOLLOWED BY MEDITATION ON BODHICITTA
DESCRIPTION:Teachings by: KHENPO TASHI SANGPO \n\n\n\nDate: TUE 7.10. \n\n\n\nTime: 19.15 – 21.00 \n\n\n\nPlace: Thupten Changchup Ling\, Arosio/CH & ZOOM \n\n\n\nLanguage: EN \n\n\n\nAvailable translation: IT\, SWE \n\n\n\nFree donation \n\n\n\n\nFrom Shantideva’s Bodhisattvacharyavatara:  \n\n\n\n‘Anything positive in this world comes from the altruistic mind\, anything negative in this world comes from selfishness. What need is there to add more?  \n\n\n\nOrdinary beings act only for their own sake\, Buddhas act for the sake of others. That is the difference between these two.’Join us at the temple in Arosio (CH): \n\n\n\nPlease register at least two days before the event to participate in person in Arosio (using the link below). \n\n\n\n\nAROSIO\n\n\n\n\nRegister in advance for this meeting on Zoom at least one day in advance. \n\n\n\nYou will receive a confirmation email from “Sakya Dharma Family Admin” with the Zoom link to participate (click “Click Here To Join”) on the day of the event. \n\n\n\n\nZOOM
URL:https://sakyapa.eu/event/the-jewel-lamp-a-praise-of-bodhicitta-by-khunu-rinpoche-1895-1977-followed-by-meditation-on-bodhicitta-2/2024-10-29/
CATEGORIES:All courses in English only,Khenpo Tashi Sangpo-EN,Thupten Changchup Ling-EN,ZOOM-EN
END:VEVENT
END:VCALENDAR