BEGIN:VCALENDAR
VERSION:2.0
PRODID:-//European Sakya Centers founded by Khenchen Sherab - ECPv6.13.2.1//NONSGML v1.0//EN
CALSCALE:GREGORIAN
METHOD:PUBLISH
X-ORIGINAL-URL:https://sakyapa.eu
X-WR-CALDESC:Events for European Sakya Centers founded by Khenchen Sherab
REFRESH-INTERVAL;VALUE=DURATION:PT1H
X-Robots-Tag:noindex
X-PUBLISHED-TTL:PT1H
BEGIN:VTIMEZONE
TZID:Europe/Zurich
BEGIN:DAYLIGHT
TZOFFSETFROM:+0100
TZOFFSETTO:+0200
TZNAME:CEST
DTSTART:20240331T010000
END:DAYLIGHT
BEGIN:STANDARD
TZOFFSETFROM:+0200
TZOFFSETTO:+0100
TZNAME:CET
DTSTART:20241027T010000
END:STANDARD
END:VTIMEZONE
BEGIN:VEVENT
DTSTART;TZID=Europe/Zurich:20240817T163000
DTEND;TZID=Europe/Zurich:20240824T100000
DTSTAMP:20260419T212857
CREATED:20240608T112108Z
LAST-MODIFIED:20240608T112227Z
UID:10001370-1723912200-1724493600@sakyapa.eu
SUMMARY:1-WEEK SUMMER RETREAT ON WHITE TARA
DESCRIPTION:Teachings by: KHENPO TASHI SANGPO \n\n\n\nDate: SAT 17.8. – SAT 24.8.2024 \n\n\n\nTime: Saturday 17.8. at 16.00 – Saturday 24.8. after breakfast \n\n\n\nPlace: Sakya Tsechen Ling\, Kuttolsheim/France & ZOOM \n\n\n\n\nFollowing the conferral of the uncommon White Tara initiation by His Holiness the 42nd Sakya Trizin Rinpoche and the receipt of profound blessings\, the Sakya Tsechen Ling Institute is pleased to organise this White Tara summer retreat\, which is dedicated to the longevity of His Holiness Kyabgön Gongma Sakya Trichen Rinpoche on the occasion of His 80th birthday. \n\n\n\nDuring this retreat we focus on the practice of White Tara. In the beginning of the daily fourth session there will be teachings on the sadhana.  \n\n\n\nPARTICIPATION PREREQUISITES FOR TEACHINGS & MEDITATION SESSIONS: \n\n\n\n\nAlready having received the initiation of White Tara from Their Holinesses\, or from another qualified master.\n\n\n\n OR participation in the initiation of White Tara conferred by Khenpo Tashi Sangpo at the beginning of the retreat on 17.8. at 16.00 o’clock to the participants in the temple (without streaming)\n\n\n\n\nTRANSLATIONS: \n\n\n\nThe teachings will be given in English and translated into French.  \n\n\n\nTranslations in another language – Italian\, German\, and Dutch – will be arranged if we receive a min. number of requests per language by 3rd August 2024. \n\n\n\nPROGRAM OF THE RETREAT: \n\n\n\nSaturday 17 August 2024 \n\n\n\n16.00 – 18.00 Initiation White Tara (no streaming\, only for participants in the temple) \n\n\n\n18.30 – 20.00 First meditation session on White Tara \n\n\n\nSunday 18.8. – Friday 23.8.2024 \n\n\n\n07.00 – 08.00 Meditation on White Tara \n\n\n\n10.00 – 11.30 Meditation on White Tara \n\n\n\n14.00 – 15.30 Meditation on White Tara \n\n\n\n17.00 – 18.00 Teaching on the sadhana of White Tara  \n\n\n\n18.00 – 19.00 Meditation on White Tara & Mahakala ritual. \n\n\n\nSaturday 24 August 2024 \n\n\n\n07.00 – 08.00 Meditation on White Tara & Long-life prayers for Their Holinesses  \n\n\n\nEnd of the retreat. \n\n\n\n10.00 – 11.00 Tara Ritual (optional) \n\n\n\nCONTRIBUTION:  \n\n\n\nMin. € 70.- for online or on-site retreat (not including food and accommodation).  \n\n\n\nFor on-site retreat\, and after pre-registering specifying your wishes for accommodation and meals\, you will receive a specific email indicating your contribution to the costs. \n\n\n\nYou can make your payment in one of the ways described at https://sakyatsechenling.eu/en/online-payment/ . \n\n\n\nWe thank you much in advance. \n\n\n\nREGISTRATION & PARTICIPATION LINK: \n\n\n\nIn order to participate\, we invite you to register by clicking HERE FOR ONLINE RETREAT or HERE FOR ON-SITE RETREAT until 3rd August at the latest.  \n\n\n\nThose who wish to participate on-site are invited to register early as the number of places is limited. \n\n\n\nTogether with the receipt/confirmation of your registration you will receive further information and for online retreat the participation link.
URL:https://sakyapa.eu/event/1-week-summer-retreat-on-white-tara/
LOCATION:Sakya Tsechen Ling\, 5 Rdpt du Vignoble\, Kuttolsheim\, 67520\, France
CATEGORIES:All courses in English only,Khenpo Tashi Sangpo-EN,Sakya Tsechen Ling-EN,ZOOM-EN
ATTACH;FMTTYPE=image/jpeg:https://sakyapa.eu/wp-content/uploads/2024/06/Tara-white-portrait.jpg
END:VEVENT
BEGIN:VEVENT
DTSTART;TZID=Europe/Zurich:20240824T100000
DTEND;TZID=Europe/Zurich:20240824T110000
DTSTAMP:20260419T212857
CREATED:20240717T184129Z
LAST-MODIFIED:20240717T184132Z
UID:10001433-1724493600-1724497200@sakyapa.eu
SUMMARY:TARA RITUAL
DESCRIPTION:Time: 10.00 – 11.00 \n\n\n\nGuide: KHENPO TASHI SANGPO \n\n\n\nPlace: Sakya Tsechen Ling & ZOOM \n\n\n\nFree donation \n\n\n\n\nTara\, the Liberator\, is a very important female Deity in Tibet. Her nature is that of great compassion indivisible from wisdom\, and she is always ready to quickly pacify all obstacles\, illnesses\, difficulties and suffering. These practices are carried out for the universal peace in general\, and for the fast dissolution of the current pandemic in particular. \n\n\n\nThe Thangtong Gyalpo Prayer can be downloaded HERE. \n\n\n\nRegister in advance for this meeting on Zoom at least one day in advance. \n\n\n\nYou will receive a confirmation email from “Sakya Dharma Family Admin” with the Zoom link to participate (click “Click Here To Join”) on the day of the event. \n\n\n\n\nZOOM
URL:https://sakyapa.eu/event/tara-ritual-10/
LOCATION:Sakya Tsechen Ling\, 5 Rdpt du Vignoble\, Kuttolsheim\, 67520\, France
CATEGORIES:All courses in English only,Khenpo Tashi Sangpo-EN,Thupten Changchup Ling-EN,ZOOM-EN
ATTACH;FMTTYPE=image/webp:https://sakyapa.eu/wp-content/uploads/2023/10/2.webp
END:VEVENT
BEGIN:VEVENT
DTSTART;TZID=Europe/Zurich:20240825T140000
DTEND;TZID=Europe/Zurich:20240923T140000
DTSTAMP:20260419T212857
CREATED:20240608T114016Z
LAST-MODIFIED:20240608T114019Z
UID:10001374-1724594400-1727100000@sakyapa.eu
SUMMARY:1-MONTH BASIC RETREAT ON WHITE TARA
DESCRIPTION:Teachings by: KHENPO TASHI SANGPO \n\n\n\nDate: SUN 25.8. – MON 23.9.2024 \n\n\n\nTime: Sunday 25.8. at 14.00 – Monday 23.9. after lunch \n\n\n\nPlace: Sakya Tsechen Ling\, Kuttolsheim/France \n\n\n\n\n\n\nFollowing the conferral of the uncommon White Tara initiation by His Holiness the 42nd Sakya Trizin Rinpoche and the receipt of profound blessings\, the Sakya Tsechen Ling Institute is pleased to organise this White Tara basic retreat. No partial participation possible. \n\n\n\nThis White Tara retreat is dedicated to the longevity of His Holiness Kyabgön Gongma Sakya Trichen Rinpoche on the occasion of His 80th birthday. \n\n\n\nPARTICIPATION PREREQUISITES: \n\n\n\nAlready having received the initiation of White Tara from Their Holinesses or from a qualified master. \n\n\n\nPROGRAM OF THE RETREAT:  \n\n\n\nSunday 25 August 2024 \n\n\n\n14.00 – 17.00 Welcome\, preparation of rooms \n\n\n\n17.00 – 18.00 Putting boundaries  \n\n\n\n19.00 – 20.00 Dinner \n\n\n\n20.00 – 21.30 First meditation session on White Tara \n\n\n\nMonday 26 August – Friday 20 September 2024 \n\n\n\n06.00 – 08.00 Meditation on White Tara \n\n\n\n10.00 – 12.00 Meditation on White Tara \n\n\n\n14.00 – 16.00 Meditation on White Tara \n\n\n\n17.00 – 19.00 Meditation on White Tara \n\n\n\nSaturday 21 September 2024 \n\n\n\n06.00 – 08.00 Meditation on White Tara \n\n\n\n10.00 – 11.00 Meditation on White Tara\, \n\n\n\n11.00 – 12.00 ritual for opening the boundaries \n\n\n\n14.00 – 17.00 preparation of the final puja & cleaning \n\n\n\nSunday 22 September 2024 \n\n\n\n06.00 – 08.00 Meditation on White Tara \n\n\n\n10.00 – 13.30 final puja \n\n\n\nMonday 23 September 2024  \n\n\n\n07.00 – 08.00 Green Tara ritual \n\n\n\n10.00 – 12.00 White Tara ritual & Tenshug long-life ritual for His Holiness Kyabgön Gongma Trichen Rinpoche \n\n\n\nEND OF THE RETREAT \n\n\n\nCONTRIBUTION:  \n\n\n\nMin. € 280.- for on-site retreat (not including food and accommodation).  \n\n\n\nFor on-site retreat\, and after pre-registering specifying your wishes for accommodation and meals\, you will receive a specific e-mail indicating your contribution to the costs. \n\n\n\nYou can make your payment in one of the ways described at https://sakyatsechenling.eu/en/online-payment/ . \n\n\n\nWe thank you much in advance. \n\n\n\nREGISTRATION & PARTICIPATION LINK: \n\n\n\nIn order to participate\, we invite you to register by clicking HERE FOR ON-SITE RETREAT until 1st August 2024 at the latest. \n\n\n\nThose who wish to participate are invited to register early as the number of places is limited. \n\n\n\nTogether with the receipt/confirmation of your registration you will receive further information.
URL:https://sakyapa.eu/event/1-month-basic-retreat-on-white-tara/
LOCATION:Sakya Tsechen Ling\, 5 Rdpt du Vignoble\, Kuttolsheim\, 67520\, France
CATEGORIES:All courses in English only,Khenpo Tashi Sangpo-EN,Sakya Tsechen Ling-EN
ATTACH;FMTTYPE=image/jpeg:https://sakyapa.eu/wp-content/uploads/2024/06/Tara-white-scaled.jpg
END:VEVENT
BEGIN:VEVENT
DTSTART;TZID=Europe/Zurich:20240828T191500
DTEND;TZID=Europe/Zurich:20240828T204500
DTSTAMP:20260419T212857
CREATED:20240717T073140Z
LAST-MODIFIED:20240717T143901Z
UID:10001421-1724872500-1724877900@sakyapa.eu
SUMMARY:VAJRAYOGHINI TSOG OFFERING
DESCRIPTION:Time: 19.15 – 20.45​ \n\n\n\nGuided by: \n\n\n\nAs our Lamas are in retreat this month\, the Vajrayogini Tsog ritual will be guided in English by Frédéric Godde. \n\n\n\n\nThe Tsog ritual is a fast method for the accumulation of merit and wisdom through a group practice of making offerings to special deities. Vajrayana practitioners should perform the Tsog offering twice a month\, on 10th and 25th day of the Tibetan lunar calendar. The Vajrayogini Tsog offering is particularly important in the Sakya tradition. \n\n\n\nONLY FOR THOSE WHO ALREADY RECEIVED VAJRAYOGINI EMPOWERMENT FROM A QUALIFIED SAKYA MASTER.WE USE THE TSOG TEXT PREPARED BY HER EMINENCE JETSUN KUSHOK. \n\n\n\nIf you don’t have this text please practice your own Sadhana. \n\n\n\nPlease join on time\, no late arrivals. \n\n\n\nParticipation in the temple SAKYA PHUNTSOK LING\, TOULOUSE.  \n\n\n\n \n\n\n\nRegister in advance for this meeting on Zoom at least one day in advance. \n\n\n\nYou will receive a confirmation email from “Sakya Dharma Family Admin” with the Zoom link to participate (click “Click Here To Join”) on the day of the event. \n\n\n\n\nZOOM\n\n\n\n\nThis event is offered to you by Khenchen Sherab’s Sakya Dharma Family. We want to make it possible for everyone to participate\, however\, our Dharma activities are only possible thanks to your kind donations. To ensure the continuity of our activities\, please consider supporting your local center. Click HERE for the list of all our Sakya Dharma Family Centers.
URL:https://sakyapa.eu/event/vajrayoghini-tsog-offering-11/
LOCATION:SAKYA PHUNTSOK LING\, Sakya Phuntsok Ling\, TOULOUSE\, France
CATEGORIES:All courses in English only,Lama Shérab Sangpo-EN,Sakya Phuntsok Ling-EN,ZOOM-EN
ATTACH;FMTTYPE=image/png:https://sakyapa.eu/wp-content/uploads/2023/10/VY.png
END:VEVENT
END:VCALENDAR