BEGIN:VCALENDAR
VERSION:2.0
PRODID:-//European Sakya Centers founded by Khenchen Sherab - ECPv6.13.2.1//NONSGML v1.0//EN
CALSCALE:GREGORIAN
METHOD:PUBLISH
X-ORIGINAL-URL:https://sakyapa.eu
X-WR-CALDESC:Events for European Sakya Centers founded by Khenchen Sherab
REFRESH-INTERVAL;VALUE=DURATION:PT1H
X-Robots-Tag:noindex
X-PUBLISHED-TTL:PT1H
BEGIN:VTIMEZONE
TZID:Europe/Zurich
BEGIN:DAYLIGHT
TZOFFSETFROM:+0100
TZOFFSETTO:+0200
TZNAME:CEST
DTSTART:20240331T010000
END:DAYLIGHT
BEGIN:STANDARD
TZOFFSETFROM:+0200
TZOFFSETTO:+0100
TZNAME:CET
DTSTART:20241027T010000
END:STANDARD
END:VTIMEZONE
BEGIN:VEVENT
DTSTART;TZID=Europe/Zurich:20240615T100000
DTEND;TZID=Europe/Zurich:20240616T153000
DTSTAMP:20260419T200407
CREATED:20240526T182604Z
LAST-MODIFIED:20240526T182628Z
UID:10001347-1718445600-1718551800@sakyapa.eu
SUMMARY:THE ESSENCE OF NECTAR\, BY JAMYANG KHYENTSE WANGPO
DESCRIPTION:Teachings by: KHENPO TASHI SANGPO \n\n\n\nDate: SAT-SUN / 15-16 JUNE \n\n\n\nTime: Saturday & Sunday 10.00 – 12.00 & 13.30 – 15.30 \n\n\n\nPlace: Thupten Changchup Ling\, Arosio/CH & ZOOM \n\n\n\nLanguage: EN \n\n\n\nAvailable translations: IT\, SWE \n\n\n\nSuggested donation: 30 CHF / 25€ \n\n\n\n\nA text written for meditators by the great Lama Jamyang Khyentse Wangpo\, perhaps the most eminent Master of the 1800s\, in which the graduated stages of the path are presented. A nectar of Dharma extracted from the vast and profound teachings that indicates the crucial points of the path traversed by those who emphasise the approach of the practice. The ambrosia of great bliss can only be savoured by those who truly experience the nature of mind and without authentic guidance this is hardly possible. In this work\, then\, we find what we truly need to proceed safely towards the highest awakening. \n\n\n\nJoin us at the temple in Arosio (CH): \n\n\n\nPlease register at least two days before the event to participate in person in Arosio (using the link below). \n\n\n\n\nAROSIO\n\n\n\n\nRegister in advance for this meeting on Zoom at least one day in advance. \n\n\n\nYou will receive a confirmation email from “Sakya Dharma Family Admin” with the Zoom link to participate (click “Click Here To Join”) on the day of the event. \n\n\n\n\nZOOM
URL:https://sakyapa.eu/event/the-essence-of-nectar-by-jamyang-khyentse-wangpo-2/
CATEGORIES:All courses in English only,Khenpo Tashi Sangpo-EN,Thupten Changchup Ling-EN,ZOOM-EN
ATTACH;FMTTYPE=image/jpeg:https://sakyapa.eu/wp-content/uploads/2024/05/2024-06-15-16-Vase.jpg
END:VEVENT
BEGIN:VEVENT
DTSTART;TZID=Europe/Zurich:20240616T070000
DTEND;TZID=Europe/Zurich:20240616T080000
DTSTAMP:20260419T200407
CREATED:20240530T114837Z
LAST-MODIFIED:20240530T114907Z
UID:10001352-1718521200-1718524800@sakyapa.eu
SUMMARY:TARA RITUAL
DESCRIPTION:Time: 7.00 – 8.00 \n\n\n\nGuide: KHENPO TASHI SANGPO \n\n\n\nPlace: Thupten Changchup Ling\, Arosio/CH & ZOOM \n\n\n\nFree donation \n\n\n\n\nTara\, the Liberator\, is a very important female Deity in Tibet. Her nature is that of great compassion indivisible from wisdom\, and she is always ready to quickly pacify all obstacles\, illnesses\, difficulties and suffering. These practices are carried out for the universal peace in general\, and for the fast dissolution of the current pandemic in particular. \n\n\n\nThe Thangtong Gyalpo Prayer can be downloaded HERE. \n\n\n\nRegister in advance for this meeting on Zoom at least one day in advance. \n\n\n\nYou will receive a confirmation email from “Sakya Dharma Family Admin” with the Zoom link to participate (click “Click Here To Join”) on the day of the event. \n\n\n\n\nZOOM
URL:https://sakyapa.eu/event/tara-ritual-7/
LOCATION:Thupten Changchup Ling\, Lücc 20\, Alto Malcantone\, Ticino\, 6939\, Switzerland
CATEGORIES:All courses in English only,Khenpo Tashi Sangpo-EN,Thupten Changchup Ling-EN,ZOOM-EN
ATTACH;FMTTYPE=image/webp:https://sakyapa.eu/wp-content/uploads/2023/10/2.webp
END:VEVENT
BEGIN:VEVENT
DTSTART;TZID=Europe/Zurich:20240629T100000
DTEND;TZID=Europe/Zurich:20240630T160000
DTSTAMP:20260419T200407
CREATED:20240530T192247Z
LAST-MODIFIED:20240530T192249Z
UID:10001365-1719655200-1719763200@sakyapa.eu
SUMMARY:„NOTES ON RESTING IN THE NATURE OF MIND” by JAMYANG KHYENTSE WANGCHUK
DESCRIPTION:Teachings by: KHENPO TASHI SANGPO \n\n\n\nDate: SAT-SUN / 29-30 JUNE \n\n\n\nTime: Saturday & Sunday 10.00 – 12.00 & 14.00 – 16.00 \n\n\n\nPlace: Yeshe Chöling\, Freiburg/Germany & SKYPE  (Sakya Dharma family Germany) \n\n\n\nLanguage: EN \n\n\n\nAvailable translations: DE \n\n\n\nSuggested donation: € 30.- \n\n\n\n\nJamyang Khyentse Wangchuk (1524 – 1568) was a disciple of Tsarchen Losal Gyatso (1502 – 1566)\, whose oral teachings on Mitrayogin’s source text he recorded in these “Notes”. Rather than simply commenting on the meaning of the twenty-five verses\, these teachings provide a guide for actually putting their essential message into practice. \n\n\n\nMitrayogin’s deep wish was that beings could be free from suffering and relax their mind\, which is possible through method and wisdom. With this motivation\, he composed the twenty-five verses. \n\n\n\nDuring the weekend\, Khenpo Tashi will also give the Vajrasattva blessing. The Vajrasattva practice is used to purify obscurations for further development on the path of dharma and also to purify broken samaya vows. Vajrasattva practice is an essential element of Tibetan Buddhist practice. \n\n\n\nTo register\, please send an e-mail to Birgit Huxol sonne_mond@freenet.de or  \n\n\n\nVeronika Lederer veronika.sherabchoedoen@gmx.de \n\n\n\nuntil 27.6.2024 at the latest.
URL:https://sakyapa.eu/event/notes-on-resting-in-the-nature-of-mind-by-jamyang-khyentse-wangchuk-6/
LOCATION:Sakya Yeshe Chöling\, Jahnstraße 6\, Freiburg\, Baden-Württemberg\, 79117\, Germany
CATEGORIES:All courses in English only,Khenpo Tashi Sangpo-EN,Sakya Yeshe Chöling-EN
ATTACH;FMTTYPE=image/jpeg:https://sakyapa.eu/wp-content/uploads/2023/12/Mitrayogin.jpg
END:VEVENT
END:VCALENDAR