BEGIN:VCALENDAR
VERSION:2.0
PRODID:-//European Sakya Centers founded by Khenchen Sherab - ECPv6.13.2.1//NONSGML v1.0//EN
CALSCALE:GREGORIAN
METHOD:PUBLISH
X-WR-CALNAME:European Sakya Centers founded by Khenchen Sherab
X-ORIGINAL-URL:https://sakyapa.eu
X-WR-CALDESC:Events for European Sakya Centers founded by Khenchen Sherab
REFRESH-INTERVAL;VALUE=DURATION:PT1H
X-Robots-Tag:noindex
X-PUBLISHED-TTL:PT1H
BEGIN:VTIMEZONE
TZID:Europe/Zurich
BEGIN:DAYLIGHT
TZOFFSETFROM:+0100
TZOFFSETTO:+0200
TZNAME:CEST
DTSTART:20240331T010000
END:DAYLIGHT
BEGIN:STANDARD
TZOFFSETFROM:+0200
TZOFFSETTO:+0100
TZNAME:CET
DTSTART:20241027T010000
END:STANDARD
END:VTIMEZONE
BEGIN:VEVENT
DTSTART;TZID=Europe/Zurich:20240404T191500
DTEND;TZID=Europe/Zurich:20240404T204500
DTSTAMP:20260421T215238
CREATED:20240314T135519Z
LAST-MODIFIED:20240314T135522Z
UID:10000991-1712258100-1712263500@sakyapa.eu
SUMMARY:VAJRAYOGHINI TSOG OFFERING
DESCRIPTION:Time: 19.15 – 20.45​ \n\n\n\nGuided by: Lama Sherab Sangpo \n\n\n\n\nThe Tsog ritual is a fast method for the accumulation of merit and wisdom through a group practice of making offerings to special deities. Vajrayana practitioners should perform the Tsog offering twice a month\, on 10th and 25th day of the Tibetan lunar calendar. The Vajrayogini Tsog offering is particularly important in the Sakya tradition. \n\n\n\nONLY FOR THOSE WHO ALREADY RECEIVED VAJRAYOGINI EMPOWERMENT FROM A QUALIFIED SAKYA MASTER.WE USE THE TSOG TEXT PREPARED BY HER EMINENCE JETSUN KUSHOK. \n\n\n\nIf you don’t have this text please practice your own Sadhana. \n\n\n\nPlease join on time\, no late arrivals. \n\n\n\nParticipation in the temple SAKYA TSECHEN LING\, KUTTOLSHEIM.  \n\n\n\nJoin us at the temple in F-67520 Kuttolsheim\, France\, for this event. No registration needed. \n\n\n\nRegister in advance for this meeting on Zoom at least one day in advance. \n\n\n\nYou will receive a confirmation email from “Sakya Dharma Family Admin” with the Zoom link to participate (click “Click Here To Join”) on the day of the event. \n\n\n\n\nZOOM\n\n\n\n\nThis event is offered to you by Khenchen Sherab’s Sakya Dharma Family. We want to make it possible for everyone to participate\, however\, our Dharma activities are only possible thanks to your kind donations. To ensure the continuity of our activities\, please consider supporting your local center. Click HERE for the list of all our Sakya Dharma Family Centers.
URL:https://sakyapa.eu/event/vajrayoghini-tsog-offering-6/
LOCATION:Sakya Tsechen Ling\, 5 Rdpt du Vignoble\, Kuttolsheim\, 67520\, France
CATEGORIES:All courses in English only,Lama Shérab Sangpo,Sakya Tsechen Ling,ZOOM
ATTACH;FMTTYPE=image/png:https://sakyapa.eu/wp-content/uploads/2023/10/VY.png
END:VEVENT
BEGIN:VEVENT
DTSTART;TZID=Europe/Zurich:20240406T100000
DTEND;TZID=Europe/Zurich:20240407T153000
DTSTAMP:20260421T215238
CREATED:20240314T142131Z
LAST-MODIFIED:20240314T143058Z
UID:10001103-1712397600-1712503800@sakyapa.eu
SUMMARY:TENTH ANNIVERSARY OF KHENCHEN SHERAB - THE PROFOUND GURUYOGA LAMA CHÖPA
DESCRIPTION:Teachings by: KHENPO TASHI SANGPO \n\n\n\nDate: SAT-SUN / 6-7 APRIL \n\n\n\nTime: Saturday & Sunday 10.00 – 12.00 & 13.30 – 15.30 \n\n\n\nPlace: Thupten Changchup Ling\, Arosio/CH & ZOOM \n\n\n\nLanguage: EN \n\n\n\nAvailable translations: IT\, SV \n\n\n\nSuggested donation: 30 CHF / 25€ \n\n\n\n\nThis year\, Sunday 14th April\, marks the 10th anniversary of Khenchen Sherab (1931 – 2014)\, founding Master of our centres and highly realised being. Invoking his blessings on this special anniversary is extremely powerful and the benefits are sure to be experienced by all. There is no better method than Guruyoga to invoke spiritual blessings and the Lama Chöpa is the most appropriate and effective ritual for the most important celebrations.  \n\n\n\nKhenpo Tashi will give teachings on the profound Guruyoga Lama Chöpa\, and then we will practice this ritual together. \n\n\n\nThe ritual will then be performed again on Sunday 14 April – the actual day of the anniversary – from 10 to 12 a.m.\, at Sakya Tsechen Ling in Kuttolsheim\, accompanied by many special offers prepared for the occasion. All are welcome to participate onsite or via zoom in the big celebration! Further information HERE \n\n\n\nIn your heart\, a spacious sky of love\,clouds of compassion fully gather\,with the rain of activity falling down\,you ripen the harvest of ones to be tamed.Khenchen Sherab Gyaltsen Amipa\, at your feet I bow!  \n\n\n\n(adapted from a Milarepa’s vajra song) \n\n\n\nJoin us at the temple in Arosio (CH): \n\n\n\nPlease register at least two days before the event to participate in person in Arosio (using the link below). \n\n\n\n\nAROSIO\n\n\n\n\nRegister in advance for this meeting on Zoom at least one day in advance. \n\n\n\nYou will receive a confirmation email from “Sakya Dharma Family Admin” with the Zoom link to participate (click “Click Here To Join”) on the day of the event. \n\n\n\n\nZOOM
URL:https://sakyapa.eu/event/tenth-anniversary-of-khenchen-sherab-the-profound-guruyoga-lama-chopa/
LOCATION:Thupten Changchup Ling\, Lücc 20\, Alto Malcantone\, Ticino\, 6939\, Switzerland
CATEGORIES:All courses in English only,Khenpo Tashi Sangpo,Thupten Changchup Ling,ZOOM
ATTACH;FMTTYPE=image/jpeg:https://sakyapa.eu/wp-content/uploads/2024/03/Lama_Sherab_15x10.jpg
END:VEVENT
BEGIN:VEVENT
DTSTART;TZID=Europe/Zurich:20240409T191500
DTEND;TZID=Europe/Zurich:20240409T210000
DTSTAMP:20260421T215238
CREATED:20240315T113703Z
LAST-MODIFIED:20240315T113715Z
UID:10001130-1712690100-1712696400@sakyapa.eu
SUMMARY:BUDDHA AVALOKITESHVARA MEDITATION
DESCRIPTION:Teachings by: KHENPO TASHI SANGPO \n\n\n\nData: Tuesday 9 APRIL \n\n\n\nTime: 19.15 – 21.00 \n\n\n\nPlace: Thupten Changchup Ling\, Arosio/CH & ZOOM \n\n\n\nLanguage: EN \n\n\n\nAvailable translation: IT\, SWE \n\n\n\nFree donation \n\n\n\n\nThe four-armed Avalokiteśvara practice is a special method of realisation of the Sakya school that combines Mahamudra – the essence of great wisdom\, and Mahakaruna – the essence of great compassion. The two most fundamental points of the path to enlightenment are included here in a single meditation session\, and this is of great benefit to both oneself and others. After some brief explanations Khenpo Tashi will lead the sadhana. \n\n\n\nJoin us at the temple in Arosio (CH): \n\n\n\nPlease register at least two days before the event to participate in person in Arosio (using the link below). \n\n\n\n\nAROSIO\n\n\n\n\nRegister in advance for this meeting on Zoom at least one day in advance. \n\n\n\nYou will receive a confirmation email from “Sakya Dharma Family Admin” with the Zoom link to participate (click “Click Here To Join”) on the day of the event. \n\n\n\n\nZOOM
URL:https://sakyapa.eu/event/buddha-avalokiteshvara-meditation-2/
LOCATION:Thupten Changchup Ling\, Arosio\, Lücc 20\, Alto Malcantone\, Ticino\, 6939\, Switzerland
CATEGORIES:All courses in English only,Khenpo Tashi Sangpo,Thupten Changchup Ling,ZOOM
END:VEVENT
BEGIN:VEVENT
DTSTART;TZID=Europe/Zurich:20240412T203000
DTEND;TZID=Europe/Zurich:20240414T160000
DTSTAMP:20260421T215238
CREATED:20240314T142742Z
LAST-MODIFIED:20240327T095353Z
UID:10001104-1712953800-1713110400@sakyapa.eu
SUMMARY:TENTH ANNIVERSARY OF KHENCHEN SHERAB - THE PROFOUND GURUYOGA LAMA CHÖPA
DESCRIPTION:Teachings by: KHENPO TASHI SANGPO \n\n\n\nDate: FRI-SUN / 12-14 APRIL \n\n\n\nTime: Friday 20.30 – 22.00\, Saturday & Sunday 10.00 – 12.00 & 14.00 – 16.00 \n\n\n\nPlace: Sakya Tsechen Ling\, Kuttolsheim/France & ZOOM \n\n\n\nLanguage: EN \n\n\n\nAvailable translations: FR \n\n\n\nSuggested donation: 25€/30 CHF \n\n\n\n\nThis year\, Sunday 14th April\, marks the 10th anniversary of Khenchen Sherab (1931 – 2014)\, founding Master of our centres and highly realised being. Invoking his blessings on this special anniversary is extremely powerful and the benefits are sure to be experienced by all. There is no better method than Guruyoga to invoke spiritual blessings and the Lama Chöpa is the most appropriate and effective ritual for the most important celebrations.  \n\n\n\nKhenpo Tashi will give teachings on the profound Guruyoga Lama Chöpa\, a ritual that will then be practised together on Sunday morning accompanied by many special offerings prepared for the occasion. \n\n\n\nWho would like to participate in these offerings (e.g. flowers\, fruits\, incense\, etc) can send a contribution HERE https://sakyatsechenling.eu/en/online-payment/ \n\n\n\nIn your heart\, a spacious sky of love\,clouds of compassion fully gather\,with the rain of activity falling down\,you ripen the harvest of ones to be tamed.Khenchen Sherab Gyaltsen Amipa\, at your feet I bow!  \n\n\n\n(adapted from a Milarepa’s vajra song) \n\n\n\nParticipation in the temple of Kuttolsheim\, France \n\n\n\nTo come to the STL temple\, Kuttolsheim (FR)\, register a few days in advance for this event using the link below. \n\n\n\n\nKuttolsheim\n\n\n\n\nRegister for this meeting on Zoom.You will automatically receive a confirmation email from Zoom with the Zoom link to participate. Click “Join Meeting” 15 min. before the event. \n\n\n\n\nZOOM
URL:https://sakyapa.eu/event/tenth-anniversary-of-khenchen-sherab-the-profound-guruyoga-lama-chopa-2/
LOCATION:Sakya Tsechen Ling\, 5 Rdpt du Vignoble\, Kuttolsheim\, 67520\, France
CATEGORIES:All courses in English only,Khenpo Tashi Sangpo,Sakya Tsechen Ling,ZOOM
ATTACH;FMTTYPE=image/jpeg:https://sakyapa.eu/wp-content/uploads/2024/03/Lama_Sherab_15x10.jpg
END:VEVENT
BEGIN:VEVENT
DTSTART;TZID=Europe/Zurich:20240414T070000
DTEND;TZID=Europe/Zurich:20240414T080000
DTSTAMP:20260421T215238
CREATED:20240315T115355Z
LAST-MODIFIED:20240315T115358Z
UID:10001136-1713078000-1713081600@sakyapa.eu
SUMMARY:TARA RITUAL
DESCRIPTION:Time: 7.00 – 8.00 \n\n\n\nGuide: KHENPO TASHI SANGPO \n\n\n\n\nTara\, the Liberator\, is a very important female Deity in Tibet. Her nature is that of great compassion indivisible from wisdom\, and she is always ready to quickly pacify all obstacles\, illnesses\, difficulties and suffering. These practices are carried out for the universal peace in general\, and for the fast dissolution of the current pandemic in particular. \n\n\n\nThe Thangtong Gyalpo Prayer can be downloaded HERE. \n\n\n\nParticipation in the temple of Kuttolsheim\, France \n\n\n\nJoin us at the temple in F-67520 Kuttolsheim\, France\, for this event. No registration needed. \n\n\n\nRegister for this meeting on Zoom.You will automatically receive a confirmation email from Zoom with the Zoom link to participate. Click “Join Meeting” 15 min. before the event. \n\n\n\n\nZOOM\n\n\n\n\nThis event is offered to you by Khenchen Sherab’s Sakya Dharma Family. We want to make it possible for everyone to participate\, however\, our Dharma activities are only possible thanks to your kind donations. To ensure the continuity of our activities\, please consider supporting your local center. Click HERE for the list of all our Sakya Dharma Family Centers.
URL:https://sakyapa.eu/event/tara-ritual-5/
LOCATION:Sakya Tsechen Ling\, 5 Rdpt du Vignoble\, Kuttolsheim\, 67520\, France
CATEGORIES:All courses in English only,Khenpo Tashi Sangpo,Sakya Tsechen Ling,ZOOM
ATTACH;FMTTYPE=image/webp:https://sakyapa.eu/wp-content/uploads/2023/10/2.webp
END:VEVENT
BEGIN:VEVENT
DTSTART;TZID=Europe/Zurich:20240421T100000
DTEND;TZID=Europe/Zurich:20240421T111500
DTSTAMP:20260421T215238
CREATED:20231018T132950Z
LAST-MODIFIED:20231018T132951Z
UID:10000122-1713693600-1713698100@sakyapa.eu
SUMMARY:ENGLISH BEGINNER COURSE: SHAMATHA AND COMPASSION
DESCRIPTION:by: Zoë Tait-Sargent \n\n\n\nDATES: 19/11 17/12\, 21/01/24\, 18/02\, 17/03\, 21/04\, 19/05/24.Time: 10:00 to 11:15 AMLocation: Laan van Meerdervoort 200 A\, The Hague or JitsiLanguage: English \n\n\n\n\nCONTENTS \n\n\n\nShamatha meditation is the foundation for various Buddhist meditation forms and methods. Shamatha teaches us how to calm our constantly active mind and how to develop calmness\, clarity and concentration. Compassion is one of the four immeasurables. It is defined as the wish that others might be free from suffering and its causes. Our innate capacity for empathy is the source of that most precious of all human qualities. In this beginners course we will use the meditation on Avalokiteshvara to develop compassion. \n\n\n\nThe practical composition and constructive structure ensures that after the course you can continue to meditate independently at home with the help of the handouts. Meditating with each other is guided and then mainly in silence with feedback moments. We also pay attention to your posture. The course is given in the Sakya center and via the online platform Jitsi\, we meditate on a chair\, cushion or bench. Mats\, meditation cushions and benches are provided. Please bring your own pair of warm socks and/or shawl. \n\n\n\nCOST \n\n\n\n€ 10 per morning; 5 euros for people with a minimum income. If this is still too burdensome\, then this can be deviated from in consultation. This course is free for participants who pay an annual contribution to Sakya (in one lump sum or monthly). \n\n\n\nREGISTER FOR THE COURSE: link
URL:https://sakyapa.eu/event/english-beginner-course-shamatha-and-compassion-6/
LOCATION:Sakya Thegchen Ling\, Laan van Meerdervoort 200A\, The Hague\, Netherlands
CATEGORIES:All courses in English only,Sakya Thegchen Ling
ATTACH;FMTTYPE=image/jpeg:https://sakyapa.eu/wp-content/uploads/2023/10/PHOTO-FOR-19-NOV.-HOLLAND-stones-2040340_1920.jpg
END:VEVENT
BEGIN:VEVENT
DTSTART;TZID=Europe/Zurich:20240427T100000
DTEND;TZID=Europe/Zurich:20240428T160000
DTSTAMP:20260421T215238
CREATED:20240314T182127Z
LAST-MODIFIED:20240314T182626Z
UID:10001112-1714212000-1714320000@sakyapa.eu
SUMMARY:„NOTES ON RESTING IN THE NATURE OF MIND” by JAMYANG KHYENTSE WANGCHUK
DESCRIPTION:Teachings by: KHENPO TASHI SANGPO \n\n\n\nDate: SAT-SUN / 27-28 APRIL \n\n\n\nTime: Saturday & Sunday 10.00 – 12.00 & Saturday 15.00- 17.00 & Sunday 14.30 – 16.00 \n\n\n\nPlace: Centro ACTIS\, Trieste\, via Corti 3/a \n\n\n\nLanguage: EN \n\n\n\nAvailable translations: IT \n\n\n\n\nJamyang Khyentse Wangchuk (1524 – 1568) was a disciple of Tsarchen Losal Gyatso (1502 – 1566)\, whose oral teachings on Mitrayogin’s source text he recorded in these “Notes”. Rather than simply commenting on the meaning of the twenty-five verses\, these teachings provide a guide for actually putting their essential message into practice. \n\n\n\nMitrayogin’s deep wish was that beings could be free from suffering and relax their mind\, which is possible through method and wisdom. With this motivation\, he composed the twenty-five verses. \n\n\n\nDuring the weekend\, Khenpo Tashi will also give the Vajrasattva blessing. The Vajrasattva practice is used to purify obscurations for further development on the path of dharma and also to purify broken samaya vows. Vajrasattva practice is an essential element of Tibetan Buddhist practice.
URL:https://sakyapa.eu/event/notes-on-resting-in-the-nature-of-mind-by-jamyang-khyentse-wangchuk-4/
LOCATION:Sakya Kunga Choeling\, Via Guglielmo Marconi\, 34\, Trieste\, 34133\, Italy
CATEGORIES:Ani Malvina Savio,Sakya Kunga Choeling,Tous les cours en Français
ATTACH;FMTTYPE=image/jpeg:https://sakyapa.eu/wp-content/uploads/2023/12/Mitrayogin.jpg
END:VEVENT
END:VCALENDAR