BEGIN:VCALENDAR
VERSION:2.0
PRODID:-//European Sakya Centers founded by Khenchen Sherab - ECPv6.13.2.1//NONSGML v1.0//EN
CALSCALE:GREGORIAN
METHOD:PUBLISH
X-WR-CALNAME:European Sakya Centers founded by Khenchen Sherab
X-ORIGINAL-URL:https://sakyapa.eu
X-WR-CALDESC:Events for European Sakya Centers founded by Khenchen Sherab
REFRESH-INTERVAL;VALUE=DURATION:PT1H
X-Robots-Tag:noindex
X-PUBLISHED-TTL:PT1H
BEGIN:VTIMEZONE
TZID:Europe/Zurich
BEGIN:DAYLIGHT
TZOFFSETFROM:+0100
TZOFFSETTO:+0200
TZNAME:CEST
DTSTART:20240331T010000
END:DAYLIGHT
BEGIN:STANDARD
TZOFFSETFROM:+0200
TZOFFSETTO:+0100
TZNAME:CET
DTSTART:20241027T010000
END:STANDARD
END:VTIMEZONE
BEGIN:VEVENT
DTSTART;TZID=Europe/Zurich:20240205T191500
DTEND;TZID=Europe/Zurich:20240205T204500
DTSTAMP:20260420T082432
CREATED:20240118T092200Z
LAST-MODIFIED:20240118T092203Z
UID:10000482-1707160500-1707165900@sakyapa.eu
SUMMARY:VAJRAYOGHINI TSOG OFFERING
DESCRIPTION:Time: 19.15 – 20.45​ \n\n\n\nGuided by: Lama Sherab Sangpo \n\n\n\n\nThe Tsog ritual is a fast method for the accumulation of merit and wisdom through a group practice of making offerings to special deities. Vajrayana practitioners should perform the Tsog offering twice a month\, on 10th and 25th day of the Tibetan lunar calendar. The Vajrayogini Tsog offering is particularly important in the Sakya tradition. \n\n\n\nONLY FOR THOSE WHO ALREADY RECEIVED VAJRAYOGINI EMPOWERMENT FROM A QUALIFIED SAKYA MASTER.WE USE THE TSOG TEXT PREPARED BY HER EMINENCE JETSUN KUSHOK. \n\n\n\nIf you don’t have this text please practice your own Sadhana. \n\n\n\nPlease join on time\, no late arrivals. \n\n\n\nParticipation in the temple SAKYA TSECHEN LING\, KUTTOLSHEIM.  \n\n\n\nJoin us at the temple in F-67520 Kuttolsheim\, France\, for this event. No registration needed. \n\n\n\nRegister in advance for this meeting on Zoom at least one day in advance. \n\n\n\nYou will receive a confirmation email from “Sakya Dharma Family Admin” with the Zoom link to participate (click “Click Here To Join”) on the day of the event. \n\n\n\n\nZOOM\n\n\n\n\nThis event is offered to you by Khenchen Sherab’s Sakya Dharma Family. We want to make it possible for everyone to participate\, however\, our Dharma activities are only possible thanks to your kind donations. To ensure the continuity of our activities\, please consider supporting your local center. Click HERE for the list of all our Sakya Dharma Family Centers.
URL:https://sakyapa.eu/event/vajrayoghini-tsog-offering-4/
LOCATION:Sakya Tsechen Ling\, 5 Rdpt du Vignoble\, Kuttolsheim\, 67520\, France
CATEGORIES:All courses in English only,Lama Shérab Sangpo,Sakya Tsechen Ling,ZOOM
ATTACH;FMTTYPE=image/png:https://sakyapa.eu/wp-content/uploads/2023/10/VY.png
END:VEVENT
BEGIN:VEVENT
DTSTART;TZID=Europe/Zurich:20240208T191500
DTEND;TZID=Europe/Zurich:20240208T210000
DTSTAMP:20260420T082432
CREATED:20240118T094534Z
LAST-MODIFIED:20240207T183206Z
UID:10000499-1707419700-1707426000@sakyapa.eu
SUMMARY:MAHAKALA RITUAL WITH GUTOR
DESCRIPTION:Guided by: KHENPO TASHI SANGPO \n\n\n\nDate: THU / 8 FEBRUARY \n\n\n\nTime: 19.15 – 21.00 \n\n\n\nPlace: Thupten Changchup Ling\, Arosio/CH & Zoom \n\n\n\nLanguage: ENAvailable translations: IT\, SWE\, NL \n\n\n\n\nMahakala is a Dharmapala\, a Dharma protector. His task is to protect and safeguard the teachings\, the places of practice and study\, and the Dharma holders. In addition\, he constantly strives to assist all practitioners by helping them overcome all external\, internal and secret obstacles that obstruct their progress towards enlightenment. Propitiating Mahakala through ritual allows us to invoke its full power and this is of great support for ourselves\, others\, the world and the Dharma. \n\n\n\nProgram: \n\n\n\nShort introduction to the practice of Mahakala and Gutor. \n\n\n\nThe Mahakala ritual with “Gutor”\, performed to dispel the negativities of the past year and for the protection during the new Tibetan New Year\, which begins on 10th February. \n\n\n\nRecitation of Heart Sutra: the text can be downloaded HERE \n\n\n\nJoin us at the temple in Arosio (CH): \n\n\n\nPlease register at least two days before the event to participate in person in Arosio (using the link below). \n\n\n\n\nAROSIO\n\n\n\n\nRegister in advance for this meeting on Zoom at least one day in advance. \n\n\n\nYou will receive a confirmation email from “Sakya Dharma Family Admin” with the Zoom link to participate (click “Click Here To Join”) on the day of the event. \n\n\n\n\nZOOM
URL:https://sakyapa.eu/event/mahakala-ritual-with-gutor/
LOCATION:Thupten Changchup Ling\, Lücc 20\, Alto Malcantone\, Ticino\, 6939\, Switzerland
CATEGORIES:All courses in English only,Khenpo Tashi Sangpo,Thupten Changchup Ling,ZOOM
ATTACH;FMTTYPE=image/jpeg:https://sakyapa.eu/wp-content/uploads/2024/01/Mahakala-black.jpg
END:VEVENT
BEGIN:VEVENT
DTSTART;TZID=Europe/Zurich:20240210T100000
DTEND;TZID=Europe/Zurich:20240211T153000
DTSTAMP:20260420T082432
CREATED:20240118T113400Z
LAST-MODIFIED:20240118T122926Z
UID:10000505-1707559200-1707665400@sakyapa.eu
SUMMARY:LOSAR-CELEBRATION-WHITE TARA – TEACHING & INITIATION
DESCRIPTION:Teachings by: KHENPO TASHI SANGPO \n\n\n\nDate: SAT-SUN / 10-11 FEBRUARY \n\n\n\nTime: Saturday & Sunday 10.00 – 12.00 & 13.30 – 15.30 \n\n\n\nPlace: Thupten Changchup Ling\, Arosio/CH / NO STREAMING \n\n\n\nLanguage: EN \n\n\n\nAvailable translations: IT \n\n\n\nSuggested donation: 30 CHF / 25€ \n\n\n\n\nSATURDAY MORNING \n\n\n\nLOSAR-CELEBRATION – TIBETAN NEW YEAR 2151 OF THE WOOD-DRAGON \n\n\n\nShort introduction to Losar and Chotrul Düchen \n\n\n\nSerkyem offering\, an offering to the Dharmaprotectors. \n\n\n\nAfterwards we will hang out the new sets of prayer flags. \n\n\n\nRecitation of the 16-Arhat ritual \n\n\n\nLong-life prayers for Their Holinesses \n\n\n\nSATURDAY AFTERNOON & SUNDAY \n\n\n\nWHITE TARA – TEACHING & INITIATION \n\n\n\nFor the occasion of the new Tibetan year Khenpo Tashi confers the initiation of White Tara. \n\n\n\nKnown as a female deity who responds quickly and effectively to any heartfelt request\, White Tara is particularly associated with healing\, protecting\, and stabilizing our life force. Her practice is especially effective and helpful during difficult times and when our lives are dominated by intense emotions and fear. Practiced by all four major schools of Tibetan Buddhism\, White Tara has been the main deity practice of many well-known Buddhist scholars and siddhas in both India and Tibet. White Tara’s special function is to promote long life\, peace\, prosperity\, and health through her enlightened activities\, both for the practitioner and for others. \n\n\n\nJoin us at the temple in Arosio (CH): \n\n\n\nPlease register at least two days before the event to participate in person in Arosio (using the link below). \n\n\n\n\nAROSIO
URL:https://sakyapa.eu/event/losar-celebration-white-tara-teaching-initiation/
LOCATION:Thupten Changchup Ling\, Arosio\, Lücc 20\, Alto Malcantone\, Ticino\, 6939\, Switzerland
CATEGORIES:All courses in English only,Khenpo Tashi Sangpo,Thupten Changchup Ling
END:VEVENT
BEGIN:VEVENT
DTSTART;TZID=Europe/Zurich:20240218T100000
DTEND;TZID=Europe/Zurich:20240218T111500
DTSTAMP:20260420T082432
CREATED:20231018T132917Z
LAST-MODIFIED:20231022T115225Z
UID:10000120-1708250400-1708254900@sakyapa.eu
SUMMARY:ENGLISH BEGINNER COURSE: SHAMATHA AND COMPASSION
DESCRIPTION:by: Zoë Tait-Sargent \n\n\n\nDATES: 19/11 17/12\, 21/01/24\, 18/02\, 17/03\, 21/04\, 19/05/24.Time: 10:00 to 11:15 AMLocation: Laan van Meerdervoort 200 A\, The Hague or JitsiLanguage: English \n\n\n\n\nCONTENTS \n\n\n\nShamatha meditation is the foundation for various Buddhist meditation forms and methods. Shamatha teaches us how to calm our constantly active mind and how to develop calmness\, clarity and concentration. Compassion is one of the four immeasurables. It is defined as the wish that others might be free from suffering and its causes. Our innate capacity for empathy is the source of that most precious of all human qualities. In this beginners course we will use the meditation on Avalokiteshvara to develop compassion. \n\n\n\nThe practical composition and constructive structure ensures that after the course you can continue to meditate independently at home with the help of the handouts. Meditating with each other is guided and then mainly in silence with feedback moments. We also pay attention to your posture. The course is given in the Sakya center and via the online platform Jitsi\, we meditate on a chair\, cushion or bench. Mats\, meditation cushions and benches are provided. Please bring your own pair of warm socks and/or shawl. \n\n\n\nCOST \n\n\n\n€ 10 per morning; 5 euros for people with a minimum income. If this is still too burdensome\, then this can be deviated from in consultation. This course is free for participants who pay an annual contribution to Sakya (in one lump sum or monthly). \n\n\n\nREGISTER FOR THE COURSE: link
URL:https://sakyapa.eu/event/english-beginner-course-shamatha-and-compassion-4/
LOCATION:Sakya Thegchen Ling\, Laan van Meerdervoort 200A\, The Hague\, Netherlands
CATEGORIES:All courses in English only,Sakya Thegchen Ling
ATTACH;FMTTYPE=image/jpeg:https://sakyapa.eu/wp-content/uploads/2023/10/PHOTO-FOR-19-NOV.-HOLLAND-stones-2040340_1920.jpg
END:VEVENT
BEGIN:VEVENT
DTSTART;TZID=Europe/Zurich:20240223T203000
DTEND;TZID=Europe/Zurich:20240225T160000
DTSTAMP:20260420T082432
CREATED:20240118T125433Z
LAST-MODIFIED:20240118T131351Z
UID:10000514-1708720200-1708876800@sakyapa.eu
SUMMARY:CHOTRUL DÜCHEN - CELEBRATION WHITE TARA – TEACHING & INITIATION
DESCRIPTION:Teachings by: KHENPO TASHI SANGPO \n\n\n\nDate: FRI-SUN / 23 – 25 FEBRUARY \n\n\n\nTime: Friday 20.30 – 22.00\, Saturday & Sunday 10.00 – 12.00 & 14.00 – 16.00 \n\n\n\nPlace: Sakya Tsechen Ling\, Kuttolsheim/France & ZOOM (only SAT afternoon for Chotrul Düchen!) \n\n\n\nLanguage: EN \n\n\n\nAvailable translations: FR \n\n\n\nSuggested donation: 25€/30 CHF \n\n\n\n\nFor the occasion of the new Tibetan year Khenpo Tashi confers the initiation of White Tara. \n\n\n\nKnown as a female deity who responds quickly and effectively to any heartfelt request\, White Tara is particularly associated with healing\, protecting\, and stabilizing our life force. Her practice is especially effective and helpful during difficult times and when our lives are dominated by intense emotions and fear. Practiced by all four major schools of Tibetan Buddhism\, White Tara has been the main deity practice of many well-known Buddhist scholars and siddhas in both India and Tibet. White Tara’s special function is to promote long life\, peace\, prosperity\, and health through her enlightened activities\, both for the practitioner and for others. \n\n\n\nOn Saturday 24.2. afternoon we celebrate CHOTRUL DÜCHEN\, one of the four great buddhist celebrations: The first fifteen days of the Tibetan year commemorate the event when Lord Buddha performed a different miracle each day to instill devotion and increase merit among heretics.  Program:Introduction to Chotrul DüchenSutra of Remembering the Three JewelsThe Three-Part Sutra: Confession before the thirty-five BuddhasBuddha Shakyamuni prayer16 Arhat-ritualLonglife-prayers for Their Holinesses The texts can be downloaded HEREPlease click HERE if you want to celebrate Chotrul Düchen with us through ZOOM.\n\n\n\nRegistration \n\n\n\nTo come to the STL temple\, Kuttolsheim (FR)\, register a few days in advance for this event using the link below. \n\n\n\n\nKuttolsheim
URL:https://sakyapa.eu/event/celebration-chotrul-duchen-enseignement-et-initiation-de-tara-blanche/
LOCATION:Sakya Tsechen Ling\, 5 Rdpt du Vignoble\, Kuttolsheim\, 67520\, France
CATEGORIES:All courses in English only,Khenpo Tashi Sangpo,Khenpo Tashi Sangpo,Sakya Thegchen Ling,Sakya Tsechen Ling,ZOOM,ZOOM
ATTACH;FMTTYPE=image/jpeg:https://sakyapa.eu/wp-content/uploads/2024/01/Tara-white-scaled.jpg
END:VEVENT
BEGIN:VEVENT
DTSTART;TZID=Europe/Zurich:20240224T140000
DTEND;TZID=Europe/Zurich:20240224T160000
DTSTAMP:20260420T082432
CREATED:20240118T131145Z
LAST-MODIFIED:20240118T131305Z
UID:10000515-1708783200-1708790400@sakyapa.eu
SUMMARY:CHOTRUL DÜCHEN - CELEBRATION
DESCRIPTION:Guided by: KHENPO TASHI SANGPO \n\n\n\nDate: SAT 24 FEBRUARY \n\n\n\nTime: 14.00 – 16.00 \n\n\n\nPlace: Sakya Tsechen Ling\, Kuttolsheim/France & ZOOM  \n\n\n\nLanguage: EN \n\n\n\nAvailable translations: FR\, SWE\, NL \n\n\n\nFree donation \n\n\n\n\nFree donation \n\n\n\nOn Saturday afternoon we celebrate CHOTRUL DÜCHEN\, one of the four great buddhist celebrations: The first fifteen days of the Tibetan year commemorate the event when Lord Buddha performed a different miracle each day to instill devotion and increase merit among heretics. \n\n\n\nProgram: \n\n\n\nIntroduction to Chotrul Düchen \n\n\n\nSutra of Remembering the Three Jewels \n\n\n\nThe Three-Part Sutra: Confession before the thirty-five Buddhas \n\n\n\nBuddha Shakyamuni prayer \n\n\n\n16 Arhat-ritual \n\n\n\nLonglife-prayers for Their Holinesses \n\n\n\nThe texts can be downloaded HERE \n\n\n\nRegistration \n\n\n\nTo come to the STL temple\, Kuttolsheim (FR)\, register a few days in advance for this event using the link below. \n\n\n\n\nKuttolsheim\n\n\n\n\nRegister in advance for this meeting on Zoom at least one day in advance. \n\n\n\nYou will receive a confirmation email from “Sakya Dharma Family Admin” with the Zoom link to participate (click “Click Here To Join”) on the day of the event. \n\n\n\n\nZOOM
URL:https://sakyapa.eu/event/chotrul-duchen-celebration/
LOCATION:Sakya Tsechen Ling\, 5 Rdpt du Vignoble\, Kuttolsheim\, 67520\, France
CATEGORIES:All courses in English only,Khenpo Tashi Sangpo,Sakya Tsechen Ling,ZOOM
ATTACH;FMTTYPE=image/jpeg:https://sakyapa.eu/wp-content/uploads/2024/01/Chotrul-Duchen-Miracles.jpg
END:VEVENT
END:VCALENDAR