BEGIN:VCALENDAR
VERSION:2.0
PRODID:-//European Sakya Centers founded by Khenchen Sherab - ECPv6.13.2.1//NONSGML v1.0//EN
CALSCALE:GREGORIAN
METHOD:PUBLISH
X-WR-CALNAME:European Sakya Centers founded by Khenchen Sherab
X-ORIGINAL-URL:https://sakyapa.eu
X-WR-CALDESC:Events for European Sakya Centers founded by Khenchen Sherab
REFRESH-INTERVAL;VALUE=DURATION:PT1H
X-Robots-Tag:noindex
X-PUBLISHED-TTL:PT1H
BEGIN:VTIMEZONE
TZID:Europe/Zurich
BEGIN:DAYLIGHT
TZOFFSETFROM:+0100
TZOFFSETTO:+0200
TZNAME:CEST
DTSTART:20250330T010000
END:DAYLIGHT
BEGIN:STANDARD
TZOFFSETFROM:+0200
TZOFFSETTO:+0100
TZNAME:CET
DTSTART:20251026T010000
END:STANDARD
END:VTIMEZONE
BEGIN:VEVENT
DTSTART;TZID=Europe/Zurich:20250124T203000
DTEND;TZID=Europe/Zurich:20250124T220000
DTSTAMP:20260424T005156
CREATED:20250114T150740Z
LAST-MODIFIED:20250114T151653Z
UID:10002589-1737750600-1737756000@sakyapa.eu
SUMMARY:VAJRAYOGHINI TSOG OFFERING
DESCRIPTION:Time: 20.30 – 22.00​ \n\n\n\nGuided by: Lama Sherab Sangpo \n\n\n\n\nThe Tsog ritual is a fast method for the accumulation of merit and wisdom through a group practice of making offerings to special deities. Vajrayana practitioners should perform the Tsog offering twice a month\, on 10th and 25th day of the Tibetan lunar calendar. The Vajrayogini Tsog offering is particularly important in the Sakya tradition. \n\n\n\nONLY FOR THOSE WHO ALREADY RECEIVED VAJRAYOGINI EMPOWERMENT FROM A QUALIFIED SAKYA MASTER.WE USE THE TSOG TEXT PREPARED BY HER EMINENCE JETSUN KUSHOK. \n\n\n\nIf you don’t have this text please practice your own Sadhana. \n\n\n\nPlease join on time\, no late arrivals. \n\n\n\nParticipation in the temple SAKYA TSECHEN LING\, KUTTOLSHEIM.  \n\n\n\nJoin us at the temple in F-67520 Kuttolsheim\, France: \n\n\n\n\nKuttolsheim\n\n\n\n\nRegister in advance for this meeting on Zoom at least one day in advance. \n\n\n\nYou will receive a confirmation email from “Sakya Dharma Family Admin” with the Zoom link to participate (click “Click Here To Join”) on the day of the event. \n\n\n\n\nZOOM\n\n\n\n\nThis event is offered to you by Khenchen Sherab’s Sakya Dharma Family. We want to make it possible for everyone to participate\, however\, our Dharma activities are only possible thanks to your kind donations. To ensure the continuity of our activities\, please consider supporting your local center. Click HERE for the list of all our Sakya Dharma Family Centers.
URL:https://sakyapa.eu/event/vajrayoghini-tsog-offering-en-2501/
LOCATION:Sakya Tsechen Ling\, 5 Rdpt du Vignoble\, Kuttolsheim\, 67520\, France
CATEGORIES:All courses in English only,Lama Shérab Sangpo-EN,Sakya Tsechen Ling,ZOOM-EN
ATTACH;FMTTYPE=image/png:https://sakyapa.eu/wp-content/uploads/2023/10/VY.png
END:VEVENT
BEGIN:VEVENT
DTSTART;TZID=Europe/Zurich:20250125T100000
DTEND;TZID=Europe/Zurich:20250126T160000
DTSTAMP:20260424T005156
CREATED:20241215T175612Z
LAST-MODIFIED:20241216T162648Z
UID:10002493-1737799200-1737907200@sakyapa.eu
SUMMARY:NGÖNDRO\, THE UNCOMMON PRELIMINARY PRACTICES
DESCRIPTION:Teachings by: LAMA SHERAB SANGPO \n\n\n\nDate: SAT-SUN / 25 – 26 JANUARY \n\n\n\nTime: Saturday & Sunday 10.00 – 12.00 & 14.00 – 16.00 \n\n\n\nPlace: Sakya Tsechen Ling\, Kuttolsheim/France\, NO STREAMING \n\n\n\nLanguage: EN \n\n\n\nAvailable translations: FR \n\n\n\nSuggested donation: 25€/30 CHF \n\n\n\n\nThe Ngöndro is a series of what are known as “preliminary practices\,” which form the base of practice in the Tibetan Buddhist tradition. It helps practitioners clear away mental obstacles and build essential qualities like letting go of attachments\, self-discipline\, meditation\, and wisdom. This foundation is crucial for moving on to more advanced Vajrayana teachings and practices. The Ngöndros are like a roadmap to enlightenment — it gives us step-by-step instructions on our journey to liberation.  \n\n\n\nLama Sherab Sangpo \n\n\n\nMy religious name is Lama Sherab Sangpo\, and my civil name is Nima Bhutia. I was born on 5th June 1992 in Eastern Nepal. \n\n\n\nI entered the Sakya Guru Monastery of Tibetan Buddhism in Ghoom/Darjeeling (WB\, India) in the year 2000 and took the vows as a novice monk. There I studied and memorized many rituals\, learned how to make tormas and mandalas according to the regular program. All monks must be able to perform these rituals as they are an integral part of the annual monastic program.  \n\n\n\nIn 2008 I took full Bhikshu ordination. After further studies at Sakya Guru Monastery in Darjeeling I joined the Sakya Choepheling Institute of Higher Buddhist Studies in Rimbick (near Darjeeling) to deepen my knowledge in buddhist philosophy\, studying the Bodhicaryavatara\, Abhisamaya Alamkara (Ornament of Clear Realization)\, Madhyamika (The Middle Way) by Aryadeva\, Pramanavarttika karika (Commentary on the Valid Cognition) by Dharmakirti\, Logic and Epistemology by Sakya Pandita\, A Clear Differentiation of the Three Codes by Sakya Pandita\, Introduction to the Middle Way by Chandrakirti.In 2017 I graduated as a Lopön Master. \n\n\n\nIn 2018 I went to the buddhist center Sakya Samdrub Ling in Malaysia and during one year I participated in the center’s activities and performed rituals at the temple and in private family homes. \n\n\n\nAfter returning to India\, I undertook and successfully completed a 3-year retreat at the Sakya Dolma Phodrang retreat center in Dehradun. During this retreat I performed traditional Sakya practices\, such as Vajrapani\, Mahavairocana\, Vajrakilaya\, Hevajra\, Vajrayogini\, Sakya Pandita\, etc.  \n\n\n\nThen\, in July 2022\, I was invited to Sakya Tsechen Ling in France and thus\, for the first time\, I came to Europe.  \n\n\n\nI do my daily practice sessions now at the Institute in Kuttolsheim\, where I also take care of the temple and perform daily Tara rituals in the morning and Mahakala rituals in the afternoon\, as per tradition. I am happy to welcome visitors and meet new people. I am also happy to perform specific rituals upon request. \n\n\n\nRegistration To come to the STL temple\, Kuttolsheim (FR)\, please register a few days in advance for this event using the link below.  \n\n\n\nKUTTOLSHEIM
URL:https://sakyapa.eu/event/ngondro-the-uncommon-preliminary-practices-en/
CATEGORIES:All courses in English only,Lama Shérab Sangpo-EN,Sakya Thegchen Ling-EN,Tous les cours en Français
END:VEVENT
END:VCALENDAR