BEGIN:VCALENDAR
VERSION:2.0
PRODID:-//European Sakya Centers founded by Khenchen Sherab - ECPv6.13.2.1//NONSGML v1.0//EN
CALSCALE:GREGORIAN
METHOD:PUBLISH
X-WR-CALNAME:European Sakya Centers founded by Khenchen Sherab
X-ORIGINAL-URL:https://sakyapa.eu
X-WR-CALDESC:Events for European Sakya Centers founded by Khenchen Sherab
REFRESH-INTERVAL;VALUE=DURATION:PT1H
X-Robots-Tag:noindex
X-PUBLISHED-TTL:PT1H
BEGIN:VTIMEZONE
TZID:Europe/Zurich
BEGIN:DAYLIGHT
TZOFFSETFROM:+0100
TZOFFSETTO:+0200
TZNAME:CEST
DTSTART:20250330T010000
END:DAYLIGHT
BEGIN:STANDARD
TZOFFSETFROM:+0200
TZOFFSETTO:+0100
TZNAME:CET
DTSTART:20251026T010000
END:STANDARD
END:VTIMEZONE
BEGIN:VEVENT
DTSTART;TZID=Europe/Zurich:20251115T100000
DTEND;TZID=Europe/Zurich:20251116T160000
DTSTAMP:20260423T023256
CREATED:20251011T135131Z
LAST-MODIFIED:20251011T155427Z
UID:10003875-1763200800-1763308800@sakyapa.eu
SUMMARY:THE HEART SUTRA
DESCRIPTION:Teachings by: KHENPO TASHI SANGPO \n\n\n\nDate: SAT/ SUN / 15-16 NOVEMBER \n\n\n\nTime: Saturday & Sunday 10.00 – 12.00 & 14.00 – 16.00 \n\n\n\nPlace: Sakya Tsechen Ling\, Kuttolsheim/France & ZOOM \n\n\n\nLanguage: EN \n\n\n\nAvailable translations: FR \n\n\n\nSuggested donation: 25€/30 CH \n\n\n\n\nThe Heart Sutra\, or Sutra of Supreme Wisdom\, is one of the most popular Mahayana Buddhist sutras and is considered the essence of the Prajnaparamita texts. \n\n\n\nIf we lack the wisdom that can discriminate accurately between reality and fantasy\, we lack the most important tool for fulfilling our own and other’s worldly and spiritual positive aims. In a state of unawareness and confusion\, we can only guess what will be helpful for us or for someone else\, and often we’re wrong. With far-reaching discriminating awareness – the perfection of wisdom – coupled with compassion and a Bodhicitta aim\, we can become a Buddha and know in full the most effective and appropriate methods for benefiting each and every being there is.The text can be downloaded HERE \n\n\n\nRegistration To come to the STL temple\, Kuttolsheim (FR)\, please register a few days in advance for this event using the link below. \n\n\n\nKUTTOLSHEIM \n\n\n\nRegister in advance for this meeting on Zoom at least one day in advance. \n\n\n\nYou will receive a confirmation email from “Sakya Dharma Family Admin” with the Zoom link to participate (click “Click Here To Join”) on the day of the event. \n\n\n\nZOOM
URL:https://sakyapa.eu/event/the-heart-sutra-25-11/
CATEGORIES:All courses in English only,Khenpo Tashi Sangpo-EN,Sakya Tsechen Ling-EN,ZOOM-EN
END:VEVENT
END:VCALENDAR