BEGIN:VCALENDAR
VERSION:2.0
PRODID:-//European Sakya Centers founded by Khenchen Sherab - ECPv6.13.2.1//NONSGML v1.0//EN
CALSCALE:GREGORIAN
METHOD:PUBLISH
X-ORIGINAL-URL:https://sakyapa.eu
X-WR-CALDESC:Events for European Sakya Centers founded by Khenchen Sherab
REFRESH-INTERVAL;VALUE=DURATION:PT1H
X-Robots-Tag:noindex
X-PUBLISHED-TTL:PT1H
BEGIN:VTIMEZONE
TZID:Europe/Zurich
BEGIN:DAYLIGHT
TZOFFSETFROM:+0100
TZOFFSETTO:+0200
TZNAME:CEST
DTSTART:20250330T010000
END:DAYLIGHT
BEGIN:STANDARD
TZOFFSETFROM:+0200
TZOFFSETTO:+0100
TZNAME:CET
DTSTART:20251026T010000
END:STANDARD
END:VTIMEZONE
BEGIN:VEVENT
DTSTART;TZID=Europe/Zurich:20251017T203000
DTEND;TZID=Europe/Zurich:20251019T160000
DTSTAMP:20260423T183815
CREATED:20250912T171415Z
LAST-MODIFIED:20250912T171444Z
UID:10003820-1760733000-1760889600@sakyapa.eu
SUMMARY:NGÖNDRO: THE MANDALA OF THE UNIVERSE
DESCRIPTION:Teachings by: KHENPO TASHI SANGPO \n\n\n\nDate: FRI-SUN /17 – 19 OCTOBER \n\n\n\nTime: Friday 20.30 – 22.00\, Saturday & Sunday 10.00 – 12.00 & 14.00 – 16.00 \n\n\n\nPlace: Sakya Tsechen Ling\, Kuttolsheim/France & ZOOM \n\n\n\nLanguage: EN \n\n\n\nAvailable translations: FR \n\n\n\nSuggested donation: 25€/30 CHF \n\n\n\n\nThe mandala offering is one of the uncommon preliminary practices of Tibetan Buddhism. It is a swift and effective method for accumulating merit — one of the two essential factors for spiritual progress — by symbolically offering\, in the form of the mandala of the universe\, all of one’s own wealth and virtues\, along with those of others\, as well as all the beauty and positive qualities existing everywhere. \n\n\n\nDuring this seminar\, Khenpo Tashi will guide us in properly learning this profound and captivating ritual offering\, rich in meaning and transformative power. \n\n\n\nIf you have a mandala offering set\, you are welcome to bring it with you. \n\n\n\nRegistration To come to the STL temple\, Kuttolsheim (FR)\, please register a few days in advance for this event using the link below. \n\n\n\nKUTTOLSHEIM \n\n\n\nRegister in advance for this meeting on Zoom at least one day in advance. \n\n\n\nYou will receive a confirmation email from “Sakya Dharma Family Admin” with the Zoom link to participate (click “Click Here To Join”) on the day of the event. \n\n\n\nZOOM
URL:https://sakyapa.eu/event/ngondro-the-mandala-of-the-universe-2/
CATEGORIES:All courses in English only,Khenpo Tashi Sangpo-EN,Sakya Tsechen Ling-EN,ZOOM-EN
END:VEVENT
BEGIN:VEVENT
DTSTART;TZID=Europe/Zurich:20251019T070000
DTEND;TZID=Europe/Zurich:20251019T080000
DTSTAMP:20260423T183815
CREATED:20250912T132139Z
LAST-MODIFIED:20250912T132158Z
UID:10003808-1760857200-1760860800@sakyapa.eu
SUMMARY:TARA RITUAL
DESCRIPTION:Time: 7.00 – 8.00 \n\n\n\nGuide: Khenpo Tashi Sangpo \n\n\n\nPlace: Sakya Tsechen Ling & ZOOM \n\n\n\nFree donation \n\n\n\n\nTara\, the Liberator\, is a very important female Deity in Tibet. Her nature is that of great compassion indivisible from wisdom\, and she is always ready to quickly pacify all obstacles\, illnesses\, difficulties and suffering. These practices are carried out for the universal peace in general\, and for the fast dissolution of the current pandemic in particular. \n\n\n\nThe Thangtong Gyalpo Prayer can be downloaded HERE. \n\n\n\nRegister in advance for this meeting on Zoom at least one day in advance. \n\n\n\nYou will receive a confirmation email from “Sakya Dharma Family Admin” with the Zoom link to participate (click “Click Here To Join”) on the day of the event. \n\n\n\n\nZOOM
URL:https://sakyapa.eu/event/tara-ritual-en-2510/
LOCATION:Sakya Tsechen Ling\, 5 Rdpt du Vignoble\, Kuttolsheim\, 67520\, France
CATEGORIES:All courses in English only,Khenpo Tashi Sangpo-EN,Sakya Tsechen Ling-EN,ZOOM-EN
ATTACH;FMTTYPE=image/webp:https://sakyapa.eu/wp-content/uploads/2023/10/2.webp
END:VEVENT
END:VCALENDAR