BEGIN:VCALENDAR
VERSION:2.0
PRODID:-//European Sakya Centers founded by Khenchen Sherab - ECPv6.13.2.1//NONSGML v1.0//EN
CALSCALE:GREGORIAN
METHOD:PUBLISH
X-ORIGINAL-URL:https://sakyapa.eu
X-WR-CALDESC:Events for European Sakya Centers founded by Khenchen Sherab
REFRESH-INTERVAL;VALUE=DURATION:PT1H
X-Robots-Tag:noindex
X-PUBLISHED-TTL:PT1H
BEGIN:VTIMEZONE
TZID:Europe/Zurich
BEGIN:DAYLIGHT
TZOFFSETFROM:+0100
TZOFFSETTO:+0200
TZNAME:CEST
DTSTART:20250330T010000
END:DAYLIGHT
BEGIN:STANDARD
TZOFFSETFROM:+0200
TZOFFSETTO:+0100
TZNAME:CET
DTSTART:20251026T010000
END:STANDARD
END:VTIMEZONE
BEGIN:VEVENT
DTSTART;TZID=Europe/Zurich:20251011T100000
DTEND;TZID=Europe/Zurich:20251012T153000
DTSTAMP:20260424T004916
CREATED:20250912T125656Z
LAST-MODIFIED:20250912T130006Z
UID:10003803-1760176800-1760283000@sakyapa.eu
SUMMARY:NGÖNDRO: THE MANDALA OF THE UNIVERSE
DESCRIPTION:Teaching given by: KHENPO TASHI SANGPO \n\n\n\nDate: SAT-SUN 11-12 OCTOBER \n\n\n\nTime: Saturday & Sunday 10.00 – 12.00 & 13.30 – 15.30 \n\n\n\nPlace: Thupten Changchup Ling\, Arosio/CH & ZOOM \n\n\n\nLanguage: EN \n\n\n\nAvailable translation: ITFee: in-person 50 CHF/€\, online 30 CHF/€ \n\n\n\n\nThe mandala offering is one of the uncommon preliminary practices of Tibetan Buddhism. It is a swift and effective method for accumulating merit — one of the two essential factors for spiritual progress — by symbolically offering\, in the form of the mandala of the universe\, all of one’s own wealth and virtues\, along with those of others\, as well as all the beauty and positive qualities existing everywhere. \n\n\n\nDuring this seminar\, Khenpo Tashi will guide us in properly learning this profound and captivating ritual offering\, rich in meaning and transformative power. \n\n\n\nIf you have a mandala offering set\, you are welcome to bring it with you. \n\n\n\nPlease register at least two days before the event to participate in person in Arosio (using the link below). \n\n\n\nAROSIO \n\n\n\nRegister in advance for this meeting on Zoom at least one day in advance. \n\n\n\nYou will receive a confirmation email from “Sakya Dharma Family Admin” with the Zoom link to participate (click “Click Here To Join”) on the day of the event. \n\n\n\nZOOM
URL:https://sakyapa.eu/event/ngondro-the-mandala-of-the-universe/
CATEGORIES:All courses in English only,Khenpo Tashi Sangpo-EN,Thupten Changchup Ling-EN,ZOOM-EN
END:VEVENT
END:VCALENDAR