BEGIN:VCALENDAR
VERSION:2.0
PRODID:-//European Sakya Centers founded by Khenchen Sherab - ECPv6.13.2.1//NONSGML v1.0//EN
CALSCALE:GREGORIAN
METHOD:PUBLISH
X-ORIGINAL-URL:https://sakyapa.eu
X-WR-CALDESC:Events for European Sakya Centers founded by Khenchen Sherab
REFRESH-INTERVAL;VALUE=DURATION:PT1H
X-Robots-Tag:noindex
X-PUBLISHED-TTL:PT1H
BEGIN:VTIMEZONE
TZID:Europe/Zurich
BEGIN:DAYLIGHT
TZOFFSETFROM:+0100
TZOFFSETTO:+0200
TZNAME:CEST
DTSTART:20250330T010000
END:DAYLIGHT
BEGIN:STANDARD
TZOFFSETFROM:+0200
TZOFFSETTO:+0100
TZNAME:CET
DTSTART:20251026T010000
END:STANDARD
END:VTIMEZONE
BEGIN:VEVENT
DTSTART;TZID=Europe/Zurich:20250909T191500
DTEND;TZID=Europe/Zurich:20250909T210000
DTSTAMP:20260422T215415
CREATED:20250817T071552Z
LAST-MODIFIED:20250817T071728Z
UID:10003634-1757445300-1757451600@sakyapa.eu
SUMMARY:DHARMA CHAKRA PROGRAM – ABHIDHARMA (22 lessons)
DESCRIPTION:Teachings by: H.H. THE 42ND SAKYA TRIZIN RATNA VAJRA RINPOCHE \n\n\n\nCourse begins 8.10.2024\, in total 22 lessons\, about 2 Tuesday evenings per month \n\n\n\nDate:  9.9. (19)\, 23.9. (20)\, 14.10. (21)\, 28.10. (22 FINAL) \n\n\n\nTime: 19.15 – 21.00 \n\n\n\nPlace: Thupten Changchup Ling\, Arosio/CH & ZOOM \n\n\n\nLanguage: EN \n\n\n\nAvailable translations: IT\, DE\, FR\, NL \n\n\n\nPrerequisites: No prerequisites\, open to all \n\n\n\nCost: Free of charge with optional donation \n\n\n\n\n\n\n\n\nDHARMA CHAKRA PROGRAM \n\n\n\nExtended Study Program on the Essentials of Classical Buddhist Philosophy \n\n\n\nTeachings by H.H. Ratna Vajra Rinpoche \n\n\n\nFirst Year: Abhidharma \n\n\n\n19.15: Refuge and meditation on Bodhicitta \n\n\n\n19.30: Listening to teachings of H.H. Ratna Vajra Rinpoche with translation \n\n\n\n20.30: Meditation: contemplation of the topics discussed and rest in the empty presence. \n\n\n\nYou can write any questions you may have on the subject HERE. Khenpo Tashi will occasionally answer them in question-answer sessions. \n\n\n\nAbout the Program  \n\n\n\nFrom the Buddhist perspective\, engaging in the progressive steps of study\, contemplation\, and meditation acquaints us with wisdom\, empowering us with the potential to become great practitioners. The Dharma Chakra Program (DCP) is designed to provide the indispensable elements of the philosophical tradition in a succinct manner. This program is an extraordinary opportunity to develop a deep understanding of the main tenets of classical Buddhist philosophy through one of the most esteemed erudites of our time\, His Holiness the 42nd Sakya Trizin\, Ratna Vajra Rinpoche.  \n\n\n\nThis extended study program provides the everyday practitioner in the modern world with rare access to the essence of Mahayana philosophy through an unbroken lineage\, a privilege traditionally available only in monastic universities.  \n\n\n\nWhat You’ll Learn \n\n\n\nYear 1: Abhidharma  \n\n\n\nYear 2: Bodhisattvacharyavatara Chapters 1 – 6Year 3: Bodhisattvacharyavatara Chapters 7 – 10Year 4: MadhyamakaYear 5: Uttaratantra \n\n\n\nThe Dharma Chakra Program in the European centres founded by Khenchen Sherab: \n\n\n\nThe Dharma Chakra Program is an initiative of the Sachen Foundation and can be followed online in English by anyone via their dedicated website:  \n\n\n\nwww.sachenfoundation.org/dharmachakra/ \n\n\n\nIn our centres we offer about two meetings per month\, both in presence and online\, where we listen together to the teachings of H.H. Ratna Vajra Rinpoche with translation into Italian\, French\, German and Dutch. After the teachings there will be a 30-minute meditation in which we can reflect on the topics covered and then rest a while in the empty presence.  \n\n\n\nThere will be occasional question-and-answer sessions with Khenpo Tashi. Questions should be submitted through this form. On the Sachen Foundation website dedicated to this study programme\, you will find additional material in English on the topics discussed\, which we will also use in our meetings if necessary. \n\n\n\nFirst Year: Abhidharma (22 lessons) \n\n\n\n“The mind is everything. What you think\, you become.” -Vasubandhu \n\n\n\nThe Buddha’s teachings are traditionally classified into three collections: Vinaya\, Sutra\, and Abhidharma.  \n\n\n\nAbhidharma is a collection of the Buddha’s highest teachings focused on wisdom training. It examines the nature of reality\, the mind\, and mental phenomena\, guiding us toward a deeper understanding of the nature of reality. Its profound insights into the workings of consciousness and the essence of existence\, provide a comprehensive framework for understanding Buddhist psychology and philosophy across all three vehicles or yanas. \n\n\n\nIn this course\, His Holiness the 42nd Sakya Trizin will focus on the Treasury of Abhidharma or Abhidharmakośa\, authored by Vasubandhu\, a prominent Indian Buddhist scholar and master from the 4th or 5th century. Abhidharmakośa\, considered one of the thirteen great texts utilized as the core curriculum in most traditional Tibetan Buddhist centers for teaching or shedras\, serves as a seminal work in the Mahayana tradition. It provides a structured overview of Abhidharma teachings and is extensively studied by all Tibetan traditions. \n\n\n\nThe vast teachings of Abhidharma and Buddhist psychology provide a path to a clear and deep view of the nature of reality\, bringing us closer to understanding our minds and freeing ourselves from suffering. The study of\, including texts like the Abhidharmakośa\, equips practitioners with invaluable insights and tools to deepen their spiritual journey\, foster wisdom\, and lead a more meaningful and fulfilling life. \n\n\n\nThese lessons will bring you closer to: \n\n\n\n  •  A deeper understanding of your emotions and thoughts.  •  Cultivating a stable meditation practice.  •  Distilling the profound teachings of Tibetan Buddhism.  •  Learning about the doctrinal differences between the ancient Buddhist schools.  •  Exploring consciousness and mental processes.  •  Analysing the nature of reality.  •  Connecting with the law of karma\, impermanence\, and emptiness. \n\n\n\nThe reference texts can be downloaded HERE \n\n\n\nJoin us at the temple in Arosio (CH):Please register at least two days before the event to participate in person in Arosio (using the link below). \n\n\n\n\nAROSIO\n\n\n\n\n\n\n\n\nRegister in advance for this meeting on Zoom at least one day in advance.You will receive a confirmation email from “Sakya Dharma Family Admin” with the Zoom link to participate (click “Click Here To Join”) on the day of the event. \n\n\n\n\nZOOM
URL:https://sakyapa.eu/event/dharma-chakra-program-abhidharma-22-lessons-5/2025-09-09/
CATEGORIES:All courses in English only,Thupten Changchup Ling-EN,ZOOM-EN
END:VEVENT
BEGIN:VEVENT
DTSTART;TZID=Europe/Zurich:20250913T100000
DTEND;TZID=Europe/Zurich:20250914T153000
DTSTAMP:20260422T215415
CREATED:20250817T092953Z
LAST-MODIFIED:20250817T093132Z
UID:10003711-1757757600-1757863800@sakyapa.eu
SUMMARY:THE EXTRAORDINARY LIFE OF JETSUN MILAREPA\, PART 6 (INTENSIVE PRACTICE AND REALISATION)
DESCRIPTION:Teachings by: KHENPO TASHI SANGPO \n\n\n\nDate: SAT-SUN 13-14 SEPTEMBER \n\n\n\nTime: Saturday & Sunday 10.00 – 12.00 & 13.30 – 15.30 \n\n\n\nPlace: Thupten Changchup Ling\, Arosio/CH & ZOOM \n\n\n\nLanguage: EN \n\n\n\nAvailable translations: IT \n\n\n\nSuggested donation: 25€/30 CHF \n\n\n\n\nMilarepa\, famous in the ten directions for attaining enlightenment in a single lifetime and for his songs of realisation\, is one of Tibet’s most beloved historical figures. His biography\, which shows the intensity of his life’s processes\, is a great teaching in itself. The extraordinary events in his life unfolded from suffering to black magic\, from regret to harsh purification\, from rigorous asceticism to the bliss of realisation. Having reached the pinnacle of the path\, he instructs and inspires all beings he encounters with the poetic beauty of his vajra chants\, through which he teaches all aspects of the Dharma.  \n\n\n\nText and prayers can be downloaded HERE \n\n\n\nJoin us at the temple in Arosio (CH): \n\n\n\nPlease register at least two days before the event to participate in person in Arosio (using the link below). \n\n\n\n\nAROSIO\n\n\n\n\nRegister in advance for this meeting on Zoom at least one day in advance. \n\n\n\nYou will receive a confirmation email from “Sakya Dharma Family Admin” with the Zoom link to participate (click “Click Here To Join”) on the day of the event. \n\n\n\n\nZOOM
URL:https://sakyapa.eu/event/the-extraordinary-life-of-jetsun-milarepa-part-6-intensive-practice-and-realisation-3/
CATEGORIES:All courses in English only,Khenpo Tashi Sangpo-EN,Thupten Changchup Ling-EN,ZOOM-EN
END:VEVENT
BEGIN:VEVENT
DTSTART;TZID=Europe/Zurich:20250916T191500
DTEND;TZID=Europe/Zurich:20250916T204500
DTSTAMP:20260422T215415
CREATED:20250817T082346Z
LAST-MODIFIED:20250817T082413Z
UID:10003693-1758050100-1758055500@sakyapa.eu
SUMMARY:VAJRAYOGHINI TSOG OFFERING
DESCRIPTION:Time: 19.15 – 20.45​ \n\n\n\nGuided by: Lama Sherab Sangpo \n\n\n\n\nThe Tsog ritual is a fast method for the accumulation of merit and wisdom through a group practice of making offerings to special deities. Vajrayana practitioners should perform the Tsog offering twice a month\, on 10th and 25th day of the Tibetan lunar calendar. The Vajrayogini Tsog offering is particularly important in the Sakya tradition. \n\n\n\nONLY FOR THOSE WHO ALREADY RECEIVED VAJRAYOGINI EMPOWERMENT FROM A QUALIFIED SAKYA MASTER.WE USE THE TSOG TEXT PREPARED BY HER EMINENCE JETSUN KUSHOK. \n\n\n\nIf you don’t have this text please practice your own Sadhana. \n\n\n\nPlease join on time\, no late arrivals. \n\n\n\nParticipation in the temple SAKYA TSECHEN LING\, KUTTOLSHEIM.  \n\n\n\nJoin us at the temple in F-67520 Kuttolsheim\, France. \n\n\n\nRegister in advance for this meeting on Zoom at least one day in advance. \n\n\n\nYou will receive a confirmation email from “Sakya Dharma Family Admin” with the Zoom link to participate (click “Click Here To Join”) on the day of the event. \n\n\n\n\nZOOM\n\n\n\n\nThis event is offered to you by Khenchen Sherab’s Sakya Dharma Family. We want to make it possible for everyone to participate\, however\, our Dharma activities are only possible thanks to your kind donations. To ensure the continuity of our activities\, please consider supporting your local center. Click HERE for the list of all our Sakya Dharma Family Centers.
URL:https://sakyapa.eu/event/vajrayoghini-tsog-offering-25-09/
LOCATION:Sakya Tsechen Ling\, 5 Rdpt du Vignoble\, Kuttolsheim\, 67520\, France
CATEGORIES:All courses in English only,Lama Shérab Sangpo-EN,Sakya Tsechen Ling,ZOOM-EN
ATTACH;FMTTYPE=image/png:https://sakyapa.eu/wp-content/uploads/2023/10/VY.png
END:VEVENT
BEGIN:VEVENT
DTSTART;TZID=Europe/Zurich:20250919T203000
DTEND;TZID=Europe/Zurich:20250921T160000
DTSTAMP:20260422T215416
CREATED:20250817T082045Z
LAST-MODIFIED:20250904T065909Z
UID:10003692-1758313800-1758470400@sakyapa.eu
SUMMARY:THE EXTRAORDINARY LIFE OF JETSUN MILAREPA\, PART 7 (INTENSIVE PRACTICE AND REALISATION)
DESCRIPTION:Teachings by: KHENPO TASHI SANGPO \n\n\n\nDate: FRI-SUN / 19 – 21 SEPTEMBER \n\n\n\nTime: Friday 20.30 – 22.00\, Saturday & Sunday 10.00 – 12.00 & 14.00 – 16.00 \n\n\n\nPlace: Sakya Tsechen Ling\, Kuttolsheim/France & ZOOM \n\n\n\nLanguage: EN \n\n\n\nAvailable translations: FR \n\n\n\nSuggested donation: 25€/30 CHF \n\n\n\n\nMilarepa\, famous in the ten directions for attaining enlightenment in a single lifetime and for his songs of realisation\, is one of Tibet’s most beloved historical figures. His biography\, which shows the intensity of his life’s processes\, is a great teaching in itself. The extraordinary events in his life unfolded from suffering to black magic\, from regret to harsh purification\, from rigorous asceticism to the bliss of realisation. Having reached the pinnacle of the path\, he instructs and inspires all beings he encounters with the poetic beauty of his vajra chants\, through which he teaches all aspects of the Dharma.  \n\n\n\nText and prayers can be downloaded HERE \n\n\n\nOn Sunday\, Khenpo Tashi will lead long life prayers for His Holiness Gongma Trichen Rinpoche\, who\, according to the Tibetan calendar\, celebrates his birthday on September 22nd this year. We sincerely offer our heartfelt best wishes\, with the aspiration that His Holiness may enjoy good health and a long life\, and that he may continue to turn the Wheel of Dharma. \n\n\n\nRegistration To come to the STL temple\, Kuttolsheim (FR)\, please register a few days in advance for this event using the link below. \n\n\n\nKUTTOLSHEIM \n\n\n\nRegister in advance for this meeting on Zoom at least one day in advance. \n\n\n\nYou will receive a confirmation email from “Sakya Dharma Family Admin” with the Zoom link to participate (click “Click Here To Join”) on the day of the event. \n\n\n\n\nZOOM
URL:https://sakyapa.eu/event/the-extraordinary-life-of-jetsun-milarepa-part-6-intensive-practice-and-realisation-2/
CATEGORIES:All courses in English only,Khenpo Tashi Sangpo-EN,Sakya Tsechen Ling-EN,ZOOM-EN
END:VEVENT
BEGIN:VEVENT
DTSTART;TZID=Europe/Zurich:20250921T070000
DTEND;TZID=Europe/Zurich:20250921T080000
DTSTAMP:20260422T215416
CREATED:20250817T094529Z
LAST-MODIFIED:20250817T094600Z
UID:10003713-1758438000-1758441600@sakyapa.eu
SUMMARY:TARA RITUAL
DESCRIPTION:Time: 7.00 – 8.00 \n\n\n\nGuide: Khenpo Tashi Sangpo \n\n\n\nPlace: Sakya Tsechen Ling & ZOOM \n\n\n\nFree donation \n\n\n\n\nTara\, the Liberator\, is a very important female Deity in Tibet. Her nature is that of great compassion indivisible from wisdom\, and she is always ready to quickly pacify all obstacles\, illnesses\, difficulties and suffering. These practices are carried out for the universal peace in general\, and for the fast dissolution of the current pandemic in particular. \n\n\n\nThe Thangtong Gyalpo Prayer can be downloaded HERE. \n\n\n\nRegister in advance for this meeting on Zoom at least one day in advance. \n\n\n\nYou will receive a confirmation email from “Sakya Dharma Family Admin” with the Zoom link to participate (click “Click Here To Join”) on the day of the event. \n\n\n\n\nZOOM
URL:https://sakyapa.eu/event/tara-ritual-en-25-09/
LOCATION:Sakya Tsechen Ling\, 5 Rdpt du Vignoble\, Kuttolsheim\, 67520\, France
CATEGORIES:All courses in English only,Khenpo Tashi Sangpo-EN,Sakya Tsechen Ling-EN,ZOOM-EN
ATTACH;FMTTYPE=image/webp:https://sakyapa.eu/wp-content/uploads/2023/10/2.webp
END:VEVENT
BEGIN:VEVENT
DTSTART;TZID=Europe/Zurich:20250923T191500
DTEND;TZID=Europe/Zurich:20250923T210000
DTSTAMP:20260422T215416
CREATED:20250817T071552Z
LAST-MODIFIED:20250817T071728Z
UID:10003635-1758654900-1758661200@sakyapa.eu
SUMMARY:DHARMA CHAKRA PROGRAM – ABHIDHARMA (22 lessons)
DESCRIPTION:Teachings by: H.H. THE 42ND SAKYA TRIZIN RATNA VAJRA RINPOCHE \n\n\n\nCourse begins 8.10.2024\, in total 22 lessons\, about 2 Tuesday evenings per month \n\n\n\nDate:  9.9. (19)\, 23.9. (20)\, 14.10. (21)\, 28.10. (22 FINAL) \n\n\n\nTime: 19.15 – 21.00 \n\n\n\nPlace: Thupten Changchup Ling\, Arosio/CH & ZOOM \n\n\n\nLanguage: EN \n\n\n\nAvailable translations: IT\, DE\, FR\, NL \n\n\n\nPrerequisites: No prerequisites\, open to all \n\n\n\nCost: Free of charge with optional donation \n\n\n\n\n\n\n\n\nDHARMA CHAKRA PROGRAM \n\n\n\nExtended Study Program on the Essentials of Classical Buddhist Philosophy \n\n\n\nTeachings by H.H. Ratna Vajra Rinpoche \n\n\n\nFirst Year: Abhidharma \n\n\n\n19.15: Refuge and meditation on Bodhicitta \n\n\n\n19.30: Listening to teachings of H.H. Ratna Vajra Rinpoche with translation \n\n\n\n20.30: Meditation: contemplation of the topics discussed and rest in the empty presence. \n\n\n\nYou can write any questions you may have on the subject HERE. Khenpo Tashi will occasionally answer them in question-answer sessions. \n\n\n\nAbout the Program  \n\n\n\nFrom the Buddhist perspective\, engaging in the progressive steps of study\, contemplation\, and meditation acquaints us with wisdom\, empowering us with the potential to become great practitioners. The Dharma Chakra Program (DCP) is designed to provide the indispensable elements of the philosophical tradition in a succinct manner. This program is an extraordinary opportunity to develop a deep understanding of the main tenets of classical Buddhist philosophy through one of the most esteemed erudites of our time\, His Holiness the 42nd Sakya Trizin\, Ratna Vajra Rinpoche.  \n\n\n\nThis extended study program provides the everyday practitioner in the modern world with rare access to the essence of Mahayana philosophy through an unbroken lineage\, a privilege traditionally available only in monastic universities.  \n\n\n\nWhat You’ll Learn \n\n\n\nYear 1: Abhidharma  \n\n\n\nYear 2: Bodhisattvacharyavatara Chapters 1 – 6Year 3: Bodhisattvacharyavatara Chapters 7 – 10Year 4: MadhyamakaYear 5: Uttaratantra \n\n\n\nThe Dharma Chakra Program in the European centres founded by Khenchen Sherab: \n\n\n\nThe Dharma Chakra Program is an initiative of the Sachen Foundation and can be followed online in English by anyone via their dedicated website:  \n\n\n\nwww.sachenfoundation.org/dharmachakra/ \n\n\n\nIn our centres we offer about two meetings per month\, both in presence and online\, where we listen together to the teachings of H.H. Ratna Vajra Rinpoche with translation into Italian\, French\, German and Dutch. After the teachings there will be a 30-minute meditation in which we can reflect on the topics covered and then rest a while in the empty presence.  \n\n\n\nThere will be occasional question-and-answer sessions with Khenpo Tashi. Questions should be submitted through this form. On the Sachen Foundation website dedicated to this study programme\, you will find additional material in English on the topics discussed\, which we will also use in our meetings if necessary. \n\n\n\nFirst Year: Abhidharma (22 lessons) \n\n\n\n“The mind is everything. What you think\, you become.” -Vasubandhu \n\n\n\nThe Buddha’s teachings are traditionally classified into three collections: Vinaya\, Sutra\, and Abhidharma.  \n\n\n\nAbhidharma is a collection of the Buddha’s highest teachings focused on wisdom training. It examines the nature of reality\, the mind\, and mental phenomena\, guiding us toward a deeper understanding of the nature of reality. Its profound insights into the workings of consciousness and the essence of existence\, provide a comprehensive framework for understanding Buddhist psychology and philosophy across all three vehicles or yanas. \n\n\n\nIn this course\, His Holiness the 42nd Sakya Trizin will focus on the Treasury of Abhidharma or Abhidharmakośa\, authored by Vasubandhu\, a prominent Indian Buddhist scholar and master from the 4th or 5th century. Abhidharmakośa\, considered one of the thirteen great texts utilized as the core curriculum in most traditional Tibetan Buddhist centers for teaching or shedras\, serves as a seminal work in the Mahayana tradition. It provides a structured overview of Abhidharma teachings and is extensively studied by all Tibetan traditions. \n\n\n\nThe vast teachings of Abhidharma and Buddhist psychology provide a path to a clear and deep view of the nature of reality\, bringing us closer to understanding our minds and freeing ourselves from suffering. The study of\, including texts like the Abhidharmakośa\, equips practitioners with invaluable insights and tools to deepen their spiritual journey\, foster wisdom\, and lead a more meaningful and fulfilling life. \n\n\n\nThese lessons will bring you closer to: \n\n\n\n  •  A deeper understanding of your emotions and thoughts.  •  Cultivating a stable meditation practice.  •  Distilling the profound teachings of Tibetan Buddhism.  •  Learning about the doctrinal differences between the ancient Buddhist schools.  •  Exploring consciousness and mental processes.  •  Analysing the nature of reality.  •  Connecting with the law of karma\, impermanence\, and emptiness. \n\n\n\nThe reference texts can be downloaded HERE \n\n\n\nJoin us at the temple in Arosio (CH):Please register at least two days before the event to participate in person in Arosio (using the link below). \n\n\n\n\nAROSIO\n\n\n\n\n\n\n\n\nRegister in advance for this meeting on Zoom at least one day in advance.You will receive a confirmation email from “Sakya Dharma Family Admin” with the Zoom link to participate (click “Click Here To Join”) on the day of the event. \n\n\n\n\nZOOM
URL:https://sakyapa.eu/event/dharma-chakra-program-abhidharma-22-lessons-5/2025-09-23/
CATEGORIES:All courses in English only,Thupten Changchup Ling-EN,ZOOM-EN
END:VEVENT
BEGIN:VEVENT
DTSTART;TZID=Europe/Zurich:20250930T191500
DTEND;TZID=Europe/Zurich:20250930T210000
DTSTAMP:20260422T215416
CREATED:20250817T102512Z
LAST-MODIFIED:20250817T102808Z
UID:10003742-1759259700-1759266000@sakyapa.eu
SUMMARY:RITUAL OF THE MEDICINE BUDDHA
DESCRIPTION:Guided by: KHENPO TASHI SANGPO \n\n\n\nDate: 30 September \n\n\n\nTime: 19.15 – 21.00 \n\n\n\nPlace: Thupten Changchup Ling\, Arosio/CH & ZOOM \n\n\n\nLanguage: TIB (ritual)\, EN (guided meditation) \n\n\n\nAvailable translation: IT\, FR \n\n\n\nFree Donation \n\n\n\n\nThere are many aspects of illness and everyone is affected in one way or another. There are physical illnesses\, mental illnesses\, illnesses caused by hindering forces and there are also illnesses that affect animals\, the environment and humanity itself. We live in a time when diseases are rampant\, creating imbalances at various levels and this creates great suffering for many beings. Ritualism\, in this case related to the Medicine Buddha\, is a special method taught by the Buddha through which we can all make our subtle contribution so that all this can be pacified.Additionally Khenpo Tashi will guide a short meditation on the Medicine Buddha. \n\n\n\nJoin us at the temple in Arosio (CH):Please register at least two days before the event to participate in person in Arosio (using the link below). \n\n\n\nAROSIO \n\n\n\nRegister in advance for this meeting on Zoom at least one day in advance.You will receive a confirmation email from “Sakya Dharma Family Admin” with the Zoom link to participate (click “Click Here To Join”) on the day of the event. \n\n\n\nZOOM
URL:https://sakyapa.eu/event/ritual-of-the-medicine-buddha-en-2509/
CATEGORIES:All courses in English only,Khenpo Tashi Sangpo-EN,Thupten Changchup Ling-EN,ZOOM-EN
END:VEVENT
END:VCALENDAR