BEGIN:VCALENDAR
VERSION:2.0
PRODID:-//European Sakya Centers founded by Khenchen Sherab - ECPv6.13.2.1//NONSGML v1.0//EN
CALSCALE:GREGORIAN
METHOD:PUBLISH
X-ORIGINAL-URL:https://sakyapa.eu
X-WR-CALDESC:Events for European Sakya Centers founded by Khenchen Sherab
REFRESH-INTERVAL;VALUE=DURATION:PT1H
X-Robots-Tag:noindex
X-PUBLISHED-TTL:PT1H
BEGIN:VTIMEZONE
TZID:Europe/Zurich
BEGIN:DAYLIGHT
TZOFFSETFROM:+0100
TZOFFSETTO:+0200
TZNAME:CEST
DTSTART:20250330T010000
END:DAYLIGHT
BEGIN:STANDARD
TZOFFSETFROM:+0200
TZOFFSETTO:+0100
TZNAME:CET
DTSTART:20251026T010000
END:STANDARD
END:VTIMEZONE
BEGIN:VEVENT
DTSTART;TZID=Europe/Zurich:20250523T193000
DTEND;TZID=Europe/Zurich:20250525T163000
DTSTAMP:20260423T024135
CREATED:20250415T165731Z
LAST-MODIFIED:20250415T165734Z
UID:10003126-1748028600-1748190600@sakyapa.eu
SUMMARY:THE DEEP PATH OF MEDITATION IN TIBETAN BUDDHISM: SAMATHA\, VIPASSANA AND THE CORE INSTRUCTIONS
DESCRIPTION:Teachings by: MIKE BORTOLOTTI \n\n\n\nDate: FRI-SUN / 23 – 25 MAY \n\n\n\nTime: Friday: 19:30 – 21:00 hrs.\, Sat/Sun: 10:00-12:00 & 14:30-16:30 hrs. \n\n\n\nPlace: Sakya Thegchen Ling\, Den Haag/The Netherlands \n\n\n\nLanguage: EN \n\n\n\nAvailable translations: NL \n\n\n\n\nCosts: € 11 (per session)/€ 55 (per weekend)\, for minima € 5 (per session)/€ 25 (per weekend). If this contribution is still too much for you\, please contact the treasurer of Sakya Thegchen Ling. You can transfer the amount in advance to bank account number NL83 TRIO 0197 7958 03 in the name of Sakya Thegchen Ling The Hague\, stating ‘weekend Mike Bortolotti’. \n\n\n\nLunches: Saturday and Sunday\, you are invited to have lunch at the centre. \n\n\n\nBy practising authentic meditation\, we can effectively transform our minds. Intellectual knowledge is indispensable to understand the right path\, but if it is not accompanied by an authentic meditative experience\, we will not be able to control our mind and disturbing emotions. Integrating knowledge and meditation is the secret of spiritual development. This has allowed many practitioners to achieve realisation. At the same time\, this is the biggest challenge for Westerners\, who tend to get lost\, intellectual knowledge is then at best combined with a weak meditative ability. \n\n\n\nDuring this weekend\, we study the main meditative methods of Tibetan Buddhism and learn to distinguish the different approaches. We start with instruction on Samatha\, the basis of all meditation\, and then cover Vipassana\, the transcendental insight. Samatha and Vipassana finally lead to the deep core instructions\, through which we train ourselves to dwell in open awareness and recognise the true nature of mind. \n\n\n\nReference texts: \n\n\n\nSelf Liberating Meditation\, Patrul Rinpoche. \n\n\n\nMeditation in the Himalayan Buddhist Tradition\, Khorchak Tulku Rinpoche. \n\n\n\nClick here to register
URL:https://sakyapa.eu/event/the-deep-path-of-meditation-in-tibetan-buddhism-samatha-vipassana-and-the-core-instructions/
CATEGORIES:All courses in English only,Mike Bortolotti-EN,Sakya Thegchen Ling-EN
END:VEVENT
END:VCALENDAR