BEGIN:VCALENDAR
VERSION:2.0
PRODID:-//European Sakya Centers founded by Khenchen Sherab - ECPv6.13.2.1//NONSGML v1.0//EN
CALSCALE:GREGORIAN
METHOD:PUBLISH
X-WR-CALNAME:European Sakya Centers founded by Khenchen Sherab
X-ORIGINAL-URL:https://sakyapa.eu
X-WR-CALDESC:Events for European Sakya Centers founded by Khenchen Sherab
REFRESH-INTERVAL;VALUE=DURATION:PT1H
X-Robots-Tag:noindex
X-PUBLISHED-TTL:PT1H
BEGIN:VTIMEZONE
TZID:Europe/Zurich
BEGIN:DAYLIGHT
TZOFFSETFROM:+0100
TZOFFSETTO:+0200
TZNAME:CEST
DTSTART:20250330T010000
END:DAYLIGHT
BEGIN:STANDARD
TZOFFSETFROM:+0200
TZOFFSETTO:+0100
TZNAME:CET
DTSTART:20251026T010000
END:STANDARD
END:VTIMEZONE
BEGIN:VEVENT
DTSTART;TZID=Europe/Zurich:20250414T100000
DTEND;TZID=Europe/Zurich:20250414T203000
DTSTAMP:20260423T015705
CREATED:20250308T191152Z
LAST-MODIFIED:20250308T191155Z
UID:10003012-1744624800-1744662600@sakyapa.eu
SUMMARY:COMMEMORATION OF KHENCHEN SHERAB GYALTSEN AMIPA
DESCRIPTION:Guided by: KHENPO TASHI SANGPO \n\n\n\nDate: MON / 14 APRIL \n\n\n\nTime: Monday 10.00 – 12.00 & 19.15 – 20.30 \n\n\n\nPlace: Sakya Tsechen Ling\, Kuttolsheim/France & ZOOM \n\n\n\nLanguage: EN \n\n\n\nAvailable translations: FR\, DE\, IT\, NL \n\n\n\nFree donation \n\n\n\n\nThis year\, Monday 14th April\, marks the 11th anniversary of Khenchen Sherab (1931 – 2014)\, founding Master of our centres and highly realised being. Invoking his blessings on this special anniversary is extremely powerful and the benefits are sure to be experienced by all.  \n\n\n\nProgram: \n\n\n\n10.00 – 12.00 Vairocana ritual \n\n\n\n19.15 – 20.45 Guruyoga Lama Chöpa \n\n\n\nThere is no better method than Guruyoga to invoke spiritual blessings and the Lama Chöpa is the most appropriate and effective ritual for the most important celebrations.  \n\n\n\nThe profound Guruyoga ritual Lama Chöpa will be practised in the evening accompanied by many special offerings prepared for the occasion. \n\n\n\nWho would like to participate in these offerings (e.g. flowers\, fruits\, incense\, etc) can send a contribution HERE  \n\n\n\nIn your heart\, a spacious sky of love\,clouds of compassion fully gather\,with the rain of activity falling down\,you ripen the harvest of ones to be tamed.Khenchen Sherab Gyaltsen Amipa\, at your feet I bow!  \n\n\n\n(adapted from a Milarepa’s vajra song)Register in advance for this meeting on Zoom at least one day in advance.You will receive a confirmation email from “Sakya Dharma Family Admin” with the Zoom link to participate (click “Click Here To Join”) on the day of the event. \n\n\n\nZOOM
URL:https://sakyapa.eu/event/commemoration-of-khenchen-sherab-gyaltsen-amipa/
CATEGORIES:All courses in English only,Khenpo Tashi Sangpo-EN,Sakya Tsechen Ling-EN,ZOOM-EN
END:VEVENT
END:VCALENDAR