BEGIN:VCALENDAR
VERSION:2.0
PRODID:-//European Sakya Centers founded by Khenchen Sherab - ECPv6.13.2.1//NONSGML v1.0//EN
CALSCALE:GREGORIAN
METHOD:PUBLISH
X-ORIGINAL-URL:https://sakyapa.eu
X-WR-CALDESC:Events for European Sakya Centers founded by Khenchen Sherab
REFRESH-INTERVAL;VALUE=DURATION:PT1H
X-Robots-Tag:noindex
X-PUBLISHED-TTL:PT1H
BEGIN:VTIMEZONE
TZID:Europe/Zurich
BEGIN:DAYLIGHT
TZOFFSETFROM:+0100
TZOFFSETTO:+0200
TZNAME:CEST
DTSTART:20250330T010000
END:DAYLIGHT
BEGIN:STANDARD
TZOFFSETFROM:+0200
TZOFFSETTO:+0100
TZNAME:CET
DTSTART:20251026T010000
END:STANDARD
END:VTIMEZONE
BEGIN:VEVENT
DTSTART;TZID=Europe/Zurich:20250228T100000
DTEND;TZID=Europe/Zurich:20250228T113000
DTSTAMP:20260421T002108
CREATED:20250111T160508Z
LAST-MODIFIED:20250111T161604Z
UID:10002542-1740736800-1740742200@sakyapa.eu
SUMMARY:LOSAR / TIBETAN NEW YEAR - CELEBRATION
DESCRIPTION:Guided by: KHENPO TASHI SANGPO \n\n\n\nDate: FRI 28 FEBRUARY \n\n\n\nTime: Friday 10.00 – 11.30 \n\n\n\nPlace: Thupten Changchup Ling\, Arosio/CH  & ZOOM \n\n\n\nLanguage: EN \n\n\n\nAvailable translations: SWE \n\n\n\nFree donation \n\n\n\n\nLOSAR-CELEBRATION – TIBETAN NEW YEAR 2152 OF THE WOOD-SNAKE \n\n\n\n\nShort introduction to Losar and Chotrul Düchen\n\n\n\nSerkyem offering\, an offering to the Dharmaprotectors.\n\n\n\nAfterwards we will hang out the new sets of prayer flags.\n\n\n\nRecitation of the 16-Arhat ritual\n\n\n\nLong-life prayers for Their Holinesses\n\n\n\n\nThe prayers can be downloaded HERE \n\n\n\nYou can bring something to share with others for lunch. \n\n\n\nJoin us at the temple in Arosio (CH):Please register at least two days before the event to participate in person in Arosio (using the link below). \n\n\n\nAROSIO \n\n\n\nRegister in advance for this meeting on Zoom at least one day in advance.You will receive a confirmation email from “Sakya Dharma Family Admin” with the Zoom link to participate (click “Click Here To Join”) on the day of the event. \n\n\n\nZOOM
URL:https://sakyapa.eu/event/losar-tibetan-new-year-celebration/
CATEGORIES:All courses in English only,Khenpo Tashi Sangpo-EN,Thupten Changchup Ling-EN,ZOOM-EN
END:VEVENT
END:VCALENDAR