BEGIN:VCALENDAR
VERSION:2.0
PRODID:-//European Sakya Centers founded by Khenchen Sherab - ECPv6.13.2.1//NONSGML v1.0//EN
CALSCALE:GREGORIAN
METHOD:PUBLISH
X-WR-CALNAME:European Sakya Centers founded by Khenchen Sherab
X-ORIGINAL-URL:https://sakyapa.eu
X-WR-CALDESC:Events for European Sakya Centers founded by Khenchen Sherab
REFRESH-INTERVAL;VALUE=DURATION:PT1H
X-Robots-Tag:noindex
X-PUBLISHED-TTL:PT1H
BEGIN:VTIMEZONE
TZID:Europe/Zurich
BEGIN:DAYLIGHT
TZOFFSETFROM:+0100
TZOFFSETTO:+0200
TZNAME:CEST
DTSTART:20250330T010000
END:DAYLIGHT
BEGIN:STANDARD
TZOFFSETFROM:+0200
TZOFFSETTO:+0100
TZNAME:CET
DTSTART:20251026T010000
END:STANDARD
END:VTIMEZONE
BEGIN:VEVENT
DTSTART;TZID=Europe/Zurich:20250227T191500
DTEND;TZID=Europe/Zurich:20250227T210000
DTSTAMP:20260421T120250
CREATED:20250111T161220Z
LAST-MODIFIED:20250111T161241Z
UID:10002543-1740683700-1740690000@sakyapa.eu
SUMMARY:MAHAKALA RITUAL WITH GUTOR
DESCRIPTION:Guided by: KHENPO TASHI SANGPO \n\n\n\nDate: THU / 27 FEBRUARY \n\n\n\nTime: 19.15 – 21.00 \n\n\n\nPlace: Thupten Changchup Ling\, Arosio/CH & ZOOM \n\n\n\nLanguage: EN \n\n\n\nAvailable translations: SWE \n\n\n\nFree donation \n\n\n\n\nMahakala is a Dharmapala\, a Dharma protector. His task is to protect and safeguard the teachings\, the places of practice and study\, and the Dharma holders. In addition\, he constantly strives to assist all practitioners by helping them overcome all external\, internal and secret obstacles that obstruct their progress towards enlightenment. Propitiating Mahakala through ritual allows us to invoke its full power and this is of great support for ourselves\, others\, the world and the Dharma. \n\n\n\nProgram: \n\n\n\n\nShort introduction to the practice of Mahakala and Gutor.\n\n\n\n\n\nThe Mahakala ritual with “Gutor”\, performed to dispel the negativities of the past year and for the protection during the new Tibetan New\, which begins on 28th February.\n\n\n\n\nRecitation of Heart Sutra: the text can be downloaded HERE \n\n\n\nJoin us at the temple in Arosio (CH):Please register at least two days before the event to participate in person in Arosio (using the link below). \n\n\n\nAROSIO \n\n\n\nRegister in advance for this meeting on Zoom at least one day in advance.You will receive a confirmation email from “Sakya Dharma Family Admin” with the Zoom link to participate (click “Click Here To Join”) on the day of the event. \n\n\n\nZOOM
URL:https://sakyapa.eu/event/mahakala-ritual-with-gutor-2/
CATEGORIES:All courses in English only,Khenpo Tashi Sangpo-EN,Thupten Changchup Ling-EN,ZOOM-EN
END:VEVENT
BEGIN:VEVENT
DTSTART;TZID=Europe/Zurich:20250227T191500
DTEND;TZID=Europe/Zurich:20250227T210000
DTSTAMP:20260421T120250
CREATED:20250111T180700Z
LAST-MODIFIED:20250111T180720Z
UID:10002574-1740683700-1740690000@sakyapa.eu
SUMMARY:MAHAKALA RITUAL WITH GUTOR
DESCRIPTION:Guided by: KHENPO TASHI SANGPO \n\n\n\nDate: THU / 27 FEBRUARY \n\n\n\nTime: 19.15 – 21.00 \n\n\n\nPlace: Thupten Changchup Ling\, Arosio/CH & Zoom \n\n\n\nLanguage: EN \n\n\n\nAvailable translations: IT\, SWE \n\n\n\nFree donation \n\n\n\n\nMahakala is a Dharmapala\, a Dharma protector. His task is to protect and safeguard the teachings\, the places of practice and study\, and the Dharma holders. In addition\, he constantly strives to assist all practitioners by helping them overcome all external\, internal and secret obstacles that obstruct their progress towards enlightenment. Propitiating Mahakala through ritual allows us to invoke its full power and this is of great support for ourselves\, others\, the world and the Dharma. \n\n\n\nProgram: \n\n\n\n\nShort introduction to the practice of Mahakala and Gutor.\n\n\n\n\n\nThe Mahakala ritual with “Gutor”\, performed to dispel the negativities of the past year and for the protection during the new Tibetan New\, which begins on 28th February.\n\n\n\n\nRecitation of Heart Sutra: the text can be downloaded HERE \n\n\n\nJoin us at the temple in Arosio (CH):Please register at least two days before the event to participate in person in Arosio (using the link below). \n\n\n\nAROSIO \n\n\n\nRegister in advance for this meeting on Zoom at least one day in advance.You will receive a confirmation email from “Sakya Dharma Family Admin” with the Zoom link to participate (click “Click Here To Join”) on the day of the event. \n\n\n\nZOOM
URL:https://sakyapa.eu/event/mahakala-ritual-with-gutor-2-2/
CATEGORIES:All courses in English only,Khenpo Tashi Sangpo-EN,Thupten Changchup Ling-EN,ZOOM-EN
END:VEVENT
END:VCALENDAR