BEGIN:VCALENDAR
VERSION:2.0
PRODID:-//European Sakya Centers founded by Khenchen Sherab - ECPv6.13.2.1//NONSGML v1.0//EN
CALSCALE:GREGORIAN
METHOD:PUBLISH
X-WR-CALNAME:European Sakya Centers founded by Khenchen Sherab
X-ORIGINAL-URL:https://sakyapa.eu
X-WR-CALDESC:Events for European Sakya Centers founded by Khenchen Sherab
REFRESH-INTERVAL;VALUE=DURATION:PT1H
X-Robots-Tag:noindex
X-PUBLISHED-TTL:PT1H
BEGIN:VTIMEZONE
TZID:Europe/Zurich
BEGIN:DAYLIGHT
TZOFFSETFROM:+0100
TZOFFSETTO:+0200
TZNAME:CEST
DTSTART:20240331T010000
END:DAYLIGHT
BEGIN:STANDARD
TZOFFSETFROM:+0200
TZOFFSETTO:+0100
TZNAME:CET
DTSTART:20241027T010000
END:STANDARD
BEGIN:DAYLIGHT
TZOFFSETFROM:+0100
TZOFFSETTO:+0200
TZNAME:CEST
DTSTART:20250330T010000
END:DAYLIGHT
BEGIN:STANDARD
TZOFFSETFROM:+0200
TZOFFSETTO:+0100
TZNAME:CET
DTSTART:20251026T010000
END:STANDARD
END:VTIMEZONE
BEGIN:VEVENT
DTSTART;TZID=Europe/Zurich:20241226T160000
DTEND;TZID=Europe/Zurich:20250101T100000
DTSTAMP:20260420T210321
CREATED:20241121T040846Z
LAST-MODIFIED:20241121T040848Z
UID:10002092-1735228800-1735725600@sakyapa.eu
SUMMARY:WINTER RETREAT on MEDICINE BUDDHA
DESCRIPTION:Guided by: KHENPO TASHI SANGPO \n\n\n\nDate: THU 26.12.2024 – WED 1.1.2025  \n\n\n\nTime: Thursday 26.12. at 16.00 o’clock – Monday 1.1. after breakfast \n\n\n\nPlace: On-site at Sakya Tsechen Ling\, Kuttolsheim & online through ZOOM \n\n\n\nLanguage: EN \n\n\n\nTranslations available: FR\, IT\, DE\, NL \n\n\n\n\nThe 2024 winter retreat\, dedicated to Medicine Buddha is open on-site and online.  \n\n\n\nDuring this retreat we focus on the practice of Medicine Buddha. In the beginning of the daily fourth session there will be teachings on the sadhana and the quality of Medicine Buddha. \n\n\n\nSickness is a common suffering of all living beings. However\, according to Tibetan medicine\, most illnesses are psychosomatic and\, according to Buddhism\, many types of mental and physical illnesses are actually generated largely by one’s unwholesome attitude\, and cannot be cured by conventional medicine alone; on the other side\, there’s a connection between wholesome thoughts\, your health and happiness. The Buddha taught a form of meditation for people suffering from diseases by using a practice of a sacred mantra and meditation based on Medicine Buddha. This profound meditation technique will complement any form of medical treatment\, and can reduce the side effects and increase the effectiveness of any medication.  \n\n\n\nPARTICIPATION PREREQUISITES FOR TEACHINGS & MEDITATION SESSIONS: \n\n\n\nThose who  \n\n\n\n–       have already received the initiation of Medicine Buddha from a qualified master \n\n\n\n–       OR will participate in the initiation of Medicine Buddha conferred by Khenpo Tashi Sangpo Lag at the beginning of the retreat on 26.12. at 16.00 o’clock to the participants in the temple (without streaming) \n\n\n\nTRANSLATIONS: \n\n\n\nThe teachings will be given in English and translated into French.  \n\n\n\nTranslations in another language – Italian\, German\, and Dutch– will be arranged if we receive a min. number of requests per language by 10 December 2024. \n\n\n\nPROGRAM OF THE RETREAT: \n\n\n\nThursday 26 December 2024 \n\n\n\n16.00 – 18.00 Initiation to Medicine Buddha (no streaming\, only for participants in the temple) \n\n\n\n18.30 – 19.30 Welcome & first meditation session on Medicine Buddha. \n\n\n\nFriday 27 December – Tuesday 31 December 2024 \n\n\n\n07.00 – 08.00 Meditation on Medicine Buddha \n\n\n\n10.00 – 11.30 Meditation on Medicine Buddha \n\n\n\n14.00 – 15.30 Meditation on Medicine Buddha \n\n\n\n17.00 – 18.00 Teaching on the sadhana and quality of Medicine Buddha  \n\n\n\n18.00 – 19.00 Meditation on Medicine Buddha & Mahakala ritual. \n\n\n\nWednesday 1 January 2025 \n\n\n\n07.00 – 08.00 Meditation on Medicine Buddha & Long-life prayers for Their Holinesses  \n\n\n\nEnd of the retreat. \n\n\n\n10.00 – 11.00 Tara Ritual (optional) \n\n\n\nCONTRIBUTION:  \n\n\n\nMin. € 70.- for online or on-site retreat (not including food and accommodation).  \n\n\n\nFor on-site retreat\, and after pre-registering specifying your wishes for accommodation and meals\, you will receive a specific e-mail indicating your contribution to the costs. \n\n\n\nYou can make your payment in one of the ways described at https://sakyatsechenling.eu/en/online-payment/ . \n\n\n\nWe thank you much in advance. \n\n\n\nREGISTRATION & PARTICIPATION LINK: \n\n\n\nIn order to participate\, we invite you to register by clicking HERE FOR ONLINE RETREAT or HERE FOR ON-SITE RETREAT until 10 December 2024 at the latest.  \n\n\n\nThose who wish to participate on-site are invited to register early as the number of places is limited. \n\n\n\nTogether with the receipt/confirmation of your registration you will receive further information and for online retreat the participation link.
URL:https://sakyapa.eu/event/winter-retreat-on-medicine-buddha/
LOCATION:Sakya Tsechen Ling\, 5 Rdpt du Vignoble\, Kuttolsheim\, 67520\, France
CATEGORIES:All courses in English only,Khenpo Tashi Sangpo-EN,Sakya Tsechen Ling-EN,ZOOM-EN
END:VEVENT
END:VCALENDAR