BEGIN:VCALENDAR
VERSION:2.0
PRODID:-//European Sakya Centers founded by Khenchen Sherab - ECPv6.13.2.1//NONSGML v1.0//EN
CALSCALE:GREGORIAN
METHOD:PUBLISH
X-ORIGINAL-URL:https://sakyapa.eu
X-WR-CALDESC:Events for European Sakya Centers founded by Khenchen Sherab
REFRESH-INTERVAL;VALUE=DURATION:PT1H
X-Robots-Tag:noindex
X-PUBLISHED-TTL:PT1H
BEGIN:VTIMEZONE
TZID:Europe/Zurich
BEGIN:DAYLIGHT
TZOFFSETFROM:+0100
TZOFFSETTO:+0200
TZNAME:CEST
DTSTART:20240331T010000
END:DAYLIGHT
BEGIN:STANDARD
TZOFFSETFROM:+0200
TZOFFSETTO:+0100
TZNAME:CET
DTSTART:20241027T010000
END:STANDARD
END:VTIMEZONE
BEGIN:VEVENT
DTSTART;TZID=Europe/Zurich:20241207T100000
DTEND;TZID=Europe/Zurich:20241208T153000
DTSTAMP:20260420T130945
CREATED:20241121T052032Z
LAST-MODIFIED:20241121T052204Z
UID:10002110-1733565600-1733671800@sakyapa.eu
SUMMARY:THE EXTRAORDINARY LIFE OF JETSUN MILAREPA\, PART 4 (INTENSIVE PRACTICE AND REALISATION)
DESCRIPTION:Teachings by: KHENPO TASHI SANGPO \n\n\n\nDate: SAT-SUN 7./8. DECEMBER 2024 \n\n\n\nTime: Saturday & Sunday 10.00 – 12.00 & 13.30 – 15.30 \n\n\n\nPlace: Thupten Changchup Ling\, Arosio/CH & ZOOM \n\n\n\nLanguage: EN \n\n\n\nAvailable translations: IT \n\n\n\nSuggested donation: 25€/30 CHF \n\n\n\n\nMilarepa\, famous in the ten directions for attaining enlightenment in a single lifetime and for his songs of realisation\, is one of Tibet’s most beloved historical figures. His biography\, which shows the intensity of his life’s processes\, is a great teaching in itself. The extraordinary events in his life unfolded from suffering to black magic\, from regret to harsh purification\, from rigorous asceticism to the bliss of realisation. Having reached the pinnacle of the path\, he instructs and inspires all beings he encounters with the poetic beauty of his vajra chants\, through which he teaches all aspects of the Dharma.  \n\n\n\nText and prayers can be downloaded HERE \n\n\n\nJoin us at the temple in Arosio (CH): \n\n\n\nPlease register at least two days before the event to participate in person in Arosio (using the link below). \n\n\n\n\nAROSIO\n\n\n\n\nRegister in advance for this meeting on Zoom at least one day in advance. \n\n\n\nYou will receive a confirmation email from “Sakya Dharma Family Admin” with the Zoom link to participate (click “Click Here To Join”) on the day of the event. \n\n\n\n\nZOOM
URL:https://sakyapa.eu/event/the-extraordinary-life-of-jetsun-milarepa-part-4-intensive-practice-and-realisation-2/
CATEGORIES:All courses in English only,Khenpo Tashi Sangpo-EN,Thupten Changchup Ling-EN,ZOOM-EN
END:VEVENT
BEGIN:VEVENT
DTSTART;TZID=Europe/Zurich:20241208T070000
DTEND;TZID=Europe/Zurich:20241208T080000
DTSTAMP:20260420T130945
CREATED:20241121T054020Z
LAST-MODIFIED:20241121T054214Z
UID:10002114-1733641200-1733644800@sakyapa.eu
SUMMARY:TARA RITUAL
DESCRIPTION:Time: 7.00 – 8.00 \n\n\n\nGuide: Khenpo Tashi Sangpo \n\n\n\nPlace: Thupten Changchup Ling\, Arosio/CH & ZOOM \n\n\n\nFree donation \n\n\n\n\nTara\, the Liberator\, is a very important female Deity in Tibet. Her nature is that of great compassion indivisible from wisdom\, and she is always ready to quickly pacify all obstacles\, illnesses\, difficulties and suffering. These practices are carried out for the universal peace in general\, and for the fast dissolution of the current pandemic in particular. \n\n\n\nThe Thangtong Gyalpo Prayer can be downloaded HERE. \n\n\n\nRegister in advance for this meeting on Zoom at least one day in advance. \n\n\n\nYou will receive a confirmation email from “Sakya Dharma Family Admin” with the Zoom link to participate (click “Click Here To Join”) on the day of the event. \n\n\n\n\nZOOM
URL:https://sakyapa.eu/event/tara-ritual-15/
LOCATION:Thupten Changchup Ling\, Lücc 20\, Alto Malcantone\, Ticino\, 6939\, Switzerland
CATEGORIES:All courses in English only,Khenpo Tashi Sangpo-EN,Thupten Changchup Ling-EN,ZOOM-EN
ATTACH;FMTTYPE=image/webp:https://sakyapa.eu/wp-content/uploads/2023/10/2.webp
END:VEVENT
END:VCALENDAR