BEGIN:VCALENDAR
VERSION:2.0
PRODID:-//European Sakya Centers founded by Khenchen Sherab - ECPv6.13.2.1//NONSGML v1.0//EN
CALSCALE:GREGORIAN
METHOD:PUBLISH
X-WR-CALNAME:European Sakya Centers founded by Khenchen Sherab
X-ORIGINAL-URL:https://sakyapa.eu
X-WR-CALDESC:Events for European Sakya Centers founded by Khenchen Sherab
REFRESH-INTERVAL;VALUE=DURATION:PT1H
X-Robots-Tag:noindex
X-PUBLISHED-TTL:PT1H
BEGIN:VTIMEZONE
TZID:Europe/Zurich
BEGIN:DAYLIGHT
TZOFFSETFROM:+0100
TZOFFSETTO:+0200
TZNAME:CEST
DTSTART:20240331T010000
END:DAYLIGHT
BEGIN:STANDARD
TZOFFSETFROM:+0200
TZOFFSETTO:+0100
TZNAME:CET
DTSTART:20241027T010000
END:STANDARD
END:VTIMEZONE
BEGIN:VEVENT
DTSTART;TZID=Europe/Zurich:20241129T191500
DTEND;TZID=Europe/Zurich:20241129T200000
DTSTAMP:20260420T223023
CREATED:20241129T062735Z
LAST-MODIFIED:20241129T063406Z
UID:10002142-1732907700-1732910400@sakyapa.eu
SUMMARY:PRAYERS FOR THE COMMEMORATION OF KHENPO DAKPA WOESER
DESCRIPTION:Guided by: KHENPO TASHI SANGPO \n\n\n\nDate: 29.11. \n\n\n\nTime: 19.15 – 20.00Place: Sakya Changchub Chöling\, Stockholm & ZOOM \n\n\n\n\nSeven years ago\, on 29.11.2017 our dear Khenpo Dakpa Woeser\, who was a resident lama at SAKYA TSECHEN LING\, Kuttolsheim/France for 26 years\, passed away. \n\n\n\nWe recite the following prayers in his memory: \n\n\n\nSutra of Remembering the Three Jewels (page 3) \n\n\n\nConfession Before the Thirty-Five Buddhas (page 9) \n\n\n\nA General Confession (page 15) \n\n\n\nSamantabhadra prayer (page 123) \n\n\n\nThe Monlam Prayerbook can be downloaded HERE \n\n\n\n \n\n\n\n\nZOOM
URL:https://sakyapa.eu/event/prayers-for-the-commemoration-of-khenpo-dakpa-woeser/
CATEGORIES:All courses in English only,Khenpo Tashi Sangpo-EN,Sakya Kunga Choeling-EN,ZOOM-EN
END:VEVENT
END:VCALENDAR