BEGIN:VCALENDAR
VERSION:2.0
PRODID:-//European Sakya Centers founded by Khenchen Sherab - ECPv6.13.2.1//NONSGML v1.0//EN
CALSCALE:GREGORIAN
METHOD:PUBLISH
X-ORIGINAL-URL:https://sakyapa.eu
X-WR-CALDESC:Events for European Sakya Centers founded by Khenchen Sherab
REFRESH-INTERVAL;VALUE=DURATION:PT1H
X-Robots-Tag:noindex
X-PUBLISHED-TTL:PT1H
BEGIN:VTIMEZONE
TZID:Europe/Zurich
BEGIN:DAYLIGHT
TZOFFSETFROM:+0100
TZOFFSETTO:+0200
TZNAME:CEST
DTSTART:20240331T010000
END:DAYLIGHT
BEGIN:STANDARD
TZOFFSETFROM:+0200
TZOFFSETTO:+0100
TZNAME:CET
DTSTART:20241027T010000
END:STANDARD
END:VTIMEZONE
BEGIN:VEVENT
DTSTART;TZID=Europe/Zurich:20241122T203000
DTEND;TZID=Europe/Zurich:20241122T220000
DTSTAMP:20260420T130638
CREATED:20241109T164322Z
LAST-MODIFIED:20241110T052344Z
UID:10002089-1732307400-1732312800@sakyapa.eu
SUMMARY:LHABAB DÜCHEN - CELEBRATION
DESCRIPTION:Guided by: KHENPO TASHI SANGPO \n\n\n\nDate: 22.11.2024 \n\n\n\nTime: 20.30 – 22.00 \n\n\n\nPlace: Sakya Tsechen Ling\, Kuttolsheim/France + ZOOM \n\n\n\nLanguage: EN \n\n\n\nAvailable translations: FR\, SV \n\n\n\n\nLHABAB DÜCHEN – the festival of the descent from heaven – is one of the four major Buddhist holidays. \n\n\n\nBuddha’s mother Mayadevi was reborn in Indra’s heaven. To repay her kindness and to liberate her\, and also to benefit the gods\, Buddha spent three months teaching in the realm of the gods. He descended to earth in Sankisa\, which is located in modern Uttar Pradesh\, and which is counted among the eight holy places. \n\n\n\nKhenpo Tashi Sangpo will give an introduction on this special day. \n\n\n\nAfterwards we recite the 16 Arhat Ritual. \n\n\n\nTexts can be downloaded HERE \n\n\n\nRegister in advance for this meeting on Zoom at least one day in advance. \n\n\n\nYou will receive a confirmation email from “Sakya Dharma Family Admin” with the Zoom link to participate (click “Click Here To Join”) on the day of the event. \n\n\n\n\nZOOM
URL:https://sakyapa.eu/event/lhabab-duchen-celebration-2/
LOCATION:Sakya Changchub Chöling\, Lill-Jans plan 3\, Stockholm\, 11425\, Sweden
CATEGORIES:Khenpo Tashi Sangpo-EN,Sakya Tsechen Ling-EN,ZOOM-EN
ATTACH;FMTTYPE=image/jpeg:https://sakyapa.eu/wp-content/uploads/2023/12/image0.jpeg
END:VEVENT
END:VCALENDAR