BEGIN:VCALENDAR
VERSION:2.0
PRODID:-//European Sakya Centers founded by Khenchen Sherab - ECPv6.13.2.1//NONSGML v1.0//EN
CALSCALE:GREGORIAN
METHOD:PUBLISH
X-WR-CALNAME:European Sakya Centers founded by Khenchen Sherab
X-ORIGINAL-URL:https://sakyapa.eu
X-WR-CALDESC:Events for European Sakya Centers founded by Khenchen Sherab
REFRESH-INTERVAL;VALUE=DURATION:PT1H
X-Robots-Tag:noindex
X-PUBLISHED-TTL:PT1H
BEGIN:VTIMEZONE
TZID:Europe/Zurich
BEGIN:DAYLIGHT
TZOFFSETFROM:+0100
TZOFFSETTO:+0200
TZNAME:CEST
DTSTART:20240331T010000
END:DAYLIGHT
BEGIN:STANDARD
TZOFFSETFROM:+0200
TZOFFSETTO:+0100
TZNAME:CET
DTSTART:20241027T010000
END:STANDARD
END:VTIMEZONE
BEGIN:VEVENT
DTSTART;TZID=Europe/Zurich:20241119T191500
DTEND;TZID=Europe/Zurich:20241119T210000
DTSTAMP:20260420T083951
CREATED:20240810T094821Z
LAST-MODIFIED:20240810T101819Z
UID:10001451-1732043700-1732050000@sakyapa.eu
SUMMARY:DHARMA CHAKRA PROGRAM – ABHIDHARMA (22 lessons)
DESCRIPTION:Teachings by: H.H. THE 42ND SAKYA TRIZIN RATNA VAJRA RINPOCHE \n\n\n\nCourse begins 8.10.2024\, in total 22 lessons\, about 2 Tuesday evenings per month \n\n\n\nDate: TUE 8.10. (1)\, 15.10. (2)\, 5.11. (3)\, 19.11. (4)\, 3.12. (5)\, 17.12. (6) \n\n\n\nTime: 19.15 – 21.00 \n\n\n\nPlace: Thupten Changchup Ling\, Arosio/CH & ZOOM \n\n\n\nLanguage: EN \n\n\n\nAvailable translations: IT\, DE\, FR\, NL \n\n\n\nPrerequisites: No prerequisites\, open to all \n\n\n\nCost: Free of charge with optional donation \n\n\n\n\n\n\n\n\nDHARMA CHAKRA PROGRAM \n\n\n\nExtended Study Program on the Essentials of Classical Buddhist Philosophy \n\n\n\nTeachings by H.H. Ratna Vajra Rinpoche \n\n\n\nFirst Year: Abhidharma \n\n\n\n19.15: Refuge and meditation on Bodhicitta \n\n\n\n19.30: Listening to teachings of H.H. Ratna Vajra Rinpoche with translation \n\n\n\n20.30: Meditation: contemplation of the topics discussed and rest in the empty presence. \n\n\n\nYou can write any questions you may have on the subject HERE. Khenpo Tashi will occasionally answer them in question-answer sessions. \n\n\n\nAbout the Program  \n\n\n\nFrom the Buddhist perspective\, engaging in the progressive steps of study\, contemplation\, and meditation acquaints us with wisdom\, empowering us with the potential to become great practitioners. The Dharma Chakra Program (DCP) is designed to provide the indispensable elements of the philosophical tradition in a succinct manner. This program is an extraordinary opportunity to develop a deep understanding of the main tenets of classical Buddhist philosophy through one of the most esteemed erudites of our time\, His Holiness the 42nd Sakya Trizin\, Ratna Vajra Rinpoche.  \n\n\n\nThis extended study program provides the everyday practitioner in the modern world with rare access to the essence of Mahayana philosophy through an unbroken lineage\, a privilege traditionally available only in monastic universities.  \n\n\n\nWhat You’ll Learn \n\n\n\nYear 1: Abhidharma  \n\n\n\nYear 2: Bodhisattvacharyavatara Chapters 1 – 6Year 3: Bodhisattvacharyavatara Chapters 7 – 10Year 4: MadhyamakaYear 5: Uttaratantra \n\n\n\nThe Dharma Chakra Program in the European centres founded by Khenchen Sherab: \n\n\n\nThe Dharma Chakra Program is an initiative of the Sachen Foundation and can be followed online in English by anyone via their dedicated website:  \n\n\n\nwww.sachenfoundation.org/dharmachakra/ \n\n\n\nIn our centres we offer about two meetings per month\, both in presence and online\, where we listen together to the teachings of H.H. Ratna Vajra Rinpoche with translation into Italian\, French\, German and Dutch. After the teachings there will be a 30-minute meditation in which we can reflect on the topics covered and then rest a while in the empty presence.  \n\n\n\nThere will be occasional question-and-answer sessions with Khenpo Tashi. Questions should be submitted through this form. On the Sachen Foundation website dedicated to this study programme\, you will find additional material in English on the topics discussed\, which we will also use in our meetings if necessary. \n\n\n\nFirst Year: Abhidharma (22 lessons) \n\n\n\n“The mind is everything. What you think\, you become.” -Vasubandhu \n\n\n\nThe Buddha’s teachings are traditionally classified into three collections: Vinaya\, Sutra\, and Abhidharma.  \n\n\n\nAbhidharma is a collection of the Buddha’s highest teachings focused on wisdom training. It examines the nature of reality\, the mind\, and mental phenomena\, guiding us toward a deeper understanding of the nature of reality. Its profound insights into the workings of consciousness and the essence of existence\, provide a comprehensive framework for understanding Buddhist psychology and philosophy across all three vehicles or yanas. \n\n\n\nIn this course\, His Holiness the 42nd Sakya Trizin will focus on the Treasury of Abhidharma or Abhidharmakośa\, authored by Vasubandhu\, a prominent Indian Buddhist scholar and master from the 4th or 5th century. Abhidharmakośa\, considered one of the thirteen great texts utilized as the core curriculum in most traditional Tibetan Buddhist centers for teaching or shedras\, serves as a seminal work in the Mahayana tradition. It provides a structured overview of Abhidharma teachings and is extensively studied by all Tibetan traditions. \n\n\n\nThe vast teachings of Abhidharma and Buddhist psychology provide a path to a clear and deep view of the nature of reality\, bringing us closer to understanding our minds and freeing ourselves from suffering. The study of\, including texts like the Abhidharmakośa\, equips practitioners with invaluable insights and tools to deepen their spiritual journey\, foster wisdom\, and lead a more meaningful and fulfilling life. \n\n\n\nThese lessons will bring you closer to: \n\n\n\n  •  A deeper understanding of your emotions and thoughts.  •  Cultivating a stable meditation practice.  •  Distilling the profound teachings of Tibetan Buddhism.  •  Learning about the doctrinal differences between the ancient Buddhist schools.  •  Exploring consciousness and mental processes.  •  Analysing the nature of reality.  •  Connecting with the law of karma\, impermanence\, and emptiness. \n\n\n\nThe reference texts can be downloaded HERE \n\n\n\nJoin us at the temple in Arosio (CH): \n\n\n\nPlease register at least two days before the event to participate in person in Arosio (using the link below). \n\n\n\n\nAROSIO\n\n\n\n\nRegister in advance for this meeting on Zoom at least one day in advance. \n\n\n\nYou will receive a confirmation email from “Sakya Dharma Family Admin” with the Zoom link to participate (click “Click Here To Join”) on the day of the event. \n\n\n\n\nZOOM
URL:https://sakyapa.eu/event/2024-dcp-1/2024-11-19/
CATEGORIES:All courses in English only,Thupten Changchup Ling-EN,ZOOM-EN
END:VEVENT
END:VCALENDAR