BEGIN:VCALENDAR
VERSION:2.0
PRODID:-//European Sakya Centers founded by Khenchen Sherab - ECPv6.13.2.1//NONSGML v1.0//EN
CALSCALE:GREGORIAN
METHOD:PUBLISH
X-ORIGINAL-URL:https://sakyapa.eu
X-WR-CALDESC:Events for European Sakya Centers founded by Khenchen Sherab
REFRESH-INTERVAL;VALUE=DURATION:PT1H
X-Robots-Tag:noindex
X-PUBLISHED-TTL:PT1H
BEGIN:VTIMEZONE
TZID:Europe/Zurich
BEGIN:DAYLIGHT
TZOFFSETFROM:+0100
TZOFFSETTO:+0200
TZNAME:CEST
DTSTART:20240331T010000
END:DAYLIGHT
BEGIN:STANDARD
TZOFFSETFROM:+0200
TZOFFSETTO:+0100
TZNAME:CET
DTSTART:20241027T010000
END:STANDARD
END:VTIMEZONE
BEGIN:VEVENT
DTSTART;TZID=Europe/Zurich:20241101T193000
DTEND;TZID=Europe/Zurich:20241103T163000
DTSTAMP:20260420T054344
CREATED:20241018T052604Z
LAST-MODIFIED:20241018T052606Z
UID:10001828-1730489400-1730651400@sakyapa.eu
SUMMARY:TEACHING AND INITIATION OF AYUTTARA (AMITAYUS) and the nine aspects
DESCRIPTION:Teachings by: KHENPO TASHI SANGPO \n\n\n\nDate: Fri. – Sun. 01.11 – 03.11 \n\n\n\nTime: (Fri.): 19:30-21:30; Sat. and Sun. 10:00-12:00 and from 14:30-16:30. \n\n\n\nLocation: Sakya Thegchen Ling\, The Hague\, Holland \n\n\n\nLanguage: ENG \n\n\n\nAvailable translation: Dutch \n\n\n\nKosten : €15 per half-day session (minima €7). \n\n\n\n\nAmitayus – the Buddha of Infinite Life – and Amitabha – the Buddha of Infinite Light – are essentially identical because they are each other’s mirror image. Sutras in which Gautama Buddha expounds the glories of Sukhavati\, the Pure Lands\, sometimes refer to the presiding Buddha as Amitabha and sometimes as Amitayus. As Amitayus\, he is depicted in fine clothes and jewellery and as Amitabha in simple monk’s clothes. In Chinese and Japanese tradition\, they are also known as Amida. \n\n\n\nThe name Amitayus is the name for the Sambhogakaya aspect of Amitabha and is particularly associated with long life. He is usually depicted seated with a vase containing the nectar of immortality in his hands. In Tibetan Buddhism\, Amitayus is also one of the three deities of long life (Amitayus\, White Tara and Ushnishavijaya). Amitayus is a compound of amita (‘infinite’) and ayus (‘life’)\, and thus means ‘he whose life is boundless’. \n\n\n\nIn the first four weeks after the teaching\, there will be joint practice from the centre once a week. \n\n\n\nRegistration: https://forms.office.com/e/bLQv4MKPEe
URL:https://sakyapa.eu/event/teaching-and-initiation-of-ayuttara-amitayus-and-the-nine-aspects/
CATEGORIES:All courses in English only,Khenpo Tashi Sangpo-EN,Sakya Thegchen Ling-EN
END:VEVENT
END:VCALENDAR