BEGIN:VCALENDAR
VERSION:2.0
PRODID:-//European Sakya Centers founded by Khenchen Sherab - ECPv6.13.2.1//NONSGML v1.0//EN
CALSCALE:GREGORIAN
METHOD:PUBLISH
X-WR-CALNAME:European Sakya Centers founded by Khenchen Sherab
X-ORIGINAL-URL:https://sakyapa.eu
X-WR-CALDESC:Events for European Sakya Centers founded by Khenchen Sherab
REFRESH-INTERVAL;VALUE=DURATION:PT1H
X-Robots-Tag:noindex
X-PUBLISHED-TTL:PT1H
BEGIN:VTIMEZONE
TZID:Europe/Zurich
BEGIN:DAYLIGHT
TZOFFSETFROM:+0100
TZOFFSETTO:+0200
TZNAME:CEST
DTSTART:20240331T010000
END:DAYLIGHT
BEGIN:STANDARD
TZOFFSETFROM:+0200
TZOFFSETTO:+0100
TZNAME:CET
DTSTART:20241027T010000
END:STANDARD
END:VTIMEZONE
BEGIN:VEVENT
DTSTART;TZID=Europe/Zurich:20241022T191500
DTEND;TZID=Europe/Zurich:20241022T210000
DTSTAMP:20260420T004329
CREATED:20240924T055043Z
LAST-MODIFIED:20240924T133517Z
UID:10001587-1729624500-1729630800@sakyapa.eu
SUMMARY:«THE JEWEL LAMP” A PRAISE OF BODHICITTA BY KHUNU RINPOCHE (1895 – 1977)\, FOLLOWED BY MEDITATION ON BODHICITTA
DESCRIPTION:Teachings by: KHENPO TASHI SANGPO \n\n\n\nDate: TUE 22.10.\, 29.10. \n\n\n\nTime: 19.15 – 21.00 \n\n\n\nPlace: Thupten Changchup Ling\, Arosio/CH & ZOOM \n\n\n\nLanguage: EN \n\n\n\nAvailable translation: IT\, DE\, SWE \n\n\n\nFree donation \n\n\n\n\nFrom Shantideva’s Bodhisattvacharyavatara:  \n\n\n\n‘Anything positive in this world comes from the altruistic mind\, anything negative in this world comes from selfishness. What need is there to add more?  \n\n\n\nOrdinary beings act only for their own sake\, Buddhas act for the sake of others. That is the difference between these two.’Join us at the temple in Arosio (CH): \n\n\n\nPlease register at least two days before the event to participate in person in Arosio (using the link below). \n\n\n\n\nAROSIO\n\n\n\n\nRegister in advance for this meeting on Zoom at least one day in advance. \n\n\n\nYou will receive a confirmation email from “Sakya Dharma Family Admin” with the Zoom link to participate (click “Click Here To Join”) on the day of the event. \n\n\n\n\nZOOM
URL:https://sakyapa.eu/event/the-jewel-lamp-a-praise-of-bodhicitta-by-khunu-rinpoche-1895-1977-followed-by-meditation-on-bodhicitta/2024-10-22/
CATEGORIES:All courses in English only,Khenpo Tashi Sangpo-EN,Thupten Changchup Ling-EN,ZOOM-EN
END:VEVENT
END:VCALENDAR