BEGIN:VCALENDAR
VERSION:2.0
PRODID:-//European Sakya Centers founded by Khenchen Sherab - ECPv6.13.2.1//NONSGML v1.0//EN
CALSCALE:GREGORIAN
METHOD:PUBLISH
X-WR-CALNAME:European Sakya Centers founded by Khenchen Sherab
X-ORIGINAL-URL:https://sakyapa.eu
X-WR-CALDESC:Events for European Sakya Centers founded by Khenchen Sherab
REFRESH-INTERVAL;VALUE=DURATION:PT1H
X-Robots-Tag:noindex
X-PUBLISHED-TTL:PT1H
BEGIN:VTIMEZONE
TZID:Europe/Zurich
BEGIN:DAYLIGHT
TZOFFSETFROM:+0100
TZOFFSETTO:+0200
TZNAME:CEST
DTSTART:20240331T010000
END:DAYLIGHT
BEGIN:STANDARD
TZOFFSETFROM:+0200
TZOFFSETTO:+0100
TZNAME:CET
DTSTART:20241027T010000
END:STANDARD
END:VTIMEZONE
BEGIN:VEVENT
DTSTART;TZID=Europe/Zurich:20240409T191500
DTEND;TZID=Europe/Zurich:20240409T210000
DTSTAMP:20260423T062719
CREATED:20240315T113703Z
LAST-MODIFIED:20240315T113715Z
UID:10001130-1712690100-1712696400@sakyapa.eu
SUMMARY:BUDDHA AVALOKITESHVARA MEDITATION
DESCRIPTION:Teachings by: KHENPO TASHI SANGPO \n\n\n\nData: Tuesday 9 APRIL \n\n\n\nTime: 19.15 – 21.00 \n\n\n\nPlace: Thupten Changchup Ling\, Arosio/CH & ZOOM \n\n\n\nLanguage: EN \n\n\n\nAvailable translation: IT\, SWE \n\n\n\nFree donation \n\n\n\n\nThe four-armed Avalokiteśvara practice is a special method of realisation of the Sakya school that combines Mahamudra – the essence of great wisdom\, and Mahakaruna – the essence of great compassion. The two most fundamental points of the path to enlightenment are included here in a single meditation session\, and this is of great benefit to both oneself and others. After some brief explanations Khenpo Tashi will lead the sadhana. \n\n\n\nJoin us at the temple in Arosio (CH): \n\n\n\nPlease register at least two days before the event to participate in person in Arosio (using the link below). \n\n\n\n\nAROSIO\n\n\n\n\nRegister in advance for this meeting on Zoom at least one day in advance. \n\n\n\nYou will receive a confirmation email from “Sakya Dharma Family Admin” with the Zoom link to participate (click “Click Here To Join”) on the day of the event. \n\n\n\n\nZOOM
URL:https://sakyapa.eu/event/buddha-avalokiteshvara-meditation-2/
LOCATION:Thupten Changchup Ling\, Arosio\, Lücc 20\, Alto Malcantone\, Ticino\, 6939\, Switzerland
CATEGORIES:All courses in English only,Khenpo Tashi Sangpo,Thupten Changchup Ling,ZOOM
END:VEVENT
END:VCALENDAR