BEGIN:VCALENDAR
VERSION:2.0
PRODID:-//European Sakya Centers founded by Khenchen Sherab - ECPv6.13.2.1//NONSGML v1.0//EN
CALSCALE:GREGORIAN
METHOD:PUBLISH
X-WR-CALNAME:European Sakya Centers founded by Khenchen Sherab
X-ORIGINAL-URL:https://sakyapa.eu
X-WR-CALDESC:Events for European Sakya Centers founded by Khenchen Sherab
REFRESH-INTERVAL;VALUE=DURATION:PT1H
X-Robots-Tag:noindex
X-PUBLISHED-TTL:PT1H
BEGIN:VTIMEZONE
TZID:Europe/Zurich
BEGIN:DAYLIGHT
TZOFFSETFROM:+0100
TZOFFSETTO:+0200
TZNAME:CEST
DTSTART:20240331T010000
END:DAYLIGHT
BEGIN:STANDARD
TZOFFSETFROM:+0200
TZOFFSETTO:+0100
TZNAME:CET
DTSTART:20241027T010000
END:STANDARD
END:VTIMEZONE
BEGIN:VEVENT
DTSTART;TZID=Europe/Zurich:20240315T203000
DTEND;TZID=Europe/Zurich:20240317T160000
DTSTAMP:20260422T011457
CREATED:20240213T093243Z
LAST-MODIFIED:20240213T170253Z
UID:10000830-1710534600-1710691200@sakyapa.eu
SUMMARY:„NOTES ON RESTING IN THE NATURE OF MIND” by JAMYANG KHYENTSE WANGCHUK\, PART 2 - STUDY AND PRACTICE
DESCRIPTION:Teachings by: KHENPO TASHI SANGPO \n\n\n\nDate: FRI-SUN / 15 – 17 MARCH \n\n\n\nTime: Friday 20.30 – 22.00\, Saturday & Sunday 10.00 – 12.00 & 14.00 – 16.00 \n\n\n\nPlace: Sakya Tsechen Ling\, Kuttolsheim/France & ZOOM \n\n\n\nLanguage: EN \n\n\n\nAvailable translations: FR\, NL \n\n\n\nSuggested donation: 25€/30 CHF \n\n\n\n\nJamyang Khyentse Wangchuk (1524 – 1568) was a disciple of Tsarchen Losal Gyatso (1502 – 1566)\, whose oral teachings on Mitrayogin’s source text he recorded in these “Notes”. Rather than simply commenting on the meaning of the twenty-five verses\, these teachings provide a guide for actually putting their essential message into practice. \n\n\n\nMitrayogin’s deep wish was that beings could be free from suffering and relax their mind\, which is possible through method and wisdom. With this motivation\, he composed the twenty-five verses. \n\n\n\nParticipation in the temple of Kuttolsheim\, France \n\n\n\nTo come to the STL temple\, Kuttolsheim (FR)\, register a few days in advance for this event using the link below. \n\n\n\n\nKuttolsheim\n\n\n\n\nRegister for this meeting on Zoom.You will automatically receive a confirmation email from Zoom with the Zoom link to participate. Click “Join Meeting” 15 min. before the event. \n\n\n\n\nZOOM\n\n\n\n\nSunday is Medicine Buddha Day and on this occasion the Medicine Buddha ritual will be performed in the afternoon.
URL:https://sakyapa.eu/event/notes-on-resting-in-the-nature-of-mind-by-jamyang-khyentse-wangchuk-part-2/
LOCATION:Sakya Tsechen Ling\, 5 Rdpt du Vignoble\, Kuttolsheim\, 67520\, France
CATEGORIES:All courses in English only,Khenpo Tashi Sangpo,Sakya Tsechen Ling,ZOOM
ATTACH;FMTTYPE=image/jpeg:https://sakyapa.eu/wp-content/uploads/2023/12/Mitrayogin.jpg
END:VEVENT
BEGIN:VEVENT
DTSTART;TZID=Europe/Zurich:20240317T100000
DTEND;TZID=Europe/Zurich:20240317T111500
DTSTAMP:20260422T011457
CREATED:20231018T132933Z
LAST-MODIFIED:20231018T132934Z
UID:10000121-1710669600-1710674100@sakyapa.eu
SUMMARY:ENGLISH BEGINNER COURSE: SHAMATHA AND COMPASSION
DESCRIPTION:by: Zoë Tait-Sargent \n\n\n\nDATES: 19/11 17/12\, 21/01/24\, 18/02\, 17/03\, 21/04\, 19/05/24.Time: 10:00 to 11:15 AMLocation: Laan van Meerdervoort 200 A\, The Hague or JitsiLanguage: English \n\n\n\n\nCONTENTS \n\n\n\nShamatha meditation is the foundation for various Buddhist meditation forms and methods. Shamatha teaches us how to calm our constantly active mind and how to develop calmness\, clarity and concentration. Compassion is one of the four immeasurables. It is defined as the wish that others might be free from suffering and its causes. Our innate capacity for empathy is the source of that most precious of all human qualities. In this beginners course we will use the meditation on Avalokiteshvara to develop compassion. \n\n\n\nThe practical composition and constructive structure ensures that after the course you can continue to meditate independently at home with the help of the handouts. Meditating with each other is guided and then mainly in silence with feedback moments. We also pay attention to your posture. The course is given in the Sakya center and via the online platform Jitsi\, we meditate on a chair\, cushion or bench. Mats\, meditation cushions and benches are provided. Please bring your own pair of warm socks and/or shawl. \n\n\n\nCOST \n\n\n\n€ 10 per morning; 5 euros for people with a minimum income. If this is still too burdensome\, then this can be deviated from in consultation. This course is free for participants who pay an annual contribution to Sakya (in one lump sum or monthly). \n\n\n\nREGISTER FOR THE COURSE: link
URL:https://sakyapa.eu/event/english-beginner-course-shamatha-and-compassion-5/
LOCATION:Sakya Thegchen Ling\, Laan van Meerdervoort 200A\, The Hague\, Netherlands
CATEGORIES:All courses in English only,Sakya Thegchen Ling
ATTACH;FMTTYPE=image/jpeg:https://sakyapa.eu/wp-content/uploads/2023/10/PHOTO-FOR-19-NOV.-HOLLAND-stones-2040340_1920.jpg
END:VEVENT
END:VCALENDAR