BEGIN:VCALENDAR
VERSION:2.0
PRODID:-//European Sakya Centers founded by Khenchen Sherab - ECPv6.13.2.1//NONSGML v1.0//EN
CALSCALE:GREGORIAN
METHOD:PUBLISH
X-ORIGINAL-URL:https://sakyapa.eu
X-WR-CALDESC:Events for European Sakya Centers founded by Khenchen Sherab
REFRESH-INTERVAL;VALUE=DURATION:PT1H
X-Robots-Tag:noindex
X-PUBLISHED-TTL:PT1H
BEGIN:VTIMEZONE
TZID:Europe/Zurich
BEGIN:DAYLIGHT
TZOFFSETFROM:+0100
TZOFFSETTO:+0200
TZNAME:CEST
DTSTART:20240331T010000
END:DAYLIGHT
BEGIN:STANDARD
TZOFFSETFROM:+0200
TZOFFSETTO:+0100
TZNAME:CET
DTSTART:20241027T010000
END:STANDARD
END:VTIMEZONE
BEGIN:VEVENT
DTSTART;TZID=Europe/Zurich:20240309T100000
DTEND;TZID=Europe/Zurich:20240310T153000
DTSTAMP:20260421T051510
CREATED:20240213T093952Z
LAST-MODIFIED:20240213T163238Z
UID:10000831-1709978400-1710084600@sakyapa.eu
SUMMARY:„NOTES ON RESTING IN THE NATURE OF MIND” by JAMYANG KHYENTSE WANGCHUK\, PART 2 - STUDY AND PRACTICE
DESCRIPTION:Teachings by: KHENPO TASHI SANGPO \n\n\n\nDate: SAT-SUN / 9-10 MARCH \n\n\n\nTime: Saturday & Sunday 10.00 – 12.00 & 13.30 – 15.30 \n\n\n\nLanguage: EN \n\n\n\nAvailable translations: IT\, SWE \n\n\n\nSuggested donation: 30 CHF / 25€ \n\n\n\n\nJamyang Khyentse Wangchuk (1524 – 1568) was a disciple of Tsarchen Losal Gyatso (1502 – 1566)\, whose oral teachings on Mitrayogin’s source text he recorded in these “Notes”. Rather than simply commenting on the meaning of the twenty-five verses\, these teachings provide a guide for actually putting their essential message into practice. \n\n\n\nMitrayogin’s deep wish was that beings could be free from suffering and relax their mind\, which is possible through method and wisdom. With this motivation\, he composed the twenty-five verses. \n\n\n\nJoin us at the temple in Arosio (CH): \n\n\n\nPlease register at least two days before the event to participate in person in Arosio (using the link below). \n\n\n\n\nAROSIO\n\n\n\n\nRegister in advance for this meeting on Zoom at least one day in advance. \n\n\n\nYou will receive a confirmation email from “Sakya Dharma Family Admin” with the Zoom link to participate (click “Click Here To Join”) on the day of the event. \n\n\n\n\nZOOM\n\n\n\n\nOn Saturday morning the documentary film ‘Descending the Mountain’ will be shown (without ZOOM). For further details click HERE
URL:https://sakyapa.eu/event/notes-on-resting-in-the-nature-of-mind-by-jamyang-khyentse-wangchuk-part-2-2/
LOCATION:Thupten Changchup Ling\, Lücc 20\, Alto Malcantone\, Ticino\, 6939\, Switzerland
CATEGORIES:All courses in English only,Khenpo Tashi Sangpo,Thupten Changchup Ling,ZOOM
ATTACH;FMTTYPE=image/jpeg:https://sakyapa.eu/wp-content/uploads/2023/12/Mitrayogin.jpg
END:VEVENT
END:VCALENDAR