BEGIN:VCALENDAR
VERSION:2.0
PRODID:-//European Sakya Centers founded by Khenchen Sherab - ECPv6.13.2.1//NONSGML v1.0//EN
CALSCALE:GREGORIAN
METHOD:PUBLISH
X-WR-CALNAME:European Sakya Centers founded by Khenchen Sherab
X-ORIGINAL-URL:https://sakyapa.eu
X-WR-CALDESC:Events for European Sakya Centers founded by Khenchen Sherab
REFRESH-INTERVAL;VALUE=DURATION:PT1H
X-Robots-Tag:noindex
X-PUBLISHED-TTL:PT1H
BEGIN:VTIMEZONE
TZID:Europe/Zurich
BEGIN:DAYLIGHT
TZOFFSETFROM:+0100
TZOFFSETTO:+0200
TZNAME:CEST
DTSTART:20240331T010000
END:DAYLIGHT
BEGIN:STANDARD
TZOFFSETFROM:+0200
TZOFFSETTO:+0100
TZNAME:CET
DTSTART:20241027T010000
END:STANDARD
END:VTIMEZONE
BEGIN:VEVENT
DTSTART;TZID=Europe/Zurich:20240126T203000
DTEND;TZID=Europe/Zurich:20240128T160000
DTSTAMP:20260420T065944
CREATED:20231217T114022Z
LAST-MODIFIED:20231217T125633Z
UID:10000443-1706301000-1706457600@sakyapa.eu
SUMMARY:„NOTES ON RESTING IN THE NATURE OF MIND” by JAMYANG KHYENTSE WANGCHUK
DESCRIPTION:Teachings by: KHENPO TASHI SANGPO \n\n\n\nDate: FRI-SUN / 26 – 28 JANUARY \n\n\n\nTime: Friday 20.30 – 22.00\, Saturday & Sunday 10.00 – 12.00 & 14.00 – 16.00 \n\n\n\nPlace: Sakya Tsechen Ling\, Kuttolsheim/France & ZOOM \n\n\n\nLanguage: EN \n\n\n\nAvailable translations: FR\, NL \n\n\n\nSuggested donation: 25€/30 CHF \n\n\n\n\nJamyang Khyentse Wangchuk (1524 – 1568) was a disciple of Tsarchen Losal Gyatso (1502 – 1566)\, whose oral teachings on Mitrayogin’s source text he recorded in these “Notes”. Rather than simply commenting on the meaning of the twenty-five verses\, these teachings provide a guide for actually putting their essential message into practice. \n\n\n\nMitrayogin’s deep wish was that beings could be free from suffering and relax their mind\, which is possible through method and wisdom. With this motivation\, he composed the twenty-five verses. \n\n\n\nParticipation in the temple of Kuttolsheim\, France \n\n\n\nTo come to the STL temple\, Kuttolsheim (FR)\, register a few days in advance for this event using the link below. \n\n\n\n\nKuttolsheim\n\n\n\n\nRegister for this meeting on Zoom.You will automatically receive a confirmation email from Zoom with the Zoom link to participate. Click “Join Meeting” 15 min. before the event. \n\n\n\n\nZOOM
URL:https://sakyapa.eu/event/notes-on-resting-in-the-nature-of-mind-by-jamyang-khyentse-wangchuk/
LOCATION:Sakya Tsechen Ling\, 5 Rdpt du Vignoble\, Kuttolsheim\, 67520\, France
CATEGORIES:All courses in English only,Khenpo Tashi Sangpo,Sakya Tsechen Ling,ZOOM
ATTACH;FMTTYPE=image/jpeg:https://sakyapa.eu/wp-content/uploads/2023/12/Mitrayogin.jpg
END:VEVENT
END:VCALENDAR